Back to Multiple platform build/check report for BioC 3.19:   simplified   long
AB[C]DEFGHIJKLMNOPQRSTUVWXYZ

This page was generated on 2024-06-14 14:38 -0400 (Fri, 14 Jun 2024).

HostnameOSArch (*)R versionInstalled pkgs
nebbiolo1Linux (Ubuntu 22.04.3 LTS)x86_644.4.0 (2024-04-24) -- "Puppy Cup" 4757
palomino3Windows Server 2022 Datacenterx644.4.0 (2024-04-24 ucrt) -- "Puppy Cup" 4491
Click on any hostname to see more info about the system (e.g. compilers)      (*) as reported by 'uname -p', except on Windows and Mac OS X

Package 315/2300HostnameOS / ArchINSTALLBUILDCHECKBUILD BIN
CexoR 1.42.0  (landing page)
Pedro Madrigal
Snapshot Date: 2024-06-12 14:00 -0400 (Wed, 12 Jun 2024)
git_url: https://git.bioconductor.org/packages/CexoR
git_branch: RELEASE_3_19
git_last_commit: af27fa1
git_last_commit_date: 2024-04-30 11:37:45 -0400 (Tue, 30 Apr 2024)
nebbiolo1Linux (Ubuntu 22.04.3 LTS) / x86_64  OK    OK    OK  UNNEEDED, same version is already published
palomino3Windows Server 2022 Datacenter / x64  OK    OK    OK    OK  UNNEEDED, same version is already published


CHECK results for CexoR on palomino3

To the developers/maintainers of the CexoR package:
- Allow up to 24 hours (and sometimes 48 hours) for your latest push to git@git.bioconductor.org:packages/CexoR.git to reflect on this report. See Troubleshooting Build Report for more information.
- Use the following Renviron settings to reproduce errors and warnings.
- If 'R CMD check' started to fail recently on the Linux builder(s) over a missing dependency, add the missing dependency to 'Suggests:' in your DESCRIPTION file. See Renviron.bioc for more information.

raw results


Summary

Package: CexoR
Version: 1.42.0
Command: F:\biocbuild\bbs-3.19-bioc\R\bin\R.exe CMD check --no-multiarch --install=check:CexoR.install-out.txt --library=F:\biocbuild\bbs-3.19-bioc\R\library --no-vignettes --timings CexoR_1.42.0.tar.gz
StartedAt: 2024-06-13 01:36:22 -0400 (Thu, 13 Jun 2024)
EndedAt: 2024-06-13 01:42:07 -0400 (Thu, 13 Jun 2024)
EllapsedTime: 345.2 seconds
RetCode: 0
Status:   OK  
CheckDir: CexoR.Rcheck
Warnings: 0

Command output

##############################################################################
##############################################################################
###
### Running command:
###
###   F:\biocbuild\bbs-3.19-bioc\R\bin\R.exe CMD check --no-multiarch --install=check:CexoR.install-out.txt --library=F:\biocbuild\bbs-3.19-bioc\R\library --no-vignettes --timings CexoR_1.42.0.tar.gz
###
##############################################################################
##############################################################################


* using log directory 'F:/biocbuild/bbs-3.19-bioc/meat/CexoR.Rcheck'
* using R version 4.4.0 (2024-04-24 ucrt)
* using platform: x86_64-w64-mingw32
* R was compiled by
    gcc.exe (GCC) 13.2.0
    GNU Fortran (GCC) 13.2.0
* running under: Windows Server 2022 x64 (build 20348)
* using session charset: UTF-8
* using option '--no-vignettes'
* checking for file 'CexoR/DESCRIPTION' ... OK
* checking extension type ... Package
* this is package 'CexoR' version '1.42.0'
* checking package namespace information ... OK
* checking package dependencies ... OK
* checking if this is a source package ... OK
* checking if there is a namespace ... OK
* checking for hidden files and directories ... OK
* checking for portable file names ... OK
* checking whether package 'CexoR' can be installed ... OK
* checking installed package size ... OK
* checking package directory ... OK
* checking 'build' directory ... OK
* checking DESCRIPTION meta-information ... NOTE
License components with restrictions not permitted:
  GPL-2 + file LICENSE
* checking top-level files ... OK
* checking for left-over files ... OK
* checking index information ... OK
* checking package subdirectories ... OK
* checking code files for non-ASCII characters ... OK
* checking R files for syntax errors ... OK
* checking whether the package can be loaded ... OK
* checking whether the package can be loaded with stated dependencies ... OK
* checking whether the package can be unloaded cleanly ... OK
* checking whether the namespace can be loaded with stated dependencies ... OK
* checking whether the namespace can be unloaded cleanly ... OK
* checking dependencies in R code ... OK
* checking S3 generic/method consistency ... OK
* checking replacement functions ... OK
* checking foreign function calls ... OK
* checking R code for possible problems ... NOTE
cexor: no visible global function definition for 'subsetByOverlaps'
Undefined global functions or variables:
  subsetByOverlaps
* checking Rd files ... OK
* checking Rd metadata ... OK
* checking Rd cross-references ... OK
* checking for missing documentation entries ... OK
* checking for code/documentation mismatches ... OK
* checking Rd \usage sections ... OK
* checking Rd contents ... OK
* checking for unstated dependencies in examples ... OK
* checking sizes of PDF files under 'inst/doc' ... OK
* checking files in 'vignettes' ... OK
* checking examples ... OK
Examples with CPU (user + system) or elapsed time > 5s
               user system elapsed
CexoR-package 14.33   0.36   14.92
cexor         12.72   0.41   13.12
plotcexor     12.60   0.18   12.78
* checking for unstated dependencies in 'tests' ... OK
* checking tests ...
  Running 'runTests.R'
 OK
* checking for unstated dependencies in vignettes ... OK
* checking package vignettes ... OK
* checking running R code from vignettes ... SKIPPED
* checking re-building of vignette outputs ... SKIPPED
* checking PDF version of manual ... OK
* DONE

Status: 2 NOTEs
See
  'F:/biocbuild/bbs-3.19-bioc/meat/CexoR.Rcheck/00check.log'
for details.


Installation output

CexoR.Rcheck/00install.out

##############################################################################
##############################################################################
###
### Running command:
###
###   F:\biocbuild\bbs-3.19-bioc\R\bin\R.exe CMD INSTALL CexoR
###
##############################################################################
##############################################################################


* installing to library 'F:/biocbuild/bbs-3.19-bioc/R/library'
* installing *source* package 'CexoR' ...
** using staged installation
** R
** inst
** byte-compile and prepare package for lazy loading
Warning: replacing previous import 'Biostrings::pattern' by 'grid::pattern' when loading 'genomation'
** help
*** installing help indices
** building package indices
** installing vignettes
** testing if installed package can be loaded from temporary location
Warning: replacing previous import 'Biostrings::pattern' by 'grid::pattern' when loading 'genomation'
** testing if installed package can be loaded from final location
Warning: replacing previous import 'Biostrings::pattern' by 'grid::pattern' when loading 'genomation'
** testing if installed package keeps a record of temporary installation path
* DONE (CexoR)

Tests output

CexoR.Rcheck/tests/runTests.Rout


R version 4.4.0 (2024-04-24 ucrt) -- "Puppy Cup"
Copyright (C) 2024 The R Foundation for Statistical Computing
Platform: x86_64-w64-mingw32/x64

R is free software and comes with ABSOLUTELY NO WARRANTY.
You are welcome to redistribute it under certain conditions.
Type 'license()' or 'licence()' for distribution details.

R is a collaborative project with many contributors.
Type 'contributors()' for more information and
'citation()' on how to cite R or R packages in publications.

Type 'demo()' for some demos, 'help()' for on-line help, or
'help.start()' for an HTML browser interface to help.
Type 'q()' to quit R.

> require("CexoR") || stop("unable to load CexoR")
Loading required package: CexoR
Loading required package: S4Vectors
Loading required package: stats4
Loading required package: BiocGenerics

Attaching package: 'BiocGenerics'

The following objects are masked from 'package:stats':

    IQR, mad, sd, var, xtabs

The following objects are masked from 'package:base':

    Filter, Find, Map, Position, Reduce, anyDuplicated, aperm, append,
    as.data.frame, basename, cbind, colnames, dirname, do.call,
    duplicated, eval, evalq, get, grep, grepl, intersect, is.unsorted,
    lapply, mapply, match, mget, order, paste, pmax, pmax.int, pmin,
    pmin.int, rank, rbind, rownames, sapply, setdiff, table, tapply,
    union, unique, unsplit, which.max, which.min


Attaching package: 'S4Vectors'

The following object is masked from 'package:utils':

    findMatches

The following objects are masked from 'package:base':

    I, expand.grid, unname

Loading required package: IRanges

Attaching package: 'IRanges'

The following object is masked from 'package:grDevices':

    windows

[1] TRUE
Warning message:
replacing previous import 'Biostrings::pattern' by 'grid::pattern' when loading 'genomation' 
> BiocGenerics:::testPackage("CexoR")


RUNIT TEST PROTOCOL -- Thu Jun 13 01:41:54 2024 
*********************************************** 
Number of test functions: 1 
Number of errors: 0 
Number of failures: 0 

 
1 Test Suite : 
CexoR RUnit Tests - 1 test function, 0 errors, 0 failures
Number of test functions: 1 
Number of errors: 0 
Number of failures: 0 
> 
> proc.time()
   user  system elapsed 
  25.29    2.31   27.54 

Example timings

CexoR.Rcheck/CexoR-Ex.timings

nameusersystemelapsed
CexoR-package14.33 0.3614.92
cexor12.72 0.4113.12
plotcexor12.60 0.1812.78