Back to Multiple platform build/check report for BioC 3.13
AB[C]DEFGHIJKLMNOPQRSTUVWXYZ

This page was generated on 2021-09-22 15:04:47 -0400 (Wed, 22 Sep 2021).

INSTALL results for CexoR on nebbiolo1

To the developers/maintainers of the CexoR package:
- Please allow up to 24 hours (and sometimes 48 hours) for your latest push to git@git.bioconductor.org:packages/CexoR.git to
reflect on this report. See How and When does the builder pull? When will my changes propagate? here for more information.
- Make sure to use the following settings in order to reproduce any error or warning you see on this page.

raw results

Package 275/2041HostnameOS / ArchINSTALLBUILDCHECKBUILD BIN
CexoR 1.30.1  (landing page)
Pedro Madrigal
Snapshot Date: 2021-09-21 04:50:12 -0400 (Tue, 21 Sep 2021)
git_url: https://git.bioconductor.org/packages/CexoR
git_branch: RELEASE_3_13
git_last_commit: 167fbd0
git_last_commit_date: 2021-09-11 20:58:58 -0400 (Sat, 11 Sep 2021)
nebbiolo1Linux (Ubuntu 20.04.2 LTS) / x86_64  OK    OK    ERROR  
tokay2Windows Server 2012 R2 Standard / x64  OK    OK    ERROR    OK  
machv2macOS 10.14.6 Mojave / x86_64  OK    OK    ERROR    OK  

Summary

Package: CexoR
Version: 1.30.1
Command: /home/biocbuild/bbs-3.13-bioc/R/bin/R CMD INSTALL CexoR
StartedAt: 2021-09-21 06:27:38 -0400 (Tue, 21 Sep 2021)
EndedAt: 2021-09-21 06:28:08 -0400 (Tue, 21 Sep 2021)
EllapsedTime: 29.5 seconds
RetCode: 0
Status:   OK  

Command output

##############################################################################
##############################################################################
###
### Running command:
###
###   /home/biocbuild/bbs-3.13-bioc/R/bin/R CMD INSTALL CexoR
###
##############################################################################
##############################################################################


* installing to library ‘/home/biocbuild/bbs-3.13-bioc/R/library’
* installing *source* package ‘CexoR’ ...
** using staged installation
** R
** inst
** byte-compile and prepare package for lazy loading
Warning: replacing previous import ‘Biostrings::pattern’ by ‘grid::pattern’ when loading ‘genomation’
** help
*** installing help indices
** building package indices
** installing vignettes
** testing if installed package can be loaded from temporary location
Warning: replacing previous import ‘Biostrings::pattern’ by ‘grid::pattern’ when loading ‘genomation’
Warning: Package 'CexoR' is deprecated and will be removed from Bioconductor
  version 3.14
** testing if installed package can be loaded from final location
Warning: replacing previous import ‘Biostrings::pattern’ by ‘grid::pattern’ when loading ‘genomation’
Warning: Package 'CexoR' is deprecated and will be removed from Bioconductor
  version 3.14
** testing if installed package keeps a record of temporary installation path
* DONE (CexoR)