Back to Multiple platform build/check report for BioC 3.13
AB[C]DEFGHIJKLMNOPQRSTUVWXYZ

This page was generated on 2021-10-13 15:05:47 -0400 (Wed, 13 Oct 2021).

BUILD BIN results for CexoR on machv2

To the developers/maintainers of the CexoR package:
- Please allow up to 24 hours (and sometimes 48 hours) for your latest push to git@git.bioconductor.org:packages/CexoR.git to
reflect on this report. See How and When does the builder pull? When will my changes propagate? here for more information.
- Make sure to use the following settings in order to reproduce any error or warning you see on this page.

raw results

Package 275/2041HostnameOS / ArchINSTALLBUILDCHECKBUILD BIN
CexoR 1.30.1  (landing page)
Pedro Madrigal
Snapshot Date: 2021-10-12 04:50:13 -0400 (Tue, 12 Oct 2021)
git_url: https://git.bioconductor.org/packages/CexoR
git_branch: RELEASE_3_13
git_last_commit: e182a38
git_last_commit_date: 2021-09-13 22:36:48 -0400 (Mon, 13 Sep 2021)
nebbiolo1Linux (Ubuntu 20.04.2 LTS) / x86_64  OK    OK    ERROR  
tokay2Windows Server 2012 R2 Standard / x64  OK    OK    ERROR    OK  
machv2macOS 10.14.6 Mojave / x86_64  OK    OK    ERROR    OK  

Summary

Package: CexoR
Version: 1.30.1
Command: rm -rf CexoR.buildbin-libdir && mkdir CexoR.buildbin-libdir && /Users/biocbuild/BBS/utils/build-universal.sh CexoR_1.30.1.tar.gz /Library/Frameworks/R.framework/Versions/Current/Resources/bin/R CexoR.buildbin-libdir
StartedAt: 2021-10-13 01:41:01 -0400 (Wed, 13 Oct 2021)
EndedAt: 2021-10-13 01:42:12 -0400 (Wed, 13 Oct 2021)
EllapsedTime: 70.4 seconds
RetCode: 0
Status:   OK  
PackageFile: CexoR_1.30.1.tgz
PackageFileSize: 1.679 MiB

Command output

##############################################################################
##############################################################################
###
### Running command:
###
###   rm -rf CexoR.buildbin-libdir && mkdir CexoR.buildbin-libdir && /Users/biocbuild/BBS/utils/build-universal.sh CexoR_1.30.1.tar.gz /Library/Frameworks/R.framework/Versions/Current/Resources/bin/R CexoR.buildbin-libdir
###
##############################################################################
##############################################################################


>>>>>>> 
>>>>>>> INSTALLATION WITH 'R CMD INSTALL --preclean --no-multiarch --library=CexoR.buildbin-libdir CexoR_1.30.1.tar.gz'
>>>>>>> 

* installing *source* package ‘CexoR’ ...
** using staged installation
** R
** inst
** byte-compile and prepare package for lazy loading
Warning: replacing previous import ‘Biostrings::pattern’ by ‘grid::pattern’ when loading ‘genomation’
** help
*** installing help indices
** building package indices
** installing vignettes
** testing if installed package can be loaded from temporary location
Warning: replacing previous import ‘Biostrings::pattern’ by ‘grid::pattern’ when loading ‘genomation’
Warning: Package 'CexoR' is deprecated and will be removed from Bioconductor
  version 3.14
** testing if installed package can be loaded from final location
Warning: replacing previous import ‘Biostrings::pattern’ by ‘grid::pattern’ when loading ‘genomation’
Warning: Package 'CexoR' is deprecated and will be removed from Bioconductor
  version 3.14
** testing if installed package keeps a record of temporary installation path
* DONE (CexoR)