Back to Multiple platform build/check report for BioC 3.12
AB[C]DEFGHIJKLMNOPQRSTUVWXYZ

Multiple platform build/check report for BioC 3.12

All results for package CexoR

This page was generated on 2021-05-05 12:08:42 -0400 (Wed, 05 May 2021).

Package 264/1974HostnameOS / ArchINSTALLBUILDCHECKBUILD BIN
CexoR 1.28.0  (landing page)
Pedro Madrigal
Snapshot Date: 2021-05-04 14:50:13 -0400 (Tue, 04 May 2021)
URL: https://git.bioconductor.org/packages/CexoR
Branch: RELEASE_3_12
Last Commit: 3641236
Last Changed Date: 2020-10-27 10:53:12 -0400 (Tue, 27 Oct 2020)
malbec1Linux (Ubuntu 18.04.5 LTS) / x86_64  OK    OK    OK  UNNEEDED, same version exists in internal repository
tokay1Windows Server 2012 R2 Standard / x64  OK    OK    OK    OK  UNNEEDED, same version exists in internal repository
merida1macOS 10.14.6 Mojave / x86_64  OK    OK    OK    OK  UNNEEDED, same version exists in internal repository