Back to Multiple platform build/check report for BioC 3.13
AB[C]DEFGHIJKLMNOPQRSTUVWXYZ

This page was generated on 2021-07-23 15:05:35 -0400 (Fri, 23 Jul 2021).

BUILD results for CellNOptR on nebbiolo1

To the developers/maintainers of the CellNOptR package:
- Please allow up to 24 hours (and sometimes 48 hours) for your latest push to git@git.bioconductor.org:packages/CellNOptR.git to
reflect on this report. See How and When does the builder pull? When will my changes propagate? here for more information.
- Make sure to use the following settings in order to reproduce any error or warning you see on this page.

raw results

Package 266/2041HostnameOS / ArchINSTALLBUILDCHECKBUILD BIN
CellNOptR 1.38.0  (landing page)
A.Gabor
Snapshot Date: 2021-07-22 04:50:13 -0400 (Thu, 22 Jul 2021)
URL: https://git.bioconductor.org/packages/CellNOptR
Branch: RELEASE_3_13
Last Commit: 8e211e0
Last Changed Date: 2021-05-19 11:50:40 -0400 (Wed, 19 May 2021)
nebbiolo1Linux (Ubuntu 20.04.2 LTS) / x86_64  OK    OK    WARNINGS  UNNEEDED, same version is already published
tokay2Windows Server 2012 R2 Standard / x64  OK    OK    WARNINGS    OK  UNNEEDED, same version is already published
machv2macOS 10.14.6 Mojave / x86_64  OK    OK    WARNINGS    OK  UNNEEDED, same version is already published

Summary

Package: CellNOptR
Version: 1.38.0
Command: /home/biocbuild/bbs-3.13-bioc/R/bin/R CMD build --keep-empty-dirs --no-resave-data CellNOptR
StartedAt: 2021-07-22 06:51:48 -0400 (Thu, 22 Jul 2021)
EndedAt: 2021-07-22 06:52:13 -0400 (Thu, 22 Jul 2021)
EllapsedTime: 25.0 seconds
RetCode: 0
Status:   OK  
PackageFile: CellNOptR_1.38.0.tar.gz
PackageFileSize: 2.235 MiB

Command output

##############################################################################
##############################################################################
###
### Running command:
###
###   /home/biocbuild/bbs-3.13-bioc/R/bin/R CMD build --keep-empty-dirs --no-resave-data CellNOptR
###
##############################################################################
##############################################################################


* checking for file ‘CellNOptR/DESCRIPTION’ ... OK
* preparing ‘CellNOptR’:
* checking DESCRIPTION meta-information ... OK
* cleaning src
* installing the package to build vignettes
* creating vignettes ... OK
* cleaning src
* checking for LF line-endings in source and make files and shell scripts
* checking for empty or unneeded directories
* looking to see if a ‘data/datalist’ file should be added
* building ‘CellNOptR_1.38.0.tar.gz’