Index of /checkResults/release/bioc-LATEST/CellMapper/raw-results/palomino3

[ICO]NameLast modifiedSizeDescription

[DIR]Parent Directory  -  
[TXT]buildbin-out.txt22-Jun-2024 06:39 1.6K 
[   ]buildbin-summary.dcf22-Jun-2024 06:39 533  
[TXT]buildsrc-out.txt22-Jun-2024 06:39 914  
[   ]buildsrc-summary.dcf22-Jun-2024 06:39 466  
[TXT]checksrc-out.txt22-Jun-2024 06:39 3.7K 
[   ]checksrc-summary.dcf22-Jun-2024 06:39 465  
[TXT]install-out.txt22-Jun-2024 06:39 1.5K 
[   ]install-summary.dcf22-Jun-2024 06:39 274