Index of /checkResults/release/bioc-LATEST/CellMapper/raw-results/merida1

[ICO]NameLast modifiedSizeDescription

[DIR]Parent Directory  -  
[   ]install-summary.dcf13-Jul-2024 06:40 275  
[   ]buildsrc-summary.dcf13-Jul-2024 06:40 437  
[   ]checksrc-summary.dcf13-Jul-2024 06:40 462  
[   ]buildbin-summary.dcf13-Jul-2024 06:40 548  
[TXT]buildsrc-out.txt13-Jul-2024 06:40 891  
[TXT]install-out.txt13-Jul-2024 06:40 1.6K 
[TXT]buildbin-out.txt13-Jul-2024 06:40 1.8K 
[TXT]checksrc-out.txt13-Jul-2024 06:40 3.8K