Back to Multiple platform build/check report for BioC 3.13
AB[C]DEFGHIJKLMNOPQRSTUVWXYZ

This page was generated on 2021-09-22 15:05:39 -0400 (Wed, 22 Sep 2021).

BUILD results for CeTF on machv2

To the developers/maintainers of the CeTF package:
- Please allow up to 24 hours (and sometimes 48 hours) for your latest push to git@git.bioconductor.org:packages/CeTF.git to
reflect on this report. See How and When does the builder pull? When will my changes propagate? here for more information.
- Make sure to use the following settings in order to reproduce any error or warning you see on this page.

raw results

Package 274/2041HostnameOS / ArchINSTALLBUILDCHECKBUILD BIN
CeTF 1.4.5  (landing page)
Carlos Alberto Oliveira de Biagi Junior
Snapshot Date: 2021-09-21 04:50:12 -0400 (Tue, 21 Sep 2021)
git_url: https://git.bioconductor.org/packages/CeTF
git_branch: RELEASE_3_13
git_last_commit: bd93884
git_last_commit_date: 2021-09-09 09:27:19 -0400 (Thu, 09 Sep 2021)
nebbiolo1Linux (Ubuntu 20.04.2 LTS) / x86_64  OK    OK    OK  UNNEEDED, same version is already published
tokay2Windows Server 2012 R2 Standard / x64  OK    OK    OK    OK  UNNEEDED, same version is already published
machv2macOS 10.14.6 Mojave / x86_64  OK    OK    OK    OK  UNNEEDED, same version is already published

Summary

Package: CeTF
Version: 1.4.5
Command: /Library/Frameworks/R.framework/Versions/Current/Resources/bin/R CMD build --keep-empty-dirs --no-resave-data CeTF
StartedAt: 2021-09-21 11:10:41 -0400 (Tue, 21 Sep 2021)
EndedAt: 2021-09-21 11:13:55 -0400 (Tue, 21 Sep 2021)
EllapsedTime: 194.7 seconds
RetCode: 0
Status:   OK  
PackageFile: CeTF_1.4.5.tar.gz
PackageFileSize: 3.664 MiB

Command output

##############################################################################
##############################################################################
###
### Running command:
###
###   /Library/Frameworks/R.framework/Versions/Current/Resources/bin/R CMD build --keep-empty-dirs --no-resave-data CeTF
###
##############################################################################
##############################################################################


* checking for file ‘CeTF/DESCRIPTION’ ... OK
* preparing ‘CeTF’:
* checking DESCRIPTION meta-information ... OK
* cleaning src
* installing the package to build vignettes
* creating vignettes ... OK
* cleaning src
* checking for LF line-endings in source and make files and shell scripts
* checking for empty or unneeded directories
* building ‘CeTF_1.4.5.tar.gz’