Back to Multiple platform build/check report for BioC 3.13
AB[C]DEFGHIJKLMNOPQRSTUVWXYZ

This page was generated on 2021-07-23 15:06:29 -0400 (Fri, 23 Jul 2021).

BUILD BIN results for Category on machv2

To the developers/maintainers of the Category package:
- Please allow up to 24 hours (and sometimes 48 hours) for your latest push to git@git.bioconductor.org:packages/Category.git to
reflect on this report. See How and When does the builder pull? When will my changes propagate? here for more information.
- Make sure to use the following settings in order to reproduce any error or warning you see on this page.

raw results

Package 245/2041HostnameOS / ArchINSTALLBUILDCHECKBUILD BIN
Category 2.58.0  (landing page)
Bioconductor Package Maintainer
Snapshot Date: 2021-07-22 04:50:13 -0400 (Thu, 22 Jul 2021)
URL: https://git.bioconductor.org/packages/Category
Branch: RELEASE_3_13
Last Commit: 5a966e0
Last Changed Date: 2021-05-19 11:35:55 -0400 (Wed, 19 May 2021)
nebbiolo1Linux (Ubuntu 20.04.2 LTS) / x86_64  OK    OK    OK  UNNEEDED, same version is already published
tokay2Windows Server 2012 R2 Standard / x64  OK    OK    OK    OK  UNNEEDED, same version is already published
machv2macOS 10.14.6 Mojave / x86_64  OK    OK    OK    OK  UNNEEDED, same version is already published

Summary

Package: Category
Version: 2.58.0
Command: rm -rf Category.buildbin-libdir && mkdir Category.buildbin-libdir && /Users/biocbuild/BBS/utils/build-universal.sh Category_2.58.0.tar.gz /Library/Frameworks/R.framework/Versions/Current/Resources/bin/R Category.buildbin-libdir
StartedAt: 2021-07-23 01:28:20 -0400 (Fri, 23 Jul 2021)
EndedAt: 2021-07-23 01:28:59 -0400 (Fri, 23 Jul 2021)
EllapsedTime: 38.8 seconds
RetCode: 0
Status:   OK  
PackageFile: Category_2.58.0.tgz
PackageFileSize: 1.494 MiB

Command output

##############################################################################
##############################################################################
###
### Running command:
###
###   rm -rf Category.buildbin-libdir && mkdir Category.buildbin-libdir && /Users/biocbuild/BBS/utils/build-universal.sh Category_2.58.0.tar.gz /Library/Frameworks/R.framework/Versions/Current/Resources/bin/R Category.buildbin-libdir
###
##############################################################################
##############################################################################


>>>>>>> 
>>>>>>> INSTALLATION WITH 'R CMD INSTALL --preclean --no-multiarch --library=Category.buildbin-libdir Category_2.58.0.tar.gz'
>>>>>>> 

* installing *source* package ‘Category’ ...
** using staged installation
** R
** inst
** byte-compile and prepare package for lazy loading
** help
*** installing help indices
** building package indices
** installing vignettes
** testing if installed package can be loaded from temporary location
** testing if installed package can be loaded from final location
** testing if installed package keeps a record of temporary installation path
* DONE (Category)