Back to Multiple platform build/check report for BioC 3.13
AB[C]DEFGHIJKLMNOPQRSTUVWXYZ

This page was generated on 2021-09-24 15:06:04 -0400 (Fri, 24 Sep 2021).

CHECK results for Cardinal on tokay2

To the developers/maintainers of the Cardinal package:
- Please allow up to 24 hours (and sometimes 48 hours) for your latest push to git@git.bioconductor.org:packages/Cardinal.git to
reflect on this report. See How and When does the builder pull? When will my changes propagate? here for more information.
- Make sure to use the following settings in order to reproduce any error or warning you see on this page.

raw results

Package 241/2041HostnameOS / ArchINSTALLBUILDCHECKBUILD BIN
Cardinal 2.10.0  (landing page)
Kylie A. Bemis
Snapshot Date: 2021-09-23 04:50:12 -0400 (Thu, 23 Sep 2021)
git_url: https://git.bioconductor.org/packages/Cardinal
git_branch: RELEASE_3_13
git_last_commit: 174f14c
git_last_commit_date: 2021-05-19 12:10:59 -0400 (Wed, 19 May 2021)
nebbiolo1Linux (Ubuntu 20.04.2 LTS) / x86_64  OK    OK    OK  UNNEEDED, same version is already published
tokay2Windows Server 2012 R2 Standard / x64  OK    OK    OK    OK  UNNEEDED, same version is already published
machv2macOS 10.14.6 Mojave / x86_64  OK    OK    OK    OK  UNNEEDED, same version is already published

Summary

Package: Cardinal
Version: 2.10.0
Command: C:\Users\biocbuild\bbs-3.13-bioc\R\bin\R.exe CMD check --force-multiarch --install=check:Cardinal.install-out.txt --library=C:\Users\biocbuild\bbs-3.13-bioc\R\library --no-vignettes --timings Cardinal_2.10.0.tar.gz
StartedAt: 2021-09-23 19:59:33 -0400 (Thu, 23 Sep 2021)
EndedAt: 2021-09-23 20:10:12 -0400 (Thu, 23 Sep 2021)
EllapsedTime: 638.5 seconds
RetCode: 0
Status:   OK  
CheckDir: Cardinal.Rcheck
Warnings: 0

Command output

##############################################################################
##############################################################################
###
### Running command:
###
###   C:\Users\biocbuild\bbs-3.13-bioc\R\bin\R.exe CMD check --force-multiarch --install=check:Cardinal.install-out.txt --library=C:\Users\biocbuild\bbs-3.13-bioc\R\library --no-vignettes --timings Cardinal_2.10.0.tar.gz
###
##############################################################################
##############################################################################


* using log directory 'C:/Users/biocbuild/bbs-3.13-bioc/meat/Cardinal.Rcheck'
* using R version 4.1.1 (2021-08-10)
* using platform: x86_64-w64-mingw32 (64-bit)
* using session charset: ISO8859-1
* using option '--no-vignettes'
* checking for file 'Cardinal/DESCRIPTION' ... OK
* checking extension type ... Package
* this is package 'Cardinal' version '2.10.0'
* checking package namespace information ... OK
* checking package dependencies ... OK
* checking if this is a source package ... OK
* checking if there is a namespace ... OK
* checking for hidden files and directories ... OK
* checking for portable file names ... OK
* checking whether package 'Cardinal' can be installed ... OK
* checking installed package size ... NOTE
  installed size is  6.2Mb
  sub-directories of 1Mb or more:
    R      2.8Mb
    help   2.0Mb
* checking package directory ... OK
* checking 'build' directory ... OK
* checking DESCRIPTION meta-information ... OK
* checking top-level files ... OK
* checking for left-over files ... OK
* checking index information ... OK
* checking package subdirectories ... OK
* checking R files for non-ASCII characters ... OK
* checking R files for syntax errors ... OK
* loading checks for arch 'i386'
** checking whether the package can be loaded ... OK
** checking whether the package can be loaded with stated dependencies ... OK
** checking whether the package can be unloaded cleanly ... OK
** checking whether the namespace can be loaded with stated dependencies ... OK
** checking whether the namespace can be unloaded cleanly ... OK
* loading checks for arch 'x64'
** checking whether the package can be loaded ... OK
** checking whether the package can be loaded with stated dependencies ... OK
** checking whether the package can be unloaded cleanly ... OK
** checking whether the namespace can be loaded with stated dependencies ... OK
** checking whether the namespace can be unloaded cleanly ... OK
* checking dependencies in R code ... OK
* checking S3 generic/method consistency ... OK
* checking replacement functions ... OK
* checking foreign function calls ... OK
* checking R code for possible problems ... OK
* checking Rd files ... OK
* checking Rd metadata ... OK
* checking Rd cross-references ... OK
* checking for missing documentation entries ... OK
* checking for code/documentation mismatches ... OK
* checking Rd \usage sections ... OK
* checking Rd contents ... OK
* checking for unstated dependencies in examples ... OK
* checking line endings in C/C++/Fortran sources/headers ... OK
* checking compiled code ... NOTE
Note: information on .o files for i386 is not available
Note: information on .o files for x64 is not available
File 'C:/Users/biocbuild/bbs-3.13-bioc/R/library/Cardinal/libs/i386/Cardinal.dll':
  Found 'abort', possibly from 'abort' (C), 'runtime' (Fortran)
  Found 'exit', possibly from 'exit' (C), 'stop' (Fortran)
  Found 'printf', possibly from 'printf' (C)
File 'C:/Users/biocbuild/bbs-3.13-bioc/R/library/Cardinal/libs/x64/Cardinal.dll':
  Found 'abort', possibly from 'abort' (C), 'runtime' (Fortran)
  Found 'exit', possibly from 'exit' (C), 'stop' (Fortran)
  Found 'printf', possibly from 'printf' (C)

Compiled code should not call entry points which might terminate R nor
write to stdout/stderr instead of to the console, nor use Fortran I/O
nor system RNGs. The detected symbols are linked into the code but
might come from libraries and not actually be called.

See 'Writing portable packages' in the 'Writing R Extensions' manual.
* checking files in 'vignettes' ... OK
* checking examples ...
** running examples for arch 'i386' ... OK
Examples with CPU (user + system) or elapsed time > 5s
                                 user system elapsed
spatialShrunkenCentroids-methods 9.63      0    9.63
spatialKMeans-methods            5.86      0    5.86
** running examples for arch 'x64' ... OK
Examples with CPU (user + system) or elapsed time > 5s
                                 user system elapsed
spatialShrunkenCentroids-methods 7.53   0.01    7.54
* checking for unstated dependencies in 'tests' ... OK
* checking tests ...
** running tests for arch 'i386' ...
  Running 'testthat.R'
 OK
** running tests for arch 'x64' ...
  Running 'testthat.R'
 OK
* checking for unstated dependencies in vignettes ... OK
* checking package vignettes in 'inst/doc' ... OK
* checking running R code from vignettes ... SKIPPED
* checking re-building of vignette outputs ... SKIPPED
* checking PDF version of manual ... OK
* DONE

Status: 2 NOTEs
See
  'C:/Users/biocbuild/bbs-3.13-bioc/meat/Cardinal.Rcheck/00check.log'
for details.



Installation output

Cardinal.Rcheck/00install.out

##############################################################################
##############################################################################
###
### Running command:
###
###   C:\cygwin\bin\curl.exe -O http://155.52.207.165/BBS/3.13/bioc/src/contrib/Cardinal_2.10.0.tar.gz && rm -rf Cardinal.buildbin-libdir && mkdir Cardinal.buildbin-libdir && C:\Users\biocbuild\bbs-3.13-bioc\R\bin\R.exe CMD INSTALL --merge-multiarch --build --library=Cardinal.buildbin-libdir Cardinal_2.10.0.tar.gz && C:\Users\biocbuild\bbs-3.13-bioc\R\bin\R.exe CMD INSTALL Cardinal_2.10.0.zip && rm Cardinal_2.10.0.tar.gz Cardinal_2.10.0.zip
###
##############################################################################
##############################################################################


  % Total    % Received % Xferd  Average Speed   Time    Time     Time  Current
                                 Dload  Upload   Total   Spent    Left  Speed

  0     0    0     0    0     0      0      0 --:--:-- --:--:-- --:--:--     0
  1 1092k    1 15987    0     0   133k      0  0:00:08 --:--:--  0:00:08  133k
100 1092k  100 1092k    0     0  2048k      0 --:--:-- --:--:-- --:--:-- 2050k

install for i386

* installing *source* package 'Cardinal' ...
** using staged installation
** libs
"C:/rtools40/mingw32/bin/"g++ -std=gnu++11  -I"C:/Users/BIOCBU~1/BBS-3~1.13-/R/include" -DNDEBUG     -I"c:/extsoft/include"     -O2 -Wall  -mfpmath=sse -msse2 -mstackrealign  -c DIP.cpp -o DIP.o
"C:/rtools40/mingw32/bin/"g++ -std=gnu++11  -I"C:/Users/BIOCBU~1/BBS-3~1.13-/R/include" -DNDEBUG     -I"c:/extsoft/include"     -O2 -Wall  -mfpmath=sse -msse2 -mstackrealign  -c dynAlign.cpp -o dynAlign.o
"C:/rtools40/mingw32/bin/"g++ -std=gnu++11  -I"C:/Users/BIOCBU~1/BBS-3~1.13-/R/include" -DNDEBUG     -I"c:/extsoft/include"     -O2 -Wall  -mfpmath=sse -msse2 -mstackrealign  -c imzML.cpp -o imzML.o
"C:/rtools40/mingw32/bin/"g++ -std=gnu++11  -I"C:/Users/BIOCBU~1/BBS-3~1.13-/R/include" -DNDEBUG     -I"c:/extsoft/include"     -O2 -Wall  -mfpmath=sse -msse2 -mstackrealign  -c init.cpp -o init.o
"C:/rtools40/mingw32/bin/"g++ -std=gnu++11  -I"C:/Users/BIOCBU~1/BBS-3~1.13-/R/include" -DNDEBUG     -I"c:/extsoft/include"     -O2 -Wall  -mfpmath=sse -msse2 -mstackrealign  -c pugixml.cpp -o pugixml.o
pugixml.cpp:2264:16: warning: 'void pugi::impl::{anonymous}::as_utf8_end(char*, size_t, const wchar_t*, size_t)' defined but not used [-Wunused-function]
  PUGI__FN void as_utf8_end(char* buffer, size_t size, const wchar_t* str, size_t length)
                ^~~~~~~~~~~
pugixml.cpp:2258:18: warning: 'size_t pugi::impl::{anonymous}::as_utf8_begin(const wchar_t*, size_t)' defined but not used [-Wunused-function]
  PUGI__FN size_t as_utf8_begin(const wchar_t* str, size_t length)
                  ^~~~~~~~~~~~~
pugixml.cpp:221:18: warning: 'size_t pugi::impl::{anonymous}::strlength_wide(const wchar_t*)' defined but not used [-Wunused-function]
  PUGI__FN size_t strlength_wide(const wchar_t* s)
                  ^~~~~~~~~~~~~~
"C:/rtools40/mingw32/bin/"g++ -std=gnu++11  -I"C:/Users/BIOCBU~1/BBS-3~1.13-/R/include" -DNDEBUG     -I"c:/extsoft/include"     -O2 -Wall  -mfpmath=sse -msse2 -mstackrealign  -c spatial.cpp -o spatial.o
"C:/rtools40/mingw32/bin/"g++ -std=gnu++11  -I"C:/Users/BIOCBU~1/BBS-3~1.13-/R/include" -DNDEBUG     -I"c:/extsoft/include"     -O2 -Wall  -mfpmath=sse -msse2 -mstackrealign  -c utils.cpp -o utils.o
C:/rtools40/mingw32/bin/g++ -std=gnu++11 -shared -s -static-libgcc -o Cardinal.dll tmp.def DIP.o dynAlign.o imzML.o init.o pugixml.o spatial.o utils.o -Lc:/extsoft/lib/i386 -Lc:/extsoft/lib -LC:/Users/BIOCBU~1/BBS-3~1.13-/R/bin/i386 -lR
installing to C:/Users/biocbuild/bbs-3.13-bioc/meat/Cardinal.buildbin-libdir/00LOCK-Cardinal/00new/Cardinal/libs/i386
** R
** inst
** byte-compile and prepare package for lazy loading
** help
*** installing help indices
  converting help for package 'Cardinal'
    finding HTML links ... done
    AnnotatedImage-class                    html  
    finding level-2 HTML links ... done

    AnnotatedImagingExperiment-class        html  
    Cardinal-package                        html  
    ImageList-class                         html  
    ImagingExperiment-class                 html  
    ImagingResult-class                     html  
    MSContinuousImagingExperiment-class     html  
    MSImagingExperiment-class               html  
    MSImagingInfo-class                     html  
    MSProcessedImagingExperiment-class      html  
    MassDataFrame-class                     html  
    PCA-methods                             html  
    PLS-methods                             html  
    PositionDataFrame-class                 html  
    SparseImagingExperiment-class           html  
    XDataFrame-class                        html  
    aggregate-methods                       html  
    colocalized-methods                     html  
    colors-functions                        html  
    crossValidate-methods                   html  
    defunct                                 html  
    deprecated                              html  
    findNeighbors-methods                   html  
    image-methods                           html  
    internal                                html  
    legacy                                  html  
REDIRECT:topic	 Previous alias or file overwritten by alias: C:/Users/biocbuild/bbs-3.13-bioc/meat/Cardinal.buildbin-libdir/00LOCK-Cardinal/00new/Cardinal/help/ImageData.html
    meansTest-methods                       html  
    mz-methods                              html  
    mzAlign-methods                         html  
    mzBin-methods                           html  
    mzFilter-methods                        html  
    normalize-methods                       html  
    peakAlign-methods                       html  
    peakBin-methods                         html  
    peakPick-methods                        html  
    pixelApply-methods                      html  
    plot-methods                            html  
    process-methods                         html  
    readMSIData                             html  
    reduceBaseline-methods                  html  
    reexports                               html  
    selectROI-methods                       html  
    simulateSpectrum                        html  
    slice-methods                           html  
    smoothSignal-methods                    html  
    spatialDGMM-methods                     html  
    spatialFastmap-methods                  html  
    spatialKMeans-methods                   html  
    spatialShrunkenCentroids-methods        html  
    subset-methods                          html  
    topFeatures-methods                     html  
    writeMSIData                            html  
** building package indices
** installing vignettes
** testing if installed package can be loaded from temporary location
** testing if installed package can be loaded from final location
** testing if installed package keeps a record of temporary installation path

install for x64

* installing *source* package 'Cardinal' ...
** libs
"C:/rtools40/mingw64/bin/"g++ -std=gnu++11  -I"C:/Users/BIOCBU~1/BBS-3~1.13-/R/include" -DNDEBUG     -I"C:/extsoft/include"     -O2 -Wall  -mfpmath=sse -msse2 -mstackrealign  -c DIP.cpp -o DIP.o
"C:/rtools40/mingw64/bin/"g++ -std=gnu++11  -I"C:/Users/BIOCBU~1/BBS-3~1.13-/R/include" -DNDEBUG     -I"C:/extsoft/include"     -O2 -Wall  -mfpmath=sse -msse2 -mstackrealign  -c dynAlign.cpp -o dynAlign.o
"C:/rtools40/mingw64/bin/"g++ -std=gnu++11  -I"C:/Users/BIOCBU~1/BBS-3~1.13-/R/include" -DNDEBUG     -I"C:/extsoft/include"     -O2 -Wall  -mfpmath=sse -msse2 -mstackrealign  -c imzML.cpp -o imzML.o
"C:/rtools40/mingw64/bin/"g++ -std=gnu++11  -I"C:/Users/BIOCBU~1/BBS-3~1.13-/R/include" -DNDEBUG     -I"C:/extsoft/include"     -O2 -Wall  -mfpmath=sse -msse2 -mstackrealign  -c init.cpp -o init.o
"C:/rtools40/mingw64/bin/"g++ -std=gnu++11  -I"C:/Users/BIOCBU~1/BBS-3~1.13-/R/include" -DNDEBUG     -I"C:/extsoft/include"     -O2 -Wall  -mfpmath=sse -msse2 -mstackrealign  -c pugixml.cpp -o pugixml.o
pugixml.cpp:2264:16: warning: 'void pugi::impl::{anonymous}::as_utf8_end(char*, size_t, const wchar_t*, size_t)' defined but not used [-Wunused-function]
  PUGI__FN void as_utf8_end(char* buffer, size_t size, const wchar_t* str, size_t length)
                ^~~~~~~~~~~
pugixml.cpp:2258:18: warning: 'size_t pugi::impl::{anonymous}::as_utf8_begin(const wchar_t*, size_t)' defined but not used [-Wunused-function]
  PUGI__FN size_t as_utf8_begin(const wchar_t* str, size_t length)
                  ^~~~~~~~~~~~~
pugixml.cpp:221:18: warning: 'size_t pugi::impl::{anonymous}::strlength_wide(const wchar_t*)' defined but not used [-Wunused-function]
  PUGI__FN size_t strlength_wide(const wchar_t* s)
                  ^~~~~~~~~~~~~~
"C:/rtools40/mingw64/bin/"g++ -std=gnu++11  -I"C:/Users/BIOCBU~1/BBS-3~1.13-/R/include" -DNDEBUG     -I"C:/extsoft/include"     -O2 -Wall  -mfpmath=sse -msse2 -mstackrealign  -c spatial.cpp -o spatial.o
"C:/rtools40/mingw64/bin/"g++ -std=gnu++11  -I"C:/Users/BIOCBU~1/BBS-3~1.13-/R/include" -DNDEBUG     -I"C:/extsoft/include"     -O2 -Wall  -mfpmath=sse -msse2 -mstackrealign  -c utils.cpp -o utils.o
C:/rtools40/mingw64/bin/g++ -std=gnu++11 -shared -s -static-libgcc -o Cardinal.dll tmp.def DIP.o dynAlign.o imzML.o init.o pugixml.o spatial.o utils.o -LC:/extsoft/lib/x64 -LC:/extsoft/lib -LC:/Users/BIOCBU~1/BBS-3~1.13-/R/bin/x64 -lR
installing to C:/Users/biocbuild/bbs-3.13-bioc/meat/Cardinal.buildbin-libdir/Cardinal/libs/x64
** testing if installed package can be loaded
* MD5 sums
packaged installation of 'Cardinal' as Cardinal_2.10.0.zip
* DONE (Cardinal)
* installing to library 'C:/Users/biocbuild/bbs-3.13-bioc/R/library'
package 'Cardinal' successfully unpacked and MD5 sums checked

Tests output

Cardinal.Rcheck/tests_i386/testthat.Rout


R version 4.1.1 (2021-08-10) -- "Kick Things"
Copyright (C) 2021 The R Foundation for Statistical Computing
Platform: i386-w64-mingw32/i386 (32-bit)

R is free software and comes with ABSOLUTELY NO WARRANTY.
You are welcome to redistribute it under certain conditions.
Type 'license()' or 'licence()' for distribution details.

R is a collaborative project with many contributors.
Type 'contributors()' for more information and
'citation()' on how to cite R or R packages in publications.

Type 'demo()' for some demos, 'help()' for on-line help, or
'help.start()' for an HTML browser interface to help.
Type 'q()' to quit R.

> library(testthat)
> library(Cardinal)
Loading required package: BiocGenerics
Loading required package: parallel

Attaching package: 'BiocGenerics'

The following objects are masked from 'package:parallel':

    clusterApply, clusterApplyLB, clusterCall, clusterEvalQ,
    clusterExport, clusterMap, parApply, parCapply, parLapply,
    parLapplyLB, parRapply, parSapply, parSapplyLB

The following objects are masked from 'package:stats':

    IQR, mad, sd, var, xtabs

The following objects are masked from 'package:base':

    Filter, Find, Map, Position, Reduce, anyDuplicated, append,
    as.data.frame, basename, cbind, colnames, dirname, do.call,
    duplicated, eval, evalq, get, grep, grepl, intersect, is.unsorted,
    lapply, mapply, match, mget, order, paste, pmax, pmax.int, pmin,
    pmin.int, rank, rbind, rownames, sapply, setdiff, sort, table,
    tapply, union, unique, unsplit, which.max, which.min

Loading required package: BiocParallel
Loading required package: EBImage
Loading required package: S4Vectors
Loading required package: stats4

Attaching package: 'S4Vectors'

The following objects are masked from 'package:base':

    I, expand.grid, unname

Loading required package: ProtGenerics

Attaching package: 'ProtGenerics'

The following object is masked from 'package:stats':

    smooth


Attaching package: 'Cardinal'

The following object is masked from 'package:stats':

    filter

> 
> test_check("Cardinal")
[ FAIL 0 | WARN 0 | SKIP 0 | PASS 304 ]
> 
> proc.time()
   user  system elapsed 
 144.31    1.57  145.92 

Cardinal.Rcheck/tests_x64/testthat.Rout


R version 4.1.1 (2021-08-10) -- "Kick Things"
Copyright (C) 2021 The R Foundation for Statistical Computing
Platform: x86_64-w64-mingw32/x64 (64-bit)

R is free software and comes with ABSOLUTELY NO WARRANTY.
You are welcome to redistribute it under certain conditions.
Type 'license()' or 'licence()' for distribution details.

R is a collaborative project with many contributors.
Type 'contributors()' for more information and
'citation()' on how to cite R or R packages in publications.

Type 'demo()' for some demos, 'help()' for on-line help, or
'help.start()' for an HTML browser interface to help.
Type 'q()' to quit R.

> library(testthat)
> library(Cardinal)
Loading required package: BiocGenerics
Loading required package: parallel

Attaching package: 'BiocGenerics'

The following objects are masked from 'package:parallel':

    clusterApply, clusterApplyLB, clusterCall, clusterEvalQ,
    clusterExport, clusterMap, parApply, parCapply, parLapply,
    parLapplyLB, parRapply, parSapply, parSapplyLB

The following objects are masked from 'package:stats':

    IQR, mad, sd, var, xtabs

The following objects are masked from 'package:base':

    Filter, Find, Map, Position, Reduce, anyDuplicated, append,
    as.data.frame, basename, cbind, colnames, dirname, do.call,
    duplicated, eval, evalq, get, grep, grepl, intersect, is.unsorted,
    lapply, mapply, match, mget, order, paste, pmax, pmax.int, pmin,
    pmin.int, rank, rbind, rownames, sapply, setdiff, sort, table,
    tapply, union, unique, unsplit, which.max, which.min

Loading required package: BiocParallel
Loading required package: EBImage
Loading required package: S4Vectors
Loading required package: stats4

Attaching package: 'S4Vectors'

The following objects are masked from 'package:base':

    I, expand.grid, unname

Loading required package: ProtGenerics

Attaching package: 'ProtGenerics'

The following object is masked from 'package:stats':

    smooth


Attaching package: 'Cardinal'

The following object is masked from 'package:stats':

    filter

> 
> test_check("Cardinal")
[ FAIL 0 | WARN 0 | SKIP 0 | PASS 304 ]
> 
> proc.time()
   user  system elapsed 
 135.82    0.89  137.82 

Example timings

Cardinal.Rcheck/examples_i386/Cardinal-Ex.timings

nameusersystemelapsed
AnnotatedImagingExperiment-class000
ImageList-class0.50.00.5
ImagingExperiment-class0.050.000.05
MSImagingExperiment-class0.090.000.09
MSImagingInfo-class0.310.030.35
MassDataFrame-class000
PCA-methods0.790.080.88
PLS-methods0.690.020.70
PositionDataFrame-class0.020.000.01
SparseImagingExperiment-class0.030.000.04
XDataFrame-class0.010.000.01
aggregate-methods1.630.001.63
colocalized-methods1.250.011.26
colors-functions0.750.000.75
findNeighbors-methods0.070.020.08
image-methods0.900.060.96
meansTest-methods3.940.144.08
mz-methods000
mzAlign-methods1.340.001.34
mzBin-methods0.530.000.53
mzFilter-methods1.50.01.5
normalize-methods0.580.000.58
peakAlign-methods0.940.000.94
peakBin-methods0.530.000.53
peakPick-methods0.550.000.55
pixelApply-methods1.030.001.03
plot-methods1.730.001.73
process-methods2.190.022.21
reduceBaseline-methods0.610.000.61
simulateSpectrum0.810.000.81
slice-methods0.450.000.45
smoothSignal-methods0.440.000.44
spatialDGMM-methods2.060.002.06
spatialFastmap-methods1.640.001.64
spatialKMeans-methods5.860.005.86
spatialShrunkenCentroids-methods9.630.009.63
subset-methods0.810.000.81
topFeatures-methods3.780.003.78

Cardinal.Rcheck/examples_x64/Cardinal-Ex.timings

nameusersystemelapsed
AnnotatedImagingExperiment-class000
ImageList-class0.080.000.08
ImagingExperiment-class0.030.000.03
MSImagingExperiment-class0.120.000.12
MSImagingInfo-class0.270.030.30
MassDataFrame-class000
PCA-methods0.670.060.74
PLS-methods0.800.000.79
PositionDataFrame-class0.010.000.02
SparseImagingExperiment-class0.040.000.03
XDataFrame-class0.010.000.02
aggregate-methods2.20.02.2
colocalized-methods1.160.001.15
colors-functions0.800.020.82
findNeighbors-methods0.060.000.06
image-methods0.890.030.92
meansTest-methods3.330.103.42
mz-methods000
mzAlign-methods0.580.000.58
mzBin-methods0.330.000.33
mzFilter-methods0.980.000.98
normalize-methods0.330.000.33
peakAlign-methods0.630.000.62
peakBin-methods0.340.000.35
peakPick-methods0.360.000.36
pixelApply-methods0.910.010.92
plot-methods0.970.020.98
process-methods0.980.000.99
reduceBaseline-methods0.340.000.34
simulateSpectrum0.580.010.59
slice-methods0.460.000.46
smoothSignal-methods0.340.000.34
spatialDGMM-methods2.30.02.3
spatialFastmap-methods1.260.001.26
spatialKMeans-methods4.800.024.82
spatialShrunkenCentroids-methods7.530.017.54
subset-methods0.480.000.49
topFeatures-methods2.480.002.49