Back to Multiple platform build/check report for BioC 3.13
AB[C]DEFGHIJKLMNOPQRSTUVWXYZ

This page was generated on 2021-09-22 15:05:41 -0400 (Wed, 22 Sep 2021).

BUILD BIN results for CTDquerier on machv2

To the developers/maintainers of the CTDquerier package:
- Please allow up to 24 hours (and sometimes 48 hours) for your latest push to git@git.bioconductor.org:packages/CTDquerier.git to
reflect on this report. See How and When does the builder pull? When will my changes propagate? here for more information.
- Make sure to use the following settings in order to reproduce any error or warning you see on this page.

raw results

Package 420/2041HostnameOS / ArchINSTALLBUILDCHECKBUILD BIN
CTDquerier 2.0.0  (landing page)
Xavier Escribà-Montagut
Snapshot Date: 2021-09-21 04:50:12 -0400 (Tue, 21 Sep 2021)
git_url: https://git.bioconductor.org/packages/CTDquerier
git_branch: RELEASE_3_13
git_last_commit: 54a0a69
git_last_commit_date: 2021-05-19 13:00:36 -0400 (Wed, 19 May 2021)
nebbiolo1Linux (Ubuntu 20.04.2 LTS) / x86_64  OK    OK    TIMEOUT  
tokay2Windows Server 2012 R2 Standard / x64  OK    OK    WARNINGS    OK  UNNEEDED, same version is already published
machv2macOS 10.14.6 Mojave / x86_64  OK    OK    WARNINGS    OK  UNNEEDED, same version is already published

Summary

Package: CTDquerier
Version: 2.0.0
Command: rm -rf CTDquerier.buildbin-libdir && mkdir CTDquerier.buildbin-libdir && /Users/biocbuild/BBS/utils/build-universal.sh CTDquerier_2.0.0.tar.gz /Library/Frameworks/R.framework/Versions/Current/Resources/bin/R CTDquerier.buildbin-libdir
StartedAt: 2021-09-22 02:09:09 -0400 (Wed, 22 Sep 2021)
EndedAt: 2021-09-22 02:10:14 -0400 (Wed, 22 Sep 2021)
EllapsedTime: 65.1 seconds
RetCode: 0
Status:   OK  
PackageFile: CTDquerier_2.0.0.tgz
PackageFileSize: 2.55 MiB

Command output

##############################################################################
##############################################################################
###
### Running command:
###
###   rm -rf CTDquerier.buildbin-libdir && mkdir CTDquerier.buildbin-libdir && /Users/biocbuild/BBS/utils/build-universal.sh CTDquerier_2.0.0.tar.gz /Library/Frameworks/R.framework/Versions/Current/Resources/bin/R CTDquerier.buildbin-libdir
###
##############################################################################
##############################################################################


>>>>>>> 
>>>>>>> INSTALLATION WITH 'R CMD INSTALL --preclean --no-multiarch --library=CTDquerier.buildbin-libdir CTDquerier_2.0.0.tar.gz'
>>>>>>> 

* installing *source* package ‘CTDquerier’ ...
** using staged installation
** R
** data
** inst
** byte-compile and prepare package for lazy loading
** help
*** installing help indices
** building package indices
** installing vignettes
** testing if installed package can be loaded from temporary location
** testing if installed package can be loaded from final location
** testing if installed package keeps a record of temporary installation path
* DONE (CTDquerier)