Back to Multiple platform build/check report for BioC 3.13
AB[C]DEFGHIJKLMNOPQRSTUVWXYZ

This page was generated on 2021-09-20 15:04:21 -0400 (Mon, 20 Sep 2021).

All results for package CTDquerier

To the developers/maintainers of the CTDquerier package:
- Please allow up to 24 hours (and sometimes 48 hours) for your latest push to git@git.bioconductor.org:packages/CTDquerier.git to
reflect on this report. See How and When does the builder pull? When will my changes propagate? here for more information.
- Make sure to use the following settings in order to reproduce any error or warning you see on this page.

raw results

Package 420/2041HostnameOS / ArchINSTALLBUILDCHECKBUILD BIN
CTDquerier 2.0.0  (landing page)
Xavier EscribĂ -Montagut
Snapshot Date: 2021-09-19 04:50:10 -0400 (Sun, 19 Sep 2021)
git_url: https://git.bioconductor.org/packages/CTDquerier
git_branch: RELEASE_3_13
git_last_commit: 54a0a69
git_last_commit_date: 2021-05-19 13:00:36 -0400 (Wed, 19 May 2021)
nebbiolo1Linux (Ubuntu 20.04.2 LTS) / x86_64  OK    OK    TIMEOUT  
tokay2Windows Server 2012 R2 Standard / x64  OK    OK    WARNINGS    OK  UNNEEDED, same version is already published
machv2macOS 10.14.6 Mojave / x86_64  OK    OK    WARNINGS    OK  UNNEEDED, same version is already published