Back to Multiple platform build/check report for BioC 3.13
AB[C]DEFGHIJKLMNOPQRSTUVWXYZ

This page was generated on 2021-09-24 15:06:06 -0400 (Fri, 24 Sep 2021).

CHECK results for CSSQ on tokay2

To the developers/maintainers of the CSSQ package:
- Please allow up to 24 hours (and sometimes 48 hours) for your latest push to git@git.bioconductor.org:packages/CSSQ.git to
reflect on this report. See How and When does the builder pull? When will my changes propagate? here for more information.
- Make sure to use the following settings in order to reproduce any error or warning you see on this page.

raw results

Package 418/2041HostnameOS / ArchINSTALLBUILDCHECKBUILD BIN
CSSQ 1.4.1  (landing page)
Fan Lab at Georgia Institute of Technology
Snapshot Date: 2021-09-23 04:50:12 -0400 (Thu, 23 Sep 2021)
git_url: https://git.bioconductor.org/packages/CSSQ
git_branch: RELEASE_3_13
git_last_commit: d067a65
git_last_commit_date: 2021-07-28 00:28:16 -0400 (Wed, 28 Jul 2021)
nebbiolo1Linux (Ubuntu 20.04.2 LTS) / x86_64  OK    OK    OK  UNNEEDED, same version is already published
tokay2Windows Server 2012 R2 Standard / x64  OK    OK    OK    OK  UNNEEDED, same version is already published
machv2macOS 10.14.6 Mojave / x86_64  OK    OK    OK    OK  UNNEEDED, same version is already published

Summary

Package: CSSQ
Version: 1.4.1
Command: C:\Users\biocbuild\bbs-3.13-bioc\R\bin\R.exe CMD check --force-multiarch --install=check:CSSQ.install-out.txt --library=C:\Users\biocbuild\bbs-3.13-bioc\R\library --no-vignettes --timings CSSQ_1.4.1.tar.gz
StartedAt: 2021-09-23 21:03:11 -0400 (Thu, 23 Sep 2021)
EndedAt: 2021-09-23 21:08:16 -0400 (Thu, 23 Sep 2021)
EllapsedTime: 305.1 seconds
RetCode: 0
Status:   OK  
CheckDir: CSSQ.Rcheck
Warnings: 0

Command output

##############################################################################
##############################################################################
###
### Running command:
###
###   C:\Users\biocbuild\bbs-3.13-bioc\R\bin\R.exe CMD check --force-multiarch --install=check:CSSQ.install-out.txt --library=C:\Users\biocbuild\bbs-3.13-bioc\R\library --no-vignettes --timings CSSQ_1.4.1.tar.gz
###
##############################################################################
##############################################################################


* using log directory 'C:/Users/biocbuild/bbs-3.13-bioc/meat/CSSQ.Rcheck'
* using R version 4.1.1 (2021-08-10)
* using platform: x86_64-w64-mingw32 (64-bit)
* using session charset: ISO8859-1
* using option '--no-vignettes'
* checking for file 'CSSQ/DESCRIPTION' ... OK
* this is package 'CSSQ' version '1.4.1'
* package encoding: UTF-8
* checking package namespace information ... OK
* checking package dependencies ... OK
* checking if this is a source package ... OK
* checking if there is a namespace ... OK
* checking for hidden files and directories ... OK
* checking for portable file names ... OK
* checking whether package 'CSSQ' can be installed ... OK
* checking installed package size ... OK
* checking package directory ... OK
* checking 'build' directory ... OK
* checking DESCRIPTION meta-information ... OK
* checking top-level files ... OK
* checking for left-over files ... OK
* checking index information ... OK
* checking package subdirectories ... OK
* checking R files for non-ASCII characters ... OK
* checking R files for syntax errors ... OK
* loading checks for arch 'i386'
** checking whether the package can be loaded ... OK
** checking whether the package can be loaded with stated dependencies ... OK
** checking whether the package can be unloaded cleanly ... OK
** checking whether the namespace can be loaded with stated dependencies ... OK
** checking whether the namespace can be unloaded cleanly ... OK
* loading checks for arch 'x64'
** checking whether the package can be loaded ... OK
** checking whether the package can be loaded with stated dependencies ... OK
** checking whether the package can be unloaded cleanly ... OK
** checking whether the namespace can be loaded with stated dependencies ... OK
** checking whether the namespace can be unloaded cleanly ... OK
* checking dependencies in R code ... OK
* checking S3 generic/method consistency ... OK
* checking replacement functions ... OK
* checking foreign function calls ... OK
* checking R code for possible problems ... OK
* checking Rd files ... OK
* checking Rd metadata ... OK
* checking Rd cross-references ... OK
* checking for missing documentation entries ... OK
* checking for code/documentation mismatches ... OK
* checking Rd \usage sections ... OK
* checking Rd contents ... OK
* checking for unstated dependencies in examples ... OK
* checking files in 'vignettes' ... OK
* checking examples ...
** running examples for arch 'i386' ... OK
** running examples for arch 'x64' ... OK
* checking for unstated dependencies in vignettes ... OK
* checking package vignettes in 'inst/doc' ... OK
* checking running R code from vignettes ... SKIPPED
* checking re-building of vignette outputs ... SKIPPED
* checking PDF version of manual ... OK
* DONE

Status: OK


Installation output

CSSQ.Rcheck/00install.out

##############################################################################
##############################################################################
###
### Running command:
###
###   C:\cygwin\bin\curl.exe -O http://155.52.207.165/BBS/3.13/bioc/src/contrib/CSSQ_1.4.1.tar.gz && rm -rf CSSQ.buildbin-libdir && mkdir CSSQ.buildbin-libdir && C:\Users\biocbuild\bbs-3.13-bioc\R\bin\R.exe CMD INSTALL --merge-multiarch --build --library=CSSQ.buildbin-libdir CSSQ_1.4.1.tar.gz && C:\Users\biocbuild\bbs-3.13-bioc\R\bin\R.exe CMD INSTALL CSSQ_1.4.1.zip && rm CSSQ_1.4.1.tar.gz CSSQ_1.4.1.zip
###
##############################################################################
##############################################################################


  % Total    % Received % Xferd  Average Speed   Time    Time     Time  Current
                                 Dload  Upload   Total   Spent    Left  Speed

  0     0    0     0    0     0      0      0 --:--:-- --:--:-- --:--:--     0
 77  854k   77  665k    0     0  1577k      0 --:--:-- --:--:-- --:--:-- 1577k
100  854k  100  854k    0     0  1713k      0 --:--:-- --:--:-- --:--:-- 1712k

install for i386

* installing *source* package 'CSSQ' ...
** using staged installation
** R
** inst
** byte-compile and prepare package for lazy loading
** help
*** installing help indices
  converting help for package 'CSSQ'
    finding HTML links ... done
    DBAnalyze                               html  
    ansTransform                            html  
    calculateFC                             html  
    calculatePvalue                         html  
    calculateTvalue                         html  
    getBgSubVal                             html  
    getComparisons                          html  
    getNewLabels                            html  
    getRegionCounts                         html  
    kmeansNormalize                         html  
    loadCountData                           html  
    normalizeData                           html  
    plotDist                                html  
    preprocessData                          html  
** building package indices
** installing vignettes
** testing if installed package can be loaded from temporary location
** testing if installed package can be loaded from final location
** testing if installed package keeps a record of temporary installation path

install for x64

* installing *source* package 'CSSQ' ...
** testing if installed package can be loaded
* MD5 sums
packaged installation of 'CSSQ' as CSSQ_1.4.1.zip
* DONE (CSSQ)
* installing to library 'C:/Users/biocbuild/bbs-3.13-bioc/R/library'
package 'CSSQ' successfully unpacked and MD5 sums checked

Tests output


Example timings

CSSQ.Rcheck/examples_i386/CSSQ-Ex.timings

nameusersystemelapsed
DBAnalyze0.360.000.36
ansTransform0.110.000.11
getBgSubVal2.720.032.81
getRegionCounts1.930.001.94
kmeansNormalize000
loadCountData0.140.020.15
normalizeData0.140.000.15
plotDist0.300.030.32
preprocessData1.630.201.83

CSSQ.Rcheck/examples_x64/CSSQ-Ex.timings

nameusersystemelapsed
DBAnalyze0.370.000.37
ansTransform0.090.010.11
getBgSubVal2.930.002.92
getRegionCounts1.980.032.01
kmeansNormalize000
loadCountData0.170.000.18
normalizeData0.140.000.14
plotDist0.350.020.36
preprocessData1.890.061.95