Back to Multiple platform build/check report for BioC 3.13
AB[C]DEFGHIJKLMNOPQRSTUVWXYZ

This page was generated on 2021-09-20 15:05:39 -0400 (Mon, 20 Sep 2021).

BUILD results for CSSQ on machv2

To the developers/maintainers of the CSSQ package:
- Please allow up to 24 hours (and sometimes 48 hours) for your latest push to git@git.bioconductor.org:packages/CSSQ.git to
reflect on this report. See How and When does the builder pull? When will my changes propagate? here for more information.
- Make sure to use the following settings in order to reproduce any error or warning you see on this page.

raw results

Package 418/2041HostnameOS / ArchINSTALLBUILDCHECKBUILD BIN
CSSQ 1.4.1  (landing page)
Fan Lab at Georgia Institute of Technology
Snapshot Date: 2021-09-19 04:50:10 -0400 (Sun, 19 Sep 2021)
git_url: https://git.bioconductor.org/packages/CSSQ
git_branch: RELEASE_3_13
git_last_commit: d067a65
git_last_commit_date: 2021-07-28 00:28:16 -0400 (Wed, 28 Jul 2021)
nebbiolo1Linux (Ubuntu 20.04.2 LTS) / x86_64  OK    OK    OK  UNNEEDED, same version is already published
tokay2Windows Server 2012 R2 Standard / x64  OK    OK    OK    OK  UNNEEDED, same version is already published
machv2macOS 10.14.6 Mojave / x86_64  OK    OK    OK    OK  UNNEEDED, same version is already published

Summary

Package: CSSQ
Version: 1.4.1
Command: /Library/Frameworks/R.framework/Versions/Current/Resources/bin/R CMD build --keep-empty-dirs --no-resave-data CSSQ
StartedAt: 2021-09-19 11:26:57 -0400 (Sun, 19 Sep 2021)
EndedAt: 2021-09-19 11:28:01 -0400 (Sun, 19 Sep 2021)
EllapsedTime: 64.8 seconds
RetCode: 0
Status:   OK  
PackageFile: CSSQ_1.4.1.tar.gz
PackageFileSize: 869.8 KiB

Command output

##############################################################################
##############################################################################
###
### Running command:
###
###   /Library/Frameworks/R.framework/Versions/Current/Resources/bin/R CMD build --keep-empty-dirs --no-resave-data CSSQ
###
##############################################################################
##############################################################################


* checking for file ‘CSSQ/DESCRIPTION’ ... OK
* preparing ‘CSSQ’:
* checking DESCRIPTION meta-information ... OK
* installing the package to build vignettes
* creating vignettes ... OK
* checking for LF line-endings in source and make files and shell scripts
* checking for empty or unneeded directories
Omitted ‘LazyData’ from DESCRIPTION
* building ‘CSSQ_1.4.1.tar.gz’