Back to Multiple platform build/check report for BioC 3.13
AB[C]DEFGHIJKLMNOPQRSTUVWXYZ

This page was generated on 2021-09-22 15:04:23 -0400 (Wed, 22 Sep 2021).

All results for package CSSQ

To the developers/maintainers of the CSSQ package:
- Please allow up to 24 hours (and sometimes 48 hours) for your latest push to git@git.bioconductor.org:packages/CSSQ.git to
reflect on this report. See How and When does the builder pull? When will my changes propagate? here for more information.
- Make sure to use the following settings in order to reproduce any error or warning you see on this page.

raw results

Package 418/2041HostnameOS / ArchINSTALLBUILDCHECKBUILD BIN
CSSQ 1.4.1  (landing page)
Fan Lab at Georgia Institute of Technology
Snapshot Date: 2021-09-21 04:50:12 -0400 (Tue, 21 Sep 2021)
git_url: https://git.bioconductor.org/packages/CSSQ
git_branch: RELEASE_3_13
git_last_commit: d067a65
git_last_commit_date: 2021-07-28 00:28:16 -0400 (Wed, 28 Jul 2021)
nebbiolo1Linux (Ubuntu 20.04.2 LTS) / x86_64  OK    OK    OK  UNNEEDED, same version is already published
tokay2Windows Server 2012 R2 Standard / x64  OK    OK    OK    OK  UNNEEDED, same version is already published
machv2macOS 10.14.6 Mojave / x86_64  OK    OK    OK    OK  UNNEEDED, same version is already published