Back to Multiple platform build/check report for BioC 3.13
AB[C]DEFGHIJKLMNOPQRSTUVWXYZ

This page was generated on 2021-09-22 15:05:12 -0400 (Wed, 22 Sep 2021).

BUILD BIN results for CRISPRseek on tokay2

To the developers/maintainers of the CRISPRseek package:
- Please allow up to 24 hours (and sometimes 48 hours) for your latest push to git@git.bioconductor.org:packages/CRISPRseek.git to
reflect on this report. See How and When does the builder pull? When will my changes propagate? here for more information.
- Make sure to use the following settings in order to reproduce any error or warning you see on this page.

raw results

Package 409/2041HostnameOS / ArchINSTALLBUILDCHECKBUILD BIN
CRISPRseek 1.32.0  (landing page)
Lihua Julie Zhu
Snapshot Date: 2021-09-21 04:50:12 -0400 (Tue, 21 Sep 2021)
git_url: https://git.bioconductor.org/packages/CRISPRseek
git_branch: RELEASE_3_13
git_last_commit: b64de86
git_last_commit_date: 2021-05-19 12:01:57 -0400 (Wed, 19 May 2021)
nebbiolo1Linux (Ubuntu 20.04.2 LTS) / x86_64  OK    OK    OK  UNNEEDED, same version is already published
tokay2Windows Server 2012 R2 Standard / x64  OK    OK    OK    OK  UNNEEDED, same version is already published
machv2macOS 10.14.6 Mojave / x86_64  OK    OK    OK    OK  UNNEEDED, same version is already published

Summary

Package: CRISPRseek
Version: 1.32.0
Command: rm -rf CRISPRseek.buildbin-libdir && mkdir CRISPRseek.buildbin-libdir && C:\Users\biocbuild\bbs-3.13-bioc\R\bin\R.exe CMD INSTALL --merge-multiarch --build --library=CRISPRseek.buildbin-libdir CRISPRseek_1.32.0.tar.gz
StartedAt: 2021-09-22 08:27:57 -0400 (Wed, 22 Sep 2021)
EndedAt: 2021-09-22 08:29:30 -0400 (Wed, 22 Sep 2021)
EllapsedTime: 93.0 seconds
RetCode: 0
Status:   OK  
PackageFile: CRISPRseek_1.32.0.zip
PackageFileSize: 8.58 MiB

Command output

##############################################################################
##############################################################################
###
### Running command:
###
###   rm -rf CRISPRseek.buildbin-libdir && mkdir CRISPRseek.buildbin-libdir && C:\Users\biocbuild\bbs-3.13-bioc\R\bin\R.exe CMD INSTALL --merge-multiarch --build --library=CRISPRseek.buildbin-libdir CRISPRseek_1.32.0.tar.gz
###
##############################################################################
##############################################################################



install for i386

* installing *source* package 'CRISPRseek' ...
** using staged installation
** R
** inst
** byte-compile and prepare package for lazy loading
** help
*** installing help indices
  converting help for package 'CRISPRseek'
    finding HTML links ... done
    CRISPRseek-package                      html  
    annotateOffTargets                      html  
    buildFeatureVectorForScoring            html  
    calculategRNAEfficiency                 html  
    compare2Sequences                       html  
    filterOffTarget                         html  
    filtergRNA                              html  
    findgRNAs                               html  
    getOfftargetScore                       html  
    isPatternUnique                         html  
    offTargetAnalysis                       html  
    offTargetAnalysisWithoutBSgenome        html  
    predictRelativeFreqIndels               html  
    searchHits                              html  
    searchHits2                             html  
    translatePattern                        html  
    uniqueREs                               html  
    writeHits                               html  
    writeHits2                              html  
** building package indices
** installing vignettes
** testing if installed package can be loaded from temporary location
** testing if installed package can be loaded from final location
** testing if installed package keeps a record of temporary installation path

install for x64

* installing *source* package 'CRISPRseek' ...
** testing if installed package can be loaded
* MD5 sums
packaged installation of 'CRISPRseek' as CRISPRseek_1.32.0.zip
* DONE (CRISPRseek)