Back to Multiple platform build/check report for BioC 3.13
AB[C]DEFGHIJKLMNOPQRSTUVWXYZ

This page was generated on 2021-09-24 15:06:37 -0400 (Fri, 24 Sep 2021).

BUILD results for CRISPRseek on machv2

To the developers/maintainers of the CRISPRseek package:
- Please allow up to 24 hours (and sometimes 48 hours) for your latest push to git@git.bioconductor.org:packages/CRISPRseek.git to
reflect on this report. See How and When does the builder pull? When will my changes propagate? here for more information.
- Make sure to use the following settings in order to reproduce any error or warning you see on this page.

raw results

Package 409/2041HostnameOS / ArchINSTALLBUILDCHECKBUILD BIN
CRISPRseek 1.32.0  (landing page)
Lihua Julie Zhu
Snapshot Date: 2021-09-23 04:50:12 -0400 (Thu, 23 Sep 2021)
git_url: https://git.bioconductor.org/packages/CRISPRseek
git_branch: RELEASE_3_13
git_last_commit: b64de86
git_last_commit_date: 2021-05-19 12:01:57 -0400 (Wed, 19 May 2021)
nebbiolo1Linux (Ubuntu 20.04.2 LTS) / x86_64  OK    OK    OK  UNNEEDED, same version is already published
tokay2Windows Server 2012 R2 Standard / x64  OK    OK    OK    OK  UNNEEDED, same version is already published
machv2macOS 10.14.6 Mojave / x86_64  OK    OK    OK    OK  UNNEEDED, same version is already published

Summary

Package: CRISPRseek
Version: 1.32.0
Command: /Library/Frameworks/R.framework/Versions/Current/Resources/bin/R CMD build --keep-empty-dirs --no-resave-data CRISPRseek
StartedAt: 2021-09-23 11:28:56 -0400 (Thu, 23 Sep 2021)
EndedAt: 2021-09-23 11:31:58 -0400 (Thu, 23 Sep 2021)
EllapsedTime: 181.6 seconds
RetCode: 0
Status:   OK  
PackageFile: CRISPRseek_1.32.0.tar.gz
PackageFileSize: 8.226 MiB

Command output

##############################################################################
##############################################################################
###
### Running command:
###
###   /Library/Frameworks/R.framework/Versions/Current/Resources/bin/R CMD build --keep-empty-dirs --no-resave-data CRISPRseek
###
##############################################################################
##############################################################################


* checking for file ‘CRISPRseek/DESCRIPTION’ ... OK
* preparing ‘CRISPRseek’:
* checking DESCRIPTION meta-information ... OK
* installing the package to build vignettes
* creating vignettes ... OK
* checking for LF line-endings in source and make files and shell scripts
* checking for empty or unneeded directories
* building ‘CRISPRseek_1.32.0.tar.gz’