Index of /checkResults/release/bioc-LATEST/COSNet/raw-results/merida1

[ICO]NameLast modifiedSizeDescription

[DIR]Parent Directory  -  
[TXT]buildbin-out.txt17-Jul-2024 06:40 3.9K 
[   ]buildbin-summary.dcf17-Jul-2024 06:40 523  
[TXT]buildsrc-out.txt17-Jul-2024 06:40 842  
[   ]buildsrc-summary.dcf17-Jul-2024 06:40 425  
[TXT]checksrc-out.txt17-Jul-2024 06:40 7.0K 
[   ]checksrc-summary.dcf17-Jul-2024 06:40 445  
[TXT]install-out.txt17-Jul-2024 06:40 2.1K 
[   ]install-summary.dcf17-Jul-2024 06:40 267