Index of /checkResults/release/bioc-LATEST/COSNet/raw-results/kjohnson1

[ICO]NameLast modifiedSizeDescription

[DIR]Parent Directory  -  
[TXT]buildbin-out.txt17-Jul-2024 06:42 3.9K 
[   ]buildbin-summary.dcf17-Jul-2024 06:42 523  
[TXT]buildsrc-out.txt17-Jul-2024 06:42 842  
[   ]buildsrc-summary.dcf17-Jul-2024 06:42 425  
[TXT]checksrc-out.txt17-Jul-2024 06:42 7.0K 
[   ]checksrc-summary.dcf17-Jul-2024 06:42 445  
[TXT]install-out.txt17-Jul-2024 06:42 2.1K 
[   ]install-summary.dcf17-Jul-2024 06:42 266