Back to Multiple platform build/check report for BioC 3.13
AB[C]DEFGHIJKLMNOPQRSTUVWXYZ

This page was generated on 2021-09-24 15:06:37 -0400 (Fri, 24 Sep 2021).

CHECK results for CODEX on machv2

To the developers/maintainers of the CODEX package:
- Please allow up to 24 hours (and sometimes 48 hours) for your latest push to git@git.bioconductor.org:packages/CODEX.git to
reflect on this report. See How and When does the builder pull? When will my changes propagate? here for more information.
- Make sure to use the following settings in order to reproduce any error or warning you see on this page.

raw results

Package 358/2041HostnameOS / ArchINSTALLBUILDCHECKBUILD BIN
CODEX 1.24.0  (landing page)
Yuchao Jiang
Snapshot Date: 2021-09-23 04:50:12 -0400 (Thu, 23 Sep 2021)
git_url: https://git.bioconductor.org/packages/CODEX
git_branch: RELEASE_3_13
git_last_commit: 0051ee2
git_last_commit_date: 2021-05-19 12:10:21 -0400 (Wed, 19 May 2021)
nebbiolo1Linux (Ubuntu 20.04.2 LTS) / x86_64  OK    OK    OK  UNNEEDED, same version is already published
tokay2Windows Server 2012 R2 Standard / x64  OK    OK    OK    OK  UNNEEDED, same version is already published
machv2macOS 10.14.6 Mojave / x86_64  OK    OK    OK    OK  UNNEEDED, same version is already published

Summary

Package: CODEX
Version: 1.24.0
Command: /Library/Frameworks/R.framework/Versions/Current/Resources/bin/R CMD check --install=check:CODEX.install-out.txt --library=/Library/Frameworks/R.framework/Versions/Current/Resources/library --no-vignettes --timings CODEX_1.24.0.tar.gz
StartedAt: 2021-09-23 17:32:49 -0400 (Thu, 23 Sep 2021)
EndedAt: 2021-09-23 17:38:10 -0400 (Thu, 23 Sep 2021)
EllapsedTime: 320.9 seconds
RetCode: 0
Status:   OK  
CheckDir: CODEX.Rcheck
Warnings: 0

Command output

##############################################################################
##############################################################################
###
### Running command:
###
###   /Library/Frameworks/R.framework/Versions/Current/Resources/bin/R CMD check --install=check:CODEX.install-out.txt --library=/Library/Frameworks/R.framework/Versions/Current/Resources/library --no-vignettes --timings CODEX_1.24.0.tar.gz
###
##############################################################################
##############################################################################


* using log directory ‘/Users/biocbuild/bbs-3.13-bioc/meat/CODEX.Rcheck’
* using R version 4.1.1 (2021-08-10)
* using platform: x86_64-apple-darwin17.0 (64-bit)
* using session charset: UTF-8
* using option ‘--no-vignettes’
* checking for file ‘CODEX/DESCRIPTION’ ... OK
* checking extension type ... Package
* this is package ‘CODEX’ version ‘1.24.0’
* checking package namespace information ... OK
* checking package dependencies ... NOTE
Depends: includes the non-default packages:
  'Rsamtools', 'GenomeInfoDb', 'BSgenome.Hsapiens.UCSC.hg19',
  'IRanges', 'Biostrings', 'S4Vectors'
Adding so many packages to the search path is excessive and importing
selectively is preferable.
* checking if this is a source package ... OK
* checking if there is a namespace ... OK
* checking for hidden files and directories ... NOTE
Found the following hidden files and directories:
  .git_fetch_output.txt
  .git_merge_output.txt
These were most likely included in error. See section ‘Package
structure’ in the ‘Writing R Extensions’ manual.
* checking for portable file names ... OK
* checking for sufficient/correct file permissions ... OK
* checking whether package ‘CODEX’ can be installed ... OK
* checking installed package size ... OK
* checking package directory ... OK
* checking ‘build’ directory ... OK
* checking DESCRIPTION meta-information ... OK
* checking top-level files ... OK
* checking for left-over files ... OK
* checking index information ... OK
* checking package subdirectories ... OK
* checking R files for non-ASCII characters ... OK
* checking R files for syntax errors ... OK
* checking whether the package can be loaded ... OK
* checking whether the package can be loaded with stated dependencies ... OK
* checking whether the package can be unloaded cleanly ... OK
* checking whether the namespace can be loaded with stated dependencies ... OK
* checking whether the namespace can be unloaded cleanly ... OK
* checking dependencies in R code ... OK
* checking S3 generic/method consistency ... OK
* checking replacement functions ... OK
* checking foreign function calls ... OK
* checking R code for possible problems ... NOTE
choiceofK: no visible global function definition for ‘pdf’
choiceofK: no visible global function definition for ‘par’
choiceofK: no visible global function definition for ‘dev.off’
getbambed: no visible global function definition for ‘read.table’
normalize : <anonymous>: no visible global function definition for
  ‘smooth.spline’
normalize : <anonymous>: no visible global function definition for
  ‘predict’
normalize: no visible global function definition for ‘glm’
normalize: no visible binding for global variable ‘poisson’
normalize: no visible global function definition for ‘lm’
normalize2 : <anonymous>: no visible global function definition for
  ‘smooth.spline’
normalize2 : <anonymous>: no visible global function definition for
  ‘predict’
normalize2: no visible global function definition for ‘glm’
normalize2: no visible binding for global variable ‘poisson’
normalize2: no visible global function definition for ‘lm’
Undefined global functions or variables:
  dev.off glm lm par pdf poisson predict read.table smooth.spline
Consider adding
  importFrom("grDevices", "dev.off", "pdf")
  importFrom("graphics", "par")
  importFrom("stats", "glm", "lm", "poisson", "predict", "smooth.spline")
  importFrom("utils", "read.table")
to your NAMESPACE file.
* checking Rd files ... OK
* checking Rd metadata ... OK
* checking Rd cross-references ... OK
* checking for missing documentation entries ... OK
* checking for code/documentation mismatches ... OK
* checking Rd \usage sections ... OK
* checking Rd contents ... OK
* checking for unstated dependencies in examples ... OK
* checking contents of ‘data’ directory ... OK
* checking data for non-ASCII characters ... OK
* checking LazyData ... OK
* checking data for ASCII and uncompressed saves ... OK
* checking sizes of PDF files under ‘inst/doc’ ... OK
* checking files in ‘vignettes’ ... OK
* checking examples ... OK
Examples with CPU (user + system) or elapsed time > 5s
              user system elapsed
normalize   32.202  0.461  32.686
normalize2  27.902  0.388  28.304
getcoverage  9.741  0.467  10.374
* checking for unstated dependencies in vignettes ... OK
* checking package vignettes in ‘inst/doc’ ... OK
* checking running R code from vignettes ... SKIPPED
* checking re-building of vignette outputs ... SKIPPED
* checking PDF version of manual ... OK
* DONE

Status: 3 NOTEs
See
  ‘/Users/biocbuild/bbs-3.13-bioc/meat/CODEX.Rcheck/00check.log’
for details.



Installation output

CODEX.Rcheck/00install.out

##############################################################################
##############################################################################
###
### Running command:
###
###   /Library/Frameworks/R.framework/Versions/Current/Resources/bin/R CMD INSTALL CODEX
###
##############################################################################
##############################################################################


* installing to library ‘/Library/Frameworks/R.framework/Versions/4.1/Resources/library’
* installing *source* package ‘CODEX’ ...
** using staged installation
** R
** data
*** moving datasets to lazyload DB
** byte-compile and prepare package for lazy loading
** help
*** installing help indices
** building package indices
** installing vignettes
** testing if installed package can be loaded from temporary location
** testing if installed package can be loaded from final location
** testing if installed package keeps a record of temporary installation path
* DONE (CODEX)

Tests output


Example timings

CODEX.Rcheck/CODEX-Ex.timings

nameusersystemelapsed
bambedObjDemo0.0010.0010.002
choiceofK0.0430.0060.050
coverageObjDemo000
gcDemo0.0000.0000.001
getbambed0.0360.0050.043
getcoverage 9.741 0.46710.374
getgc1.1600.0591.220
getmapp0.0410.0040.045
mappDemo0.0000.0010.001
mapp_ref0.0160.0010.016
mappability0.0010.0010.001
normObjDemo0.0010.0010.000
normalize32.202 0.46132.686
normalize227.902 0.38828.304
qc0.0320.0020.034
qcObjDemo000
segment0.2290.0570.285