Back to Multiple platform build/check report for BioC 3.19:   simplified   long
AB[C]DEFGHIJKLMNOPQRSTUVWXYZ

This page was generated on 2024-03-04 11:39:01 -0500 (Mon, 04 Mar 2024).

HostnameOSArch (*)R versionInstalled pkgs
nebbiolo1Linux (Ubuntu 22.04.3 LTS)x86_64R Under development (unstable) (2024-01-16 r85808) -- "Unsuffered Consequences" 4676
palomino3Windows Server 2022 Datacenterx64R Under development (unstable) (2024-01-14 r85805 ucrt) -- "Unsuffered Consequences" 4414
merida1macOS 12.7.1 Montereyx86_64R Under development (unstable) (2024-01-16 r85808) -- "Unsuffered Consequences" 4441
kunpeng2Linux (openEuler 22.03 LTS-SP1)aarch64R Under development (unstable) (2024-01-16 r85812) -- "Unsuffered Consequences" 4417
Click on any hostname to see more info about the system (e.g. compilers)      (*) as reported by 'uname -p', except on Windows and Mac OS X

Package 395/2251HostnameOS / ArchINSTALLBUILDCHECKBUILD BIN
CNVrd2 1.41.0  (landing page)
Hoang Tan Nguyen
Snapshot Date: 2024-03-01 14:00:22 -0500 (Fri, 01 Mar 2024)
git_url: https://git.bioconductor.org/packages/CNVrd2
git_branch: devel
git_last_commit: 7a7ceef
git_last_commit_date: 2023-10-24 09:56:44 -0500 (Tue, 24 Oct 2023)
nebbiolo1Linux (Ubuntu 22.04.3 LTS) / x86_64  OK    OK    OK  UNNEEDED, same version is already published
palomino3Windows Server 2022 Datacenter / x64  OK    OK    OK    OK  UNNEEDED, same version is already published
merida1macOS 12.7.1 Monterey / x86_64  OK    OK    OK    OK  UNNEEDED, same version is already published
kunpeng2Linux (openEuler 22.03 LTS-SP1) / aarch64  OK    OK    OK  

CHECK results for CNVrd2 on merida1


To the developers/maintainers of the CNVrd2 package:
- Allow up to 24 hours (and sometimes 48 hours) for your latest push to git@git.bioconductor.org:packages/CNVrd2.git to reflect on this report. See Troubleshooting Build Report for more information.
- Use the following Renviron settings to reproduce errors and warnings.
- If 'R CMD check' started to fail recently on the Linux builder(s) over a missing dependency, add the missing dependency to 'Suggests:' in your DESCRIPTION file. See Renviron.bioc for more information.

raw results


Summary

Package: CNVrd2
Version: 1.41.0
Command: /Library/Frameworks/R.framework/Resources/bin/R CMD check --install=check:CNVrd2.install-out.txt --library=/Library/Frameworks/R.framework/Resources/library --no-vignettes --timings CNVrd2_1.41.0.tar.gz
StartedAt: 2024-03-02 01:56:06 -0500 (Sat, 02 Mar 2024)
EndedAt: 2024-03-02 02:02:55 -0500 (Sat, 02 Mar 2024)
EllapsedTime: 409.2 seconds
RetCode: 0
Status:   OK  
CheckDir: CNVrd2.Rcheck
Warnings: 0

Command output

##############################################################################
##############################################################################
###
### Running command:
###
###   /Library/Frameworks/R.framework/Resources/bin/R CMD check --install=check:CNVrd2.install-out.txt --library=/Library/Frameworks/R.framework/Resources/library --no-vignettes --timings CNVrd2_1.41.0.tar.gz
###
##############################################################################
##############################################################################


* using log directory ‘/Users/biocbuild/bbs-3.19-bioc/meat/CNVrd2.Rcheck’
* using R Under development (unstable) (2024-01-16 r85808)
* using platform: x86_64-apple-darwin20
* R was compiled by
    Apple clang version 14.0.0 (clang-1400.0.29.202)
    GNU Fortran (GCC) 12.2.0
* running under: macOS Monterey 12.7.1
* using session charset: UTF-8
* using option ‘--no-vignettes’
* checking for file ‘CNVrd2/DESCRIPTION’ ... OK
* checking extension type ... Package
* this is package ‘CNVrd2’ version ‘1.41.0’
* checking package namespace information ... OK
* checking package dependencies ... OK
* checking if this is a source package ... OK
* checking if there is a namespace ... OK
* checking for hidden files and directories ... OK
* checking for portable file names ... OK
* checking for sufficient/correct file permissions ... OK
* checking whether package ‘CNVrd2’ can be installed ... OK
* checking installed package size ... OK
* checking package directory ... OK
* checking ‘build’ directory ... OK
* checking DESCRIPTION meta-information ... NOTE
Malformed Title field: should not end in a period.
* checking top-level files ... OK
* checking for left-over files ... OK
* checking index information ... OK
* checking package subdirectories ... OK
* checking R files for non-ASCII characters ... OK
* checking R files for syntax errors ... OK
* checking whether the package can be loaded ... OK
* checking whether the package can be loaded with stated dependencies ... OK
* checking whether the package can be unloaded cleanly ... OK
* checking whether the namespace can be loaded with stated dependencies ... OK
* checking whether the namespace can be unloaded cleanly ... OK
* checking dependencies in R code ... NOTE
Namespaces in Imports field not imported from:
  ‘DNAcopy’ ‘Rsamtools’
  All declared Imports should be used.
Packages in Depends field not imported from:
  ‘VariantAnnotation’ ‘ggplot2’ ‘gridExtra’ ‘methods’ ‘parallel’
  ‘rjags’
  These packages need to be imported from (in the NAMESPACE file)
  for when this namespace is loaded but not attached.
* checking S3 generic/method consistency ... OK
* checking replacement functions ... OK
* checking foreign function calls ... OK
* checking R code for possible problems ... NOTE
groupCNVs,clusteringCNVs: warning in matrix(0, nr = length(x2), ncol =
  k - 2): partial argument match of 'nr' to 'nrow'
segmentSamples,CNVrd2: warning in matrix(0, nr = nnn, ncol =
  dim(genes)[2]): partial argument match of 'nr' to 'nrow'
calculateLDSNPandCNV: no visible global function definition for
  ‘TabixFile’
calculateLDSNPandCNV : readChunkVCF: no visible global function
  definition for ‘GRanges’
calculateLDSNPandCNV : readChunkVCF: no visible global function
  definition for ‘readVcf’
calculateLDSNPandCNV : readChunkVCF: no visible global function
  definition for ‘geno’
calculateLDSNPandCNV: no visible global function definition for
  ‘mclapply’
calculateLDSNPandCNV : calcPandR2 : LDandP: no visible global function
  definition for ‘fisher.test’
calculateLDSNPandCNV : calcPandR2 : LDandP: no visible global function
  definition for ‘chisq.test’
calculateLDSNPandCNV : calcPandR2: no visible global function
  definition for ‘p.adjust’
groupBayesianCNVs: no visible global function definition for
  ‘jags.model’
groupBayesianCNVs: no visible global function definition for ‘update’
groupBayesianCNVs: no visible global function definition for
  ‘coda.samples’
groupBayesianCNVs: no visible global function definition for ‘dnorm’
groupBayesianCNVs: no visible global function definition for ‘par’
groupBayesianCNVs: no visible global function definition for ‘hist’
countReadInWindow,CNVrd2: no visible global function definition for
  ‘readDNAStringSet’
countReadInWindow,CNVrd2 : countReadForBamFile: no visible global
  function definition for ‘write.table’
countReadInWindow,CNVrd2: no visible binding for global variable
  ‘objectCNVrd2’
countReadInWindow,CNVrd2: no visible global function definition for
  ‘ScanBamParam’
countReadInWindow,CNVrd2 : <anonymous>: no visible global function
  definition for ‘countBam’
countReadInWindow,CNVrd2 : gcContent: no visible global function
  definition for ‘unmasked’
countReadInWindow,CNVrd2 : gcContent: no visible binding for global
  variable ‘Hsapiens’
countReadInWindow,CNVrd2 : gcContent: no visible global function
  definition for ‘alphabetFrequency’
emnormalCNV,clusteringCNVs : loglk : <anonymous>: no visible global
  function definition for ‘dnorm’
emnormalCNV,clusteringCNVs : initialValues: no visible global function
  definition for ‘kmeans’
emnormalCNV,clusteringCNVs: no visible global function definition for
  ‘dnorm’
emnormalCNV,clusteringCNVs : <anonymous>: no visible global function
  definition for ‘dnorm’
groupCNVs,clusteringCNVs: no visible global function definition for
  ‘par’
groupCNVs,clusteringCNVs: no visible global function definition for
  ‘axis’
groupCNVs,clusteringCNVs: no visible global function definition for
  ‘abline’
groupCNVs,clusteringCNVs: no visible global function definition for
  ‘text’
groupCNVs,clusteringCNVs: no visible global function definition for
  ‘hist’
plotCNVrd2,CNVrd2: no visible global function definition for ‘rect’
plotCNVrd2,CNVrd2: no visible global function definition for ‘text’
plotCNVrd2,CNVrd2: no visible global function definition for ‘lines’
plotCNVrd2,CNVrd2: no visible global function definition for ‘abline’
plotPolymorphicRegion,CNVrd2: no visible global function definition for
  ‘ggplot’
plotPolymorphicRegion,CNVrd2: no visible global function definition for
  ‘geom_line’
plotPolymorphicRegion,CNVrd2: no visible global function definition for
  ‘aes’
plotPolymorphicRegion,CNVrd2: no visible binding for global variable
  ‘x1’
plotPolymorphicRegion,CNVrd2: no visible binding for global variable
  ‘x2’
plotPolymorphicRegion,CNVrd2: no visible binding for global variable
  ‘Quantile’
plotPolymorphicRegion,CNVrd2: no visible global function definition for
  ‘coord_cartesian’
plotPolymorphicRegion,CNVrd2: no visible global function definition for
  ‘theme’
plotPolymorphicRegion,CNVrd2: no visible global function definition for
  ‘ylab’
plotPolymorphicRegion,CNVrd2: no visible global function definition for
  ‘geom_rect’
plotPolymorphicRegion,CNVrd2: no visible binding for global variable
  ‘xmin’
plotPolymorphicRegion,CNVrd2: no visible binding for global variable
  ‘xmax’
plotPolymorphicRegion,CNVrd2: no visible binding for global variable
  ‘ymin’
plotPolymorphicRegion,CNVrd2: no visible binding for global variable
  ‘ymax’
plotPolymorphicRegion,CNVrd2: no visible global function definition for
  ‘geom_text’
plotPolymorphicRegion,CNVrd2: no visible binding for global variable
  ‘x’
plotPolymorphicRegion,CNVrd2: no visible binding for global variable
  ‘y’
plotPolymorphicRegion,CNVrd2: no visible binding for global variable
  ‘label’
plotPolymorphicRegion,CNVrd2: no visible global function definition for
  ‘grid.arrange’
segmentSamples,CNVrd2 : runFunction: no visible global function
  definition for ‘as’
segmentSamplesUsingPopInformation,CNVrd2: no visible global function
  definition for ‘fitted’
segmentSamplesUsingPopInformation,CNVrd2: no visible global function
  definition for ‘lm’
Undefined global functions or variables:
  GRanges Hsapiens Quantile ScanBamParam TabixFile abline aes
  alphabetFrequency as axis chisq.test coda.samples coord_cartesian
  countBam dnorm fisher.test fitted geno geom_line geom_rect geom_text
  ggplot grid.arrange hist jags.model kmeans label lines lm mclapply
  objectCNVrd2 p.adjust par readDNAStringSet readVcf rect text theme
  unmasked update write.table x x1 x2 xmax xmin y ylab ymax ymin
Consider adding
  importFrom("graphics", "abline", "axis", "hist", "lines", "par",
             "rect", "text")
  importFrom("methods", "as")
  importFrom("stats", "chisq.test", "dnorm", "fisher.test", "fitted",
             "kmeans", "lm", "p.adjust", "update")
  importFrom("utils", "write.table")
to your NAMESPACE file (and ensure that your DESCRIPTION Imports field
contains 'methods').
* checking Rd files ... OK
* checking Rd metadata ... OK
* checking Rd cross-references ... OK
* checking for missing documentation entries ... OK
* checking for code/documentation mismatches ... OK
* checking Rd \usage sections ... OK
* checking Rd contents ... OK
* checking for unstated dependencies in examples ... OK
* checking contents of ‘data’ directory ... OK
* checking data for non-ASCII characters ... OK
* checking data for ASCII and uncompressed saves ... OK
* checking sizes of PDF files under ‘inst/doc’ ... OK
* checking files in ‘vignettes’ ... OK
* checking examples ... OK
Examples with CPU (user + system) or elapsed time > 5s
                      user system elapsed
calculateLDSNPandCNV 7.304  0.672   9.856
* checking for unstated dependencies in vignettes ... OK
* checking package vignettes ... OK
* checking running R code from vignettes ... SKIPPED
* checking re-building of vignette outputs ... SKIPPED
* checking PDF version of manual ... OK
* DONE

Status: 3 NOTEs
See
  ‘/Users/biocbuild/bbs-3.19-bioc/meat/CNVrd2.Rcheck/00check.log’
for details.



Installation output

CNVrd2.Rcheck/00install.out

##############################################################################
##############################################################################
###
### Running command:
###
###   /Library/Frameworks/R.framework/Resources/bin/R CMD INSTALL CNVrd2
###
##############################################################################
##############################################################################


* installing to library ‘/Library/Frameworks/R.framework/Versions/4.4-x86_64/Resources/library’
* installing *source* package ‘CNVrd2’ ...
** using staged installation
** R
** data
** inst
** byte-compile and prepare package for lazy loading
** help
*** installing help indices
** building package indices
** installing vignettes
** testing if installed package can be loaded from temporary location
** testing if installed package can be loaded from final location
** testing if installed package keeps a record of temporary installation path
* DONE (CNVrd2)

Tests output


Example timings

CNVrd2.Rcheck/CNVrd2-Ex.timings

nameusersystemelapsed
CNVrd2-class0.0020.0020.003
calculateLDSNPandCNV7.3040.6729.856
clusteringCNVs-class0.0010.0010.003
countReadInWindow-methods0.0000.0010.001
countReadInWindow0.0010.0010.001
emnormalCNV0.2050.0090.260
groupBayesianCNVs0.0010.0030.004
groupCNVs0.5140.0120.633
identifyPolymorphicRegion0.0010.0000.001
plotCNVrd20.1600.0130.219
plotPolymorphicRegion0.0000.0010.001
segmentSamples0.0080.0060.022