Back to Multiple platform build/check report for BioC 3.13
AB[C]DEFGHIJKLMNOPQRSTUVWXYZ

This page was generated on 2021-07-23 15:05:59 -0400 (Fri, 23 Jul 2021).

BUILD BIN results for CNVfilteR on tokay2

To the developers/maintainers of the CNVfilteR package:
- Please allow up to 24 hours (and sometimes 48 hours) for your latest push to git@git.bioconductor.org:packages/CNVfilteR.git to
reflect on this report. See How and When does the builder pull? When will my changes propagate? here for more information.
- Make sure to use the following settings in order to reproduce any error or warning you see on this page.

raw results

Package 348/2041HostnameOS / ArchINSTALLBUILDCHECKBUILD BIN
CNVfilteR 1.6.1  (landing page)
Jose Marcos Moreno-Cabrera
Snapshot Date: 2021-07-22 04:50:13 -0400 (Thu, 22 Jul 2021)
URL: https://git.bioconductor.org/packages/CNVfilteR
Branch: RELEASE_3_13
Last Commit: d952aff
Last Changed Date: 2021-06-25 10:47:56 -0400 (Fri, 25 Jun 2021)
nebbiolo1Linux (Ubuntu 20.04.2 LTS) / x86_64  OK    OK    OK  UNNEEDED, same version is already published
tokay2Windows Server 2012 R2 Standard / x64  OK    OK    OK    OK  UNNEEDED, same version is already published
machv2macOS 10.14.6 Mojave / x86_64  OK    OK    OK    OK  UNNEEDED, same version is already published

Summary

Package: CNVfilteR
Version: 1.6.1
Command: rm -rf CNVfilteR.buildbin-libdir && mkdir CNVfilteR.buildbin-libdir && C:\Users\biocbuild\bbs-3.13-bioc\R\bin\R.exe CMD INSTALL --merge-multiarch --build --library=CNVfilteR.buildbin-libdir CNVfilteR_1.6.1.tar.gz
StartedAt: 2021-07-23 08:57:16 -0400 (Fri, 23 Jul 2021)
EndedAt: 2021-07-23 08:58:28 -0400 (Fri, 23 Jul 2021)
EllapsedTime: 72.0 seconds
RetCode: 0
Status:   OK  
PackageFile: CNVfilteR_1.6.1.zip
PackageFileSize: 633.1 KiB

Command output

##############################################################################
##############################################################################
###
### Running command:
###
###   rm -rf CNVfilteR.buildbin-libdir && mkdir CNVfilteR.buildbin-libdir && C:\Users\biocbuild\bbs-3.13-bioc\R\bin\R.exe CMD INSTALL --merge-multiarch --build --library=CNVfilteR.buildbin-libdir CNVfilteR_1.6.1.tar.gz
###
##############################################################################
##############################################################################



install for i386

* installing *source* package 'CNVfilteR' ...
** using staged installation
** R
** inst
** byte-compile and prepare package for lazy loading
** help
*** installing help indices
  converting help for package 'CNVfilteR'
    finding HTML links ... done
    auxAddCNcolumn                          html  
    auxGetVcfSource                         html  
    auxProcessVariants                      html  
    filterCNVs                              html  
    getVariantScore                         html  
    loadCNVcalls                            html  
    loadSNPsFromVCF                         html  
    loadVCFs                                html  
    plotAllCNVs                             html  
    plotScoringModel                        html  
    plotVariantsForCNV                      html  
** building package indices
** installing vignettes
** testing if installed package can be loaded from temporary location
** testing if installed package can be loaded from final location
** testing if installed package keeps a record of temporary installation path

install for x64

* installing *source* package 'CNVfilteR' ...
** testing if installed package can be loaded
* MD5 sums
packaged installation of 'CNVfilteR' as CNVfilteR_1.6.1.zip
* DONE (CNVfilteR)