Back to Multiple platform build/check report for BioC 3.13
AB[C]DEFGHIJKLMNOPQRSTUVWXYZ

This page was generated on 2021-07-23 15:05:36 -0400 (Fri, 23 Jul 2021).

BUILD results for CNVfilteR on nebbiolo1

To the developers/maintainers of the CNVfilteR package:
- Please allow up to 24 hours (and sometimes 48 hours) for your latest push to git@git.bioconductor.org:packages/CNVfilteR.git to
reflect on this report. See How and When does the builder pull? When will my changes propagate? here for more information.
- Make sure to use the following settings in order to reproduce any error or warning you see on this page.

raw results

Package 348/2041HostnameOS / ArchINSTALLBUILDCHECKBUILD BIN
CNVfilteR 1.6.1  (landing page)
Jose Marcos Moreno-Cabrera
Snapshot Date: 2021-07-22 04:50:13 -0400 (Thu, 22 Jul 2021)
URL: https://git.bioconductor.org/packages/CNVfilteR
Branch: RELEASE_3_13
Last Commit: d952aff
Last Changed Date: 2021-06-25 10:47:56 -0400 (Fri, 25 Jun 2021)
nebbiolo1Linux (Ubuntu 20.04.2 LTS) / x86_64  OK    OK    OK  UNNEEDED, same version is already published
tokay2Windows Server 2012 R2 Standard / x64  OK    OK    OK    OK  UNNEEDED, same version is already published
machv2macOS 10.14.6 Mojave / x86_64  OK    OK    OK    OK  UNNEEDED, same version is already published

Summary

Package: CNVfilteR
Version: 1.6.1
Command: /home/biocbuild/bbs-3.13-bioc/R/bin/R CMD build --keep-empty-dirs --no-resave-data CNVfilteR
StartedAt: 2021-07-22 06:57:14 -0400 (Thu, 22 Jul 2021)
EndedAt: 2021-07-22 06:58:34 -0400 (Thu, 22 Jul 2021)
EllapsedTime: 79.1 seconds
RetCode: 0
Status:   OK  
PackageFile: CNVfilteR_1.6.1.tar.gz
PackageFileSize: 940.8 KiB

Command output

##############################################################################
##############################################################################
###
### Running command:
###
###   /home/biocbuild/bbs-3.13-bioc/R/bin/R CMD build --keep-empty-dirs --no-resave-data CNVfilteR
###
##############################################################################
##############################################################################


* checking for file ‘CNVfilteR/DESCRIPTION’ ... OK
* preparing ‘CNVfilteR’:
* checking DESCRIPTION meta-information ... OK
* installing the package to build vignettes
* creating vignettes ... OK
* checking for LF line-endings in source and make files and shell scripts
* checking for empty or unneeded directories
* building ‘CNVfilteR_1.6.1.tar.gz’