Back to Multiple platform build/check report for BioC 3.13
AB[C]DEFGHIJKLMNOPQRSTUVWXYZ

This page was generated on 2021-09-17 15:06:01 -0400 (Fri, 17 Sep 2021).

INSTALL results for CNORfuzzy on tokay2

To the developers/maintainers of the CNORfuzzy package:
- Please allow up to 24 hours (and sometimes 48 hours) for your latest push to git@git.bioconductor.org:packages/CNORfuzzy.git to
reflect on this report. See How and When does the builder pull? When will my changes propagate? here for more information.
- Make sure to use the following settings in order to reproduce any error or warning you see on this page.

raw results

Package 345/2041HostnameOS / ArchINSTALLBUILDCHECKBUILD BIN
CNORfuzzy 1.34.0  (landing page)
T. Cokelaer
Snapshot Date: 2021-09-16 04:50:11 -0400 (Thu, 16 Sep 2021)
git_url: https://git.bioconductor.org/packages/CNORfuzzy
git_branch: RELEASE_3_13
git_last_commit: 0e3dc04
git_last_commit_date: 2021-05-19 11:53:34 -0400 (Wed, 19 May 2021)
nebbiolo1Linux (Ubuntu 20.04.2 LTS) / x86_64  OK    OK    OK  UNNEEDED, same version is already published
tokay2Windows Server 2012 R2 Standard / x64  OK    OK    OK    OK  UNNEEDED, same version is already published
machv2macOS 10.14.6 Mojave / x86_64  OK    OK    OK    OK  UNNEEDED, same version is already published

Summary

Package: CNORfuzzy
Version: 1.34.0
Command: C:\cygwin\bin\curl.exe -O http://155.52.207.165/BBS/3.13/bioc/src/contrib/CNORfuzzy_1.34.0.tar.gz && rm -rf CNORfuzzy.buildbin-libdir && mkdir CNORfuzzy.buildbin-libdir && C:\Users\biocbuild\bbs-3.13-bioc\R\bin\R.exe CMD INSTALL --merge-multiarch --build --library=CNORfuzzy.buildbin-libdir CNORfuzzy_1.34.0.tar.gz && C:\Users\biocbuild\bbs-3.13-bioc\R\bin\R.exe CMD INSTALL CNORfuzzy_1.34.0.zip && rm CNORfuzzy_1.34.0.tar.gz CNORfuzzy_1.34.0.zip
StartedAt: 2021-09-16 08:22:06 -0400 (Thu, 16 Sep 2021)
EndedAt: 2021-09-16 08:23:04 -0400 (Thu, 16 Sep 2021)
EllapsedTime: 57.9 seconds
RetCode: 0
Status:   OK  

Command output

##############################################################################
##############################################################################
###
### Running command:
###
###   C:\cygwin\bin\curl.exe -O http://155.52.207.165/BBS/3.13/bioc/src/contrib/CNORfuzzy_1.34.0.tar.gz && rm -rf CNORfuzzy.buildbin-libdir && mkdir CNORfuzzy.buildbin-libdir && C:\Users\biocbuild\bbs-3.13-bioc\R\bin\R.exe CMD INSTALL --merge-multiarch --build --library=CNORfuzzy.buildbin-libdir CNORfuzzy_1.34.0.tar.gz && C:\Users\biocbuild\bbs-3.13-bioc\R\bin\R.exe CMD INSTALL CNORfuzzy_1.34.0.zip && rm CNORfuzzy_1.34.0.tar.gz CNORfuzzy_1.34.0.zip
###
##############################################################################
##############################################################################


  % Total    % Received % Xferd  Average Speed   Time    Time     Time  Current
                                 Dload  Upload   Total   Spent    Left  Speed

  0     0    0     0    0     0      0      0 --:--:-- --:--:-- --:--:--     0
  0     0    0     0    0     0      0      0 --:--:-- --:--:-- --:--:--     0
100  411k  100  411k    0     0  1208k      0 --:--:-- --:--:-- --:--:-- 1210k

install for i386

* installing *source* package 'CNORfuzzy' ...
** using staged installation
** libs
"C:/rtools40/mingw32/bin/"gcc  -I"C:/Users/BIOCBU~1/BBS-3~1.13-/R/include" -DNDEBUG     -I"c:/extsoft/include"     -O2 -Wall  -std=gnu99 -mfpmath=sse -msse2 -mstackrealign  -c simulatorT1.c -o simulatorT1.o
C:/rtools40/mingw32/bin/gcc -shared -s -static-libgcc -o CNORfuzzy.dll tmp.def simulatorT1.o -Lc:/extsoft/lib/i386 -Lc:/extsoft/lib -LC:/Users/BIOCBU~1/BBS-3~1.13-/R/bin/i386 -lR
installing to C:/Users/biocbuild/bbs-3.13-bioc/meat/CNORfuzzy.buildbin-libdir/00LOCK-CNORfuzzy/00new/CNORfuzzy/libs/i386
** R
** inst
** byte-compile and prepare package for lazy loading
** help
*** installing help indices
  converting help for package 'CNORfuzzy'
    finding HTML links ... done
    CNORfuzzy-package                       html  
    finding level-2 HTML links ... done

    CNORwrapFuzzy                           html  
    compileMultiRes                         html  
    computeScoreFuzzy                       html  
    defaultParametersFuzzy                  html  
    gaDiscreteT1                            html  
    getRefinedModel                         html  
    interpretDiscreteGA                     html  
    plotMeanFuzzyFit                        html  
    prep4simFuzzy                           html  
    reduceFuzzy                             html  
    simFuzzyT1                              html  
    writeFuzzyNetwork                       html  
** building package indices
** installing vignettes
** testing if installed package can be loaded from temporary location
** testing if installed package can be loaded from final location
** testing if installed package keeps a record of temporary installation path

install for x64

* installing *source* package 'CNORfuzzy' ...
** libs
"C:/rtools40/mingw64/bin/"gcc  -I"C:/Users/BIOCBU~1/BBS-3~1.13-/R/include" -DNDEBUG     -I"C:/extsoft/include"     -O2 -Wall  -std=gnu99 -mfpmath=sse -msse2 -mstackrealign  -c simulatorT1.c -o simulatorT1.o
C:/rtools40/mingw64/bin/gcc -shared -s -static-libgcc -o CNORfuzzy.dll tmp.def simulatorT1.o -LC:/extsoft/lib/x64 -LC:/extsoft/lib -LC:/Users/BIOCBU~1/BBS-3~1.13-/R/bin/x64 -lR
installing to C:/Users/biocbuild/bbs-3.13-bioc/meat/CNORfuzzy.buildbin-libdir/CNORfuzzy/libs/x64
** testing if installed package can be loaded
* MD5 sums
packaged installation of 'CNORfuzzy' as CNORfuzzy_1.34.0.zip
* DONE (CNORfuzzy)
* installing to library 'C:/Users/biocbuild/bbs-3.13-bioc/R/library'
package 'CNORfuzzy' successfully unpacked and MD5 sums checked