Back to Multiple platform build/check report for BioC 3.14
AB[C]DEFGHIJKLMNOPQRSTUVWXYZ

This page was generated on 2021-11-26 15:05:45 -0500 (Fri, 26 Nov 2021).

INSTALL results for CNORfuzzy on machv2

To the developers/maintainers of the CNORfuzzy package:
- Please allow up to 24 hours (and sometimes 48 hours) for your latest push to git@git.bioconductor.org:packages/CNORfuzzy.git to
reflect on this report. See How and When does the builder pull? When will my changes propagate? here for more information.
- Make sure to use the following settings in order to reproduce any error or warning you see on this page.

raw results

Package 353/2083HostnameOS / ArchINSTALLBUILDCHECKBUILD BIN
CNORfuzzy 1.36.0  (landing page)
T. Cokelaer
Snapshot Date: 2021-11-25 04:15:05 -0500 (Thu, 25 Nov 2021)
git_url: https://git.bioconductor.org/packages/CNORfuzzy
git_branch: RELEASE_3_14
git_last_commit: d6315a5
git_last_commit_date: 2021-10-26 12:04:17 -0500 (Tue, 26 Oct 2021)
nebbiolo2Linux (Ubuntu 20.04.3 LTS) / x86_64  OK    OK    OK  UNNEEDED, same version is already published
tokay2Windows Server 2012 R2 Standard / x64  OK    OK    OK    OK  UNNEEDED, same version is already published
machv2macOS 10.14.6 Mojave / x86_64  OK    OK    OK    OK  UNNEEDED, same version is already published

Summary

Package: CNORfuzzy
Version: 1.36.0
Command: /Library/Frameworks/R.framework/Resources/bin/R CMD INSTALL CNORfuzzy
StartedAt: 2021-11-25 06:00:05 -0500 (Thu, 25 Nov 2021)
EndedAt: 2021-11-25 06:01:00 -0500 (Thu, 25 Nov 2021)
EllapsedTime: 55.4 seconds
RetCode: 0
Status:   OK  

Command output

##############################################################################
##############################################################################
###
### Running command:
###
###   /Library/Frameworks/R.framework/Resources/bin/R CMD INSTALL CNORfuzzy
###
##############################################################################
##############################################################################


* installing to library ‘/Library/Frameworks/R.framework/Versions/4.1/Resources/library’
* installing *source* package ‘CNORfuzzy’ ...
** using staged installation
** libs
clang -mmacosx-version-min=10.13 -I"/Library/Frameworks/R.framework/Resources/include" -DNDEBUG   -I/usr/local/include   -fPIC  -Wall -g -O2  -c simulatorT1.c -o simulatorT1.o
simulatorT1.c:320:28: warning: equality comparison with extraneous parentheses [-Wparentheses-equality]
            if((track_cond == nCond)) {
                ~~~~~~~~~~~^~~~~~~~
simulatorT1.c:320:28: note: remove extraneous parentheses around the comparison to silence this warning
            if((track_cond == nCond)) {
               ~           ^       ~
simulatorT1.c:320:28: note: use '=' to turn this equality comparison into an assignment
            if((track_cond == nCond)) {
                           ^~
                           =
1 warning generated.
clang -mmacosx-version-min=10.13 -dynamiclib -Wl,-headerpad_max_install_names -undefined dynamic_lookup -single_module -multiply_defined suppress -L/Library/Frameworks/R.framework/Resources/lib -L/usr/local/lib -o CNORfuzzy.so simulatorT1.o -F/Library/Frameworks/R.framework/.. -framework R -Wl,-framework -Wl,CoreFoundation
installing to /Library/Frameworks/R.framework/Versions/4.1/Resources/library/00LOCK-CNORfuzzy/00new/CNORfuzzy/libs
** R
** inst
** byte-compile and prepare package for lazy loading
** help
*** installing help indices
** building package indices
** installing vignettes
** testing if installed package can be loaded from temporary location
** checking absolute paths in shared objects and dynamic libraries
** testing if installed package can be loaded from final location
** testing if installed package keeps a record of temporary installation path
* DONE (CNORfuzzy)