Back to Multiple platform build/check report for BioC 3.13
AB[C]DEFGHIJKLMNOPQRSTUVWXYZ

This page was generated on 2021-09-17 15:06:01 -0400 (Fri, 17 Sep 2021).

CHECK results for CNORdt on tokay2

To the developers/maintainers of the CNORdt package:
- Please allow up to 24 hours (and sometimes 48 hours) for your latest push to git@git.bioconductor.org:packages/CNORdt.git to
reflect on this report. See How and When does the builder pull? When will my changes propagate? here for more information.
- Make sure to use the following settings in order to reproduce any error or warning you see on this page.

raw results

Package 343/2041HostnameOS / ArchINSTALLBUILDCHECKBUILD BIN
CNORdt 1.34.0  (landing page)
A. MacNamara
Snapshot Date: 2021-09-16 04:50:11 -0400 (Thu, 16 Sep 2021)
git_url: https://git.bioconductor.org/packages/CNORdt
git_branch: RELEASE_3_13
git_last_commit: 2fc1fa3
git_last_commit_date: 2021-05-19 11:54:09 -0400 (Wed, 19 May 2021)
nebbiolo1Linux (Ubuntu 20.04.2 LTS) / x86_64  OK    OK    OK  UNNEEDED, same version is already published
tokay2Windows Server 2012 R2 Standard / x64  OK    OK    OK    OK  UNNEEDED, same version is already published
machv2macOS 10.14.6 Mojave / x86_64  OK    OK    OK    OK  UNNEEDED, same version is already published

Summary

Package: CNORdt
Version: 1.34.0
Command: C:\Users\biocbuild\bbs-3.13-bioc\R\bin\R.exe CMD check --force-multiarch --install=check:CNORdt.install-out.txt --library=C:\Users\biocbuild\bbs-3.13-bioc\R\library --no-vignettes --timings CNORdt_1.34.0.tar.gz
StartedAt: 2021-09-16 21:18:35 -0400 (Thu, 16 Sep 2021)
EndedAt: 2021-09-16 21:22:08 -0400 (Thu, 16 Sep 2021)
EllapsedTime: 212.7 seconds
RetCode: 0
Status:   OK  
CheckDir: CNORdt.Rcheck
Warnings: 0

Command output

##############################################################################
##############################################################################
###
### Running command:
###
###   C:\Users\biocbuild\bbs-3.13-bioc\R\bin\R.exe CMD check --force-multiarch --install=check:CNORdt.install-out.txt --library=C:\Users\biocbuild\bbs-3.13-bioc\R\library --no-vignettes --timings CNORdt_1.34.0.tar.gz
###
##############################################################################
##############################################################################


* using log directory 'C:/Users/biocbuild/bbs-3.13-bioc/meat/CNORdt.Rcheck'
* using R version 4.1.1 (2021-08-10)
* using platform: x86_64-w64-mingw32 (64-bit)
* using session charset: ISO8859-1
* using option '--no-vignettes'
* checking for file 'CNORdt/DESCRIPTION' ... OK
* checking extension type ... Package
* this is package 'CNORdt' version '1.34.0'
* checking package namespace information ... OK
* checking package dependencies ... OK
* checking if this is a source package ... OK
* checking if there is a namespace ... OK
* checking for hidden files and directories ... OK
* checking for portable file names ... OK
* checking whether package 'CNORdt' can be installed ... OK
* checking installed package size ... OK
* checking package directory ... OK
* checking 'build' directory ... OK
* checking DESCRIPTION meta-information ... OK
* checking top-level files ... OK
* checking for left-over files ... OK
* checking index information ... OK
* checking package subdirectories ... OK
* checking R files for non-ASCII characters ... OK
* checking R files for syntax errors ... OK
* loading checks for arch 'i386'
** checking whether the package can be loaded ... OK
** checking whether the package can be loaded with stated dependencies ... OK
** checking whether the package can be unloaded cleanly ... OK
** checking whether the namespace can be loaded with stated dependencies ... OK
** checking whether the namespace can be unloaded cleanly ... OK
* loading checks for arch 'x64'
** checking whether the package can be loaded ... OK
** checking whether the package can be loaded with stated dependencies ... OK
** checking whether the package can be unloaded cleanly ... OK
** checking whether the namespace can be loaded with stated dependencies ... OK
** checking whether the namespace can be unloaded cleanly ... OK
* checking dependencies in R code ... NOTE
Package in Depends field not imported from: 'abind'
  These packages need to be imported from (in the NAMESPACE file)
  for when this namespace is loaded but not attached.
* checking S3 generic/method consistency ... OK
* checking replacement functions ... OK
* checking foreign function calls ... OK
* checking R code for possible problems ... NOTE
gaBinaryDT: no visible global function definition for 'runif'
getFitDT: no visible global function definition for 'splinefun'
getFitDT: no visible global function definition for 'optim'
shift: no visible global function definition for 'tail'
shift: no visible global function definition for 'head'
Undefined global functions or variables:
  head optim runif splinefun tail
Consider adding
  importFrom("stats", "optim", "runif", "splinefun")
  importFrom("utils", "head", "tail")
to your NAMESPACE file.
* checking Rd files ... OK
* checking Rd metadata ... OK
* checking Rd cross-references ... OK
* checking for missing documentation entries ... OK
* checking for code/documentation mismatches ... OK
* checking Rd \usage sections ... OK
* checking Rd contents ... OK
* checking for unstated dependencies in examples ... OK
* checking contents of 'data' directory ... OK
* checking data for non-ASCII characters ... OK
* checking data for ASCII and uncompressed saves ... OK
* checking line endings in C/C++/Fortran sources/headers ... OK
* checking compiled code ... NOTE
Note: information on .o files for i386 is not available
Note: information on .o files for x64 is not available
File 'C:/Users/biocbuild/bbs-3.13-bioc/R/library/CNORdt/libs/i386/CNORdt.dll':
  Found 'abort', possibly from 'abort' (C), 'runtime' (Fortran)
File 'C:/Users/biocbuild/bbs-3.13-bioc/R/library/CNORdt/libs/x64/CNORdt.dll':
  Found 'abort', possibly from 'abort' (C), 'runtime' (Fortran)

Compiled code should not call entry points which might terminate R nor
write to stdout/stderr instead of to the console, nor use Fortran I/O
nor system RNGs. The detected symbols are linked into the code but
might come from libraries and not actually be called.

See 'Writing portable packages' in the 'Writing R Extensions' manual.
* checking files in 'vignettes' ... OK
* checking examples ...
** running examples for arch 'i386' ... OK
Examples with CPU (user + system) or elapsed time > 5s
                     user system elapsed
cutAndPlotResultsDT 30.68   0.01   30.70
gaBinaryDT          30.27   0.02   30.28
** running examples for arch 'x64' ... OK
Examples with CPU (user + system) or elapsed time > 5s
                     user system elapsed
cutAndPlotResultsDT 30.50   0.01   30.51
gaBinaryDT          30.34   0.02   30.36
* checking for unstated dependencies in vignettes ... OK
* checking package vignettes in 'inst/doc' ... OK
* checking running R code from vignettes ... SKIPPED
* checking re-building of vignette outputs ... SKIPPED
* checking PDF version of manual ... OK
* DONE

Status: 3 NOTEs
See
  'C:/Users/biocbuild/bbs-3.13-bioc/meat/CNORdt.Rcheck/00check.log'
for details.



Installation output

CNORdt.Rcheck/00install.out

##############################################################################
##############################################################################
###
### Running command:
###
###   C:\cygwin\bin\curl.exe -O http://155.52.207.165/BBS/3.13/bioc/src/contrib/CNORdt_1.34.0.tar.gz && rm -rf CNORdt.buildbin-libdir && mkdir CNORdt.buildbin-libdir && C:\Users\biocbuild\bbs-3.13-bioc\R\bin\R.exe CMD INSTALL --merge-multiarch --build --library=CNORdt.buildbin-libdir CNORdt_1.34.0.tar.gz && C:\Users\biocbuild\bbs-3.13-bioc\R\bin\R.exe CMD INSTALL CNORdt_1.34.0.zip && rm CNORdt_1.34.0.tar.gz CNORdt_1.34.0.zip
###
##############################################################################
##############################################################################


  % Total    % Received % Xferd  Average Speed   Time    Time     Time  Current
                                 Dload  Upload   Total   Spent    Left  Speed

  0     0    0     0    0     0      0      0 --:--:-- --:--:-- --:--:--     0
  0     0    0     0    0     0      0      0 --:--:-- --:--:-- --:--:--     0
100 70336  100 70336    0     0   443k      0 --:--:-- --:--:-- --:--:--  443k

install for i386

* installing *source* package 'CNORdt' ...
** using staged installation
** libs
"C:/rtools40/mingw32/bin/"gcc  -I"C:/Users/BIOCBU~1/BBS-3~1.13-/R/include" -DNDEBUG     -I"c:/extsoft/include"     -O2 -Wall  -std=gnu99 -mfpmath=sse -msse2 -mstackrealign  -c simulatorDT.c -o simulatorDT.o
simulatorDT.c: In function 'simulatorDT':
simulatorDT.c:55:6: warning: unused variable 'nTimes' [-Wunused-variable]
  int nTimes = INTEGER(nTimes_in)[0];
      ^~~~~~
simulatorDT.c:53:6: warning: unused variable 'nSignals' [-Wunused-variable]
  int nSignals = INTEGER(nSignals_in)[0];
      ^~~~~~~~
C:/rtools40/mingw32/bin/gcc -shared -s -static-libgcc -o CNORdt.dll tmp.def simulatorDT.o -Lc:/extsoft/lib/i386 -Lc:/extsoft/lib -LC:/Users/BIOCBU~1/BBS-3~1.13-/R/bin/i386 -lR
installing to C:/Users/biocbuild/bbs-3.13-bioc/meat/CNORdt.buildbin-libdir/00LOCK-CNORdt/00new/CNORdt/libs/i386
** R
** data
** inst
** byte-compile and prepare package for lazy loading
** help
*** installing help indices
  converting help for package 'CNORdt'
    finding HTML links ... done
    CNOlistPB                               html  
    computeScoreDT                          html  
    convert2array                           html  
    cutAndPlotResultsDT                     html  
    finding level-2 HTML links ... done

    gaBinaryDT                              html  
    getFitDT                                html  
    modelPB                                 html  
    simulatorDT                             html  
** building package indices
** installing vignettes
** testing if installed package can be loaded from temporary location
** testing if installed package can be loaded from final location
** testing if installed package keeps a record of temporary installation path

install for x64

* installing *source* package 'CNORdt' ...
** libs
"C:/rtools40/mingw64/bin/"gcc  -I"C:/Users/BIOCBU~1/BBS-3~1.13-/R/include" -DNDEBUG     -I"C:/extsoft/include"     -O2 -Wall  -std=gnu99 -mfpmath=sse -msse2 -mstackrealign  -c simulatorDT.c -o simulatorDT.o
simulatorDT.c: In function 'simulatorDT':
simulatorDT.c:55:6: warning: unused variable 'nTimes' [-Wunused-variable]
  int nTimes = INTEGER(nTimes_in)[0];
      ^~~~~~
simulatorDT.c:53:6: warning: unused variable 'nSignals' [-Wunused-variable]
  int nSignals = INTEGER(nSignals_in)[0];
      ^~~~~~~~
C:/rtools40/mingw64/bin/gcc -shared -s -static-libgcc -o CNORdt.dll tmp.def simulatorDT.o -LC:/extsoft/lib/x64 -LC:/extsoft/lib -LC:/Users/BIOCBU~1/BBS-3~1.13-/R/bin/x64 -lR
installing to C:/Users/biocbuild/bbs-3.13-bioc/meat/CNORdt.buildbin-libdir/CNORdt/libs/x64
** testing if installed package can be loaded
* MD5 sums
packaged installation of 'CNORdt' as CNORdt_1.34.0.zip
* DONE (CNORdt)
* installing to library 'C:/Users/biocbuild/bbs-3.13-bioc/R/library'
package 'CNORdt' successfully unpacked and MD5 sums checked

Tests output


Example timings

CNORdt.Rcheck/examples_i386/CNORdt-Ex.timings

nameusersystemelapsed
computeScoreDT0.110.000.11
convert2array0.010.000.02
cutAndPlotResultsDT30.68 0.0130.70
gaBinaryDT30.27 0.0230.28
getFitDT0.010.000.01
simulatorDT0.020.000.02

CNORdt.Rcheck/examples_x64/CNORdt-Ex.timings

nameusersystemelapsed
computeScoreDT0.080.000.08
convert2array0.020.000.01
cutAndPlotResultsDT30.50 0.0130.51
gaBinaryDT30.34 0.0230.36
getFitDT0.040.000.03
simulatorDT0.010.000.02