Back to Multiple platform build/check report for BioC 3.13
AB[C]DEFGHIJKLMNOPQRSTUVWXYZ

This page was generated on 2021-09-13 15:06:20 -0400 (Mon, 13 Sep 2021).

INSTALL results for CINdex on tokay2

To the developers/maintainers of the CINdex package:
- Please allow up to 24 hours (and sometimes 48 hours) for your latest push to git@git.bioconductor.org:packages/CINdex.git to
reflect on this report. See How and When does the builder pull? When will my changes propagate? here for more information.
- Make sure to use the following settings in order to reproduce any error or warning you see on this page.

raw results

Package 313/2041HostnameOS / ArchINSTALLBUILDCHECKBUILD BIN
CINdex 1.20.0  (landing page)
Yuriy Gusev
Snapshot Date: 2021-09-12 04:50:10 -0400 (Sun, 12 Sep 2021)
git_url: https://git.bioconductor.org/packages/CINdex
git_branch: RELEASE_3_13
git_last_commit: 9a99af4
git_last_commit_date: 2021-05-19 12:19:26 -0400 (Wed, 19 May 2021)
nebbiolo1Linux (Ubuntu 20.04.2 LTS) / x86_64  OK    OK    WARNINGS  UNNEEDED, same version is already published
tokay2Windows Server 2012 R2 Standard / x64  OK    OK    WARNINGS    OK  UNNEEDED, same version is already published
machv2macOS 10.14.6 Mojave / x86_64  OK    OK    WARNINGS    OK  UNNEEDED, same version is already published

Summary

Package: CINdex
Version: 1.20.0
Command: C:\cygwin\bin\curl.exe -O http://155.52.207.165/BBS/3.13/bioc/src/contrib/CINdex_1.20.0.tar.gz && rm -rf CINdex.buildbin-libdir && mkdir CINdex.buildbin-libdir && C:\Users\biocbuild\bbs-3.13-bioc\R\bin\R.exe CMD INSTALL --merge-multiarch --build --library=CINdex.buildbin-libdir CINdex_1.20.0.tar.gz && C:\Users\biocbuild\bbs-3.13-bioc\R\bin\R.exe CMD INSTALL CINdex_1.20.0.zip && rm CINdex_1.20.0.tar.gz CINdex_1.20.0.zip
StartedAt: 2021-09-12 08:00:59 -0400 (Sun, 12 Sep 2021)
EndedAt: 2021-09-12 08:02:19 -0400 (Sun, 12 Sep 2021)
EllapsedTime: 80.2 seconds
RetCode: 0
Status:   OK  

Command output

##############################################################################
##############################################################################
###
### Running command:
###
###   C:\cygwin\bin\curl.exe -O http://155.52.207.165/BBS/3.13/bioc/src/contrib/CINdex_1.20.0.tar.gz && rm -rf CINdex.buildbin-libdir && mkdir CINdex.buildbin-libdir && C:\Users\biocbuild\bbs-3.13-bioc\R\bin\R.exe CMD INSTALL --merge-multiarch --build --library=CINdex.buildbin-libdir CINdex_1.20.0.tar.gz && C:\Users\biocbuild\bbs-3.13-bioc\R\bin\R.exe CMD INSTALL CINdex_1.20.0.zip && rm CINdex_1.20.0.tar.gz CINdex_1.20.0.zip
###
##############################################################################
##############################################################################


  % Total    % Received % Xferd  Average Speed   Time    Time     Time  Current
                                 Dload  Upload   Total   Spent    Left  Speed

  0     0    0     0    0     0      0      0 --:--:-- --:--:-- --:--:--     0
 20 11.8M   20 2428k    0     0  3706k      0  0:00:03 --:--:--  0:00:03 3707k
 63 11.8M   63 7720k    0     0  4062k      0  0:00:02  0:00:01  0:00:01 4061k
 96 11.8M   96 11.4M    0     0  4399k      0  0:00:02  0:00:02 --:--:-- 4399k
100 11.8M  100 11.8M    0     0  4476k      0  0:00:02  0:00:02 --:--:-- 4476k

install for i386

* installing *source* package 'CINdex' ...
** using staged installation
** R
** data
*** moving datasets to lazyload DB
** inst
** byte-compile and prepare package for lazy loading
Warning: replacing previous import 'IRanges::windows' by 'grDevices::windows' when loading 'CINdex'
** help
*** installing help indices
  converting help for package 'CINdex'
    finding HTML links ... done
    clin.crc                                html  
    cnvgr.18.auto                           html  
    comp.heatmap                            html  
    cyto.cin4heatmap                        html  
    cytobands.cin                           html  
    extract.genes.in.cyto.regions           html  
    geneAnno                                html  
    grl.data                                html  
    hg18.ucsctrack                          html  
    run.cin.chr                             html  
    run.cin.cyto                            html  
    snpgr.18.auto                           html  
    ttest.cyto.cin.heatmap                  html  
** building package indices
** installing vignettes
** testing if installed package can be loaded from temporary location
Warning: replacing previous import 'IRanges::windows' by 'grDevices::windows' when loading 'CINdex'
** testing if installed package can be loaded from final location
Warning: replacing previous import 'IRanges::windows' by 'grDevices::windows' when loading 'CINdex'
** testing if installed package keeps a record of temporary installation path

install for x64

* installing *source* package 'CINdex' ...
** testing if installed package can be loaded
Warning: replacing previous import 'IRanges::windows' by 'grDevices::windows' when loading 'CINdex'
* MD5 sums
packaged installation of 'CINdex' as CINdex_1.20.0.zip
* DONE (CINdex)
* installing to library 'C:/Users/biocbuild/bbs-3.13-bioc/R/library'
package 'CINdex' successfully unpacked and MD5 sums checked