Back to Multiple platform build/check report for BioC 3.13
AB[C]DEFGHIJKLMNOPQRSTUVWXYZ

This page was generated on 2021-07-30 15:05:48 -0400 (Fri, 30 Jul 2021).

BUILD BIN results for CHRONOS on tokay2

To the developers/maintainers of the CHRONOS package:
- Please allow up to 24 hours (and sometimes 48 hours) for your latest push to git@git.bioconductor.org:packages/CHRONOS.git to
reflect on this report. See How and When does the builder pull? When will my changes propagate? here for more information.
- Make sure to use the following settings in order to reproduce any error or warning you see on this page.

raw results

Package 310/2041HostnameOS / ArchINSTALLBUILDCHECKBUILD BIN
CHRONOS 1.20.0  (landing page)
Panos Balomenos
Snapshot Date: 2021-07-29 04:50:02 -0400 (Thu, 29 Jul 2021)
URL: https://git.bioconductor.org/packages/CHRONOS
Branch: RELEASE_3_13
Last Commit: 696cc6f
Last Changed Date: 2021-05-19 12:20:19 -0400 (Wed, 19 May 2021)
nebbiolo1Linux (Ubuntu 20.04.2 LTS) / x86_64  OK    OK    OK  UNNEEDED, same version is already published
tokay2Windows Server 2012 R2 Standard / x64  OK    OK    OK    OK  UNNEEDED, same version is already published
machv2macOS 10.14.6 Mojave / x86_64  OK    OK    OK    OK  UNNEEDED, same version is already published

Summary

Package: CHRONOS
Version: 1.20.0
Command: rm -rf CHRONOS.buildbin-libdir && mkdir CHRONOS.buildbin-libdir && C:\Users\biocbuild\bbs-3.13-bioc\R\bin\R.exe --arch x64 CMD INSTALL --no-multiarch --build --library=CHRONOS.buildbin-libdir CHRONOS_1.20.0.tar.gz
StartedAt: 2021-07-30 08:48:38 -0400 (Fri, 30 Jul 2021)
EndedAt: 2021-07-30 08:49:23 -0400 (Fri, 30 Jul 2021)
EllapsedTime: 45.6 seconds
RetCode: 0
Status:   OK  
PackageFile: CHRONOS_1.20.0.zip
PackageFileSize: 1.327 MiB

Command output

##############################################################################
##############################################################################
###
### Running command:
###
###   rm -rf CHRONOS.buildbin-libdir && mkdir CHRONOS.buildbin-libdir && C:\Users\biocbuild\bbs-3.13-bioc\R\bin\R.exe --arch x64 CMD INSTALL --no-multiarch --build --library=CHRONOS.buildbin-libdir CHRONOS_1.20.0.tar.gz
###
##############################################################################
##############################################################################


* installing *source* package 'CHRONOS' ...
** using staged installation
** R
** inst
** byte-compile and prepare package for lazy loading
** help
*** installing help indices
  converting help for package 'CHRONOS'
    finding HTML links ... done
    CHRONOSrun                              html  
    convertMiRNANomenclature                html  
    convertNomenclature                     html  
    createPathwayGraphs                     html  
    downloadKEGGPathwayList                 html  
    downloadMiRecords                       html  
    downloadPathways                        html  
    extractLinearSubpathways                html  
    extractNonLinearSubpathways             html  
    getEdgeTypes                            html  
    importExpressions                       html  
    pathwayMeasures                         html  
    scoreSubpathways                        html  
    subpathwayKEGGmap                       html  
    subpathwayMiRNAs                        html  
    visualizeResults                        html  
** building package indices
** installing vignettes
** testing if installed package can be loaded from temporary location
** testing if installed package can be loaded from final location
** testing if installed package keeps a record of temporary installation path
* MD5 sums
packaged installation of 'CHRONOS' as CHRONOS_1.20.0.zip
* DONE (CHRONOS)