Back to Multiple platform build/check report for BioC 3.13
AB[C]DEFGHIJKLMNOPQRSTUVWXYZ

This page was generated on 2021-09-20 15:04:45 -0400 (Mon, 20 Sep 2021).

BUILD results for CATALYST on nebbiolo1

To the developers/maintainers of the CATALYST package:
- Please allow up to 24 hours (and sometimes 48 hours) for your latest push to git@git.bioconductor.org:packages/CATALYST.git to
reflect on this report. See How and When does the builder pull? When will my changes propagate? here for more information.
- Make sure to use the following settings in order to reproduce any error or warning you see on this page.

raw results

Package 244/2041HostnameOS / ArchINSTALLBUILDCHECKBUILD BIN
CATALYST 1.16.2  (landing page)
Helena L. Crowell
Snapshot Date: 2021-09-19 04:50:10 -0400 (Sun, 19 Sep 2021)
git_url: https://git.bioconductor.org/packages/CATALYST
git_branch: RELEASE_3_13
git_last_commit: 5e3b4f4
git_last_commit_date: 2021-07-13 04:40:41 -0400 (Tue, 13 Jul 2021)
nebbiolo1Linux (Ubuntu 20.04.2 LTS) / x86_64  OK    OK    OK  UNNEEDED, same version is already published
tokay2Windows Server 2012 R2 Standard / x64  OK    OK    OK    OK  UNNEEDED, same version is already published
machv2macOS 10.14.6 Mojave / x86_64  OK    OK    OK    OK  UNNEEDED, same version is already published

Summary

Package: CATALYST
Version: 1.16.2
Command: /home/biocbuild/bbs-3.13-bioc/R/bin/R CMD build --keep-empty-dirs --no-resave-data CATALYST
StartedAt: 2021-09-19 06:50:44 -0400 (Sun, 19 Sep 2021)
EndedAt: 2021-09-19 06:53:50 -0400 (Sun, 19 Sep 2021)
EllapsedTime: 186.7 seconds
RetCode: 0
Status:   OK  
PackageFile: CATALYST_1.16.2.tar.gz
PackageFileSize: 10.24 MiB

Command output

##############################################################################
##############################################################################
###
### Running command:
###
###   /home/biocbuild/bbs-3.13-bioc/R/bin/R CMD build --keep-empty-dirs --no-resave-data CATALYST
###
##############################################################################
##############################################################################


* checking for file ‘CATALYST/DESCRIPTION’ ... OK
* preparing ‘CATALYST’:
* checking DESCRIPTION meta-information ... OK
* installing the package to build vignettes
* creating vignettes ... OK
* checking for LF line-endings in source and make files and shell scripts
* checking for empty or unneeded directories
* building ‘CATALYST_1.16.2.tar.gz’