Back to Multiple platform build/check report for BioC 3.13
AB[C]DEFGHIJKLMNOPQRSTUVWXYZ

This page was generated on 2021-09-24 15:06:35 -0400 (Fri, 24 Sep 2021).

BUILD BIN results for CATALYST on machv2

To the developers/maintainers of the CATALYST package:
- Please allow up to 24 hours (and sometimes 48 hours) for your latest push to git@git.bioconductor.org:packages/CATALYST.git to
reflect on this report. See How and When does the builder pull? When will my changes propagate? here for more information.
- Make sure to use the following settings in order to reproduce any error or warning you see on this page.

raw results

Package 244/2041HostnameOS / ArchINSTALLBUILDCHECKBUILD BIN
CATALYST 1.16.2  (landing page)
Helena L. Crowell
Snapshot Date: 2021-09-23 04:50:12 -0400 (Thu, 23 Sep 2021)
git_url: https://git.bioconductor.org/packages/CATALYST
git_branch: RELEASE_3_13
git_last_commit: 5e3b4f4
git_last_commit_date: 2021-07-13 04:40:41 -0400 (Tue, 13 Jul 2021)
nebbiolo1Linux (Ubuntu 20.04.2 LTS) / x86_64  OK    OK    OK  UNNEEDED, same version is already published
tokay2Windows Server 2012 R2 Standard / x64  OK    OK    OK    OK  UNNEEDED, same version is already published
machv2macOS 10.14.6 Mojave / x86_64  OK    OK    OK    OK  UNNEEDED, same version is already published

Summary

Package: CATALYST
Version: 1.16.2
Command: rm -rf CATALYST.buildbin-libdir && mkdir CATALYST.buildbin-libdir && /Users/biocbuild/BBS/utils/build-universal.sh CATALYST_1.16.2.tar.gz /Library/Frameworks/R.framework/Versions/Current/Resources/bin/R CATALYST.buildbin-libdir
StartedAt: 2021-09-24 01:30:22 -0400 (Fri, 24 Sep 2021)
EndedAt: 2021-09-24 01:31:22 -0400 (Fri, 24 Sep 2021)
EllapsedTime: 59.9 seconds
RetCode: 0
Status:   OK  
PackageFile: CATALYST_1.16.2.tgz
PackageFileSize: 10.96 MiB

Command output

##############################################################################
##############################################################################
###
### Running command:
###
###   rm -rf CATALYST.buildbin-libdir && mkdir CATALYST.buildbin-libdir && /Users/biocbuild/BBS/utils/build-universal.sh CATALYST_1.16.2.tar.gz /Library/Frameworks/R.framework/Versions/Current/Resources/bin/R CATALYST.buildbin-libdir
###
##############################################################################
##############################################################################


>>>>>>> 
>>>>>>> INSTALLATION WITH 'R CMD INSTALL --preclean --no-multiarch --library=CATALYST.buildbin-libdir CATALYST_1.16.2.tar.gz'
>>>>>>> 

* installing *source* package ‘CATALYST’ ...
** using staged installation
** R
** data
*** moving datasets to lazyload DB
** inst
** byte-compile and prepare package for lazy loading
** help
*** installing help indices
** building package indices
** installing vignettes
** testing if installed package can be loaded from temporary location
** testing if installed package can be loaded from final location
** testing if installed package keeps a record of temporary installation path
* DONE (CATALYST)