Back to Multiple platform build/check report for BioC 3.13
AB[C]DEFGHIJKLMNOPQRSTUVWXYZ

This page was generated on 2021-07-21 15:05:16 -0400 (Wed, 21 Jul 2021).

INSTALL results for CAMERA on tokay2

To the developers/maintainers of the CAMERA package:
- Please allow up to 24 hours (and sometimes 48 hours) for your latest push to git@git.bioconductor.org:packages/CAMERA.git to
reflect on this report. See How and When does the builder pull? When will my changes propagate? here for more information.
- Make sure to use the following settings in order to reproduce any error or warning you see on this page.

raw results

Package 233/2041HostnameOS / ArchINSTALLBUILDCHECKBUILD BIN
CAMERA 1.48.0  (landing page)
Steffen Neumann
Snapshot Date: 2021-07-20 04:50:13 -0400 (Tue, 20 Jul 2021)
URL: https://git.bioconductor.org/packages/CAMERA
Branch: RELEASE_3_13
Last Commit: 5ad3135
Last Changed Date: 2021-05-19 11:42:44 -0400 (Wed, 19 May 2021)
nebbiolo1Linux (Ubuntu 20.04.2 LTS) / x86_64  OK    OK    OK  UNNEEDED, same version is already published
tokay2Windows Server 2012 R2 Standard / x64  OK    OK    OK    OK  UNNEEDED, same version is already published
machv2macOS 10.14.6 Mojave / x86_64  OK    OK    OK    OK  UNNEEDED, same version is already published

Summary

Package: CAMERA
Version: 1.48.0
Command: C:\cygwin\bin\curl.exe -O http://155.52.207.165/BBS/3.13/bioc/src/contrib/CAMERA_1.48.0.tar.gz && rm -rf CAMERA.buildbin-libdir && mkdir CAMERA.buildbin-libdir && C:\Users\biocbuild\bbs-3.13-bioc\R\bin\R.exe CMD INSTALL --merge-multiarch --build --library=CAMERA.buildbin-libdir CAMERA_1.48.0.tar.gz && C:\Users\biocbuild\bbs-3.13-bioc\R\bin\R.exe CMD INSTALL CAMERA_1.48.0.zip && rm CAMERA_1.48.0.tar.gz CAMERA_1.48.0.zip
StartedAt: 2021-07-20 09:26:57 -0400 (Tue, 20 Jul 2021)
EndedAt: 2021-07-20 09:28:53 -0400 (Tue, 20 Jul 2021)
EllapsedTime: 116.0 seconds
RetCode: 0
Status:   OK  

Command output

##############################################################################
##############################################################################
###
### Running command:
###
###   C:\cygwin\bin\curl.exe -O http://155.52.207.165/BBS/3.13/bioc/src/contrib/CAMERA_1.48.0.tar.gz && rm -rf CAMERA.buildbin-libdir && mkdir CAMERA.buildbin-libdir && C:\Users\biocbuild\bbs-3.13-bioc\R\bin\R.exe CMD INSTALL --merge-multiarch --build --library=CAMERA.buildbin-libdir CAMERA_1.48.0.tar.gz && C:\Users\biocbuild\bbs-3.13-bioc\R\bin\R.exe CMD INSTALL CAMERA_1.48.0.zip && rm CAMERA_1.48.0.tar.gz CAMERA_1.48.0.zip
###
##############################################################################
##############################################################################


  % Total    % Received % Xferd  Average Speed   Time    Time     Time  Current
                                 Dload  Upload   Total   Spent    Left  Speed

  0     0    0     0    0     0      0      0 --:--:-- --:--:-- --:--:--     0
 18 1800k   18  341k    0     0  1228k      0  0:00:01 --:--:--  0:00:01 1227k
100 1800k  100 1800k    0     0  1928k      0 --:--:-- --:--:-- --:--:-- 1927k

install for i386

* installing *source* package 'CAMERA' ...
** using staged installation
** libs
"C:/rtools40/mingw32/bin/"gcc  -I"C:/Users/BIOCBU~1/BBS-3~1.13-/R/include" -DNDEBUG     -I"C:/extsoft/include"     -O2 -Wall  -std=gnu99 -mfpmath=sse -msse2 -mstackrealign  -c fastMatch.c -o fastMatch.o
C:/rtools40/mingw32/bin/gcc -shared -s -static-libgcc -o CAMERA.dll tmp.def fastMatch.o -LC:/extsoft/lib/i386 -LC:/extsoft/lib -LC:/Users/BIOCBU~1/BBS-3~1.13-/R/bin/i386 -lR
installing to C:/Users/biocbuild/bbs-3.13-bioc/meat/CAMERA.buildbin-libdir/00LOCK-CAMERA/00new/CAMERA/libs/i386
** R
** data
** inst
** byte-compile and prepare package for lazy loading
** help
*** installing help indices
  converting help for package 'CAMERA'
    finding HTML links ... done
    annotate-methods                        html  
    annotateDiffreport                      html  
    finding level-2 HTML links ... done

    calcCaS-methods                         html  
    calcCiS-methods                         html  
    calcIsotopes-methods                    html  
    calcPC-methods                          html  
    calcPC.hcs-methods                      html  
    calcPC.lpc-methods                      html  
    cleanParallel                           html  
    combinexsAnnos                          html  
    compoundLibraries                       html  
    compoundQuantiles-class                 html  
    compoundQuantiles                       html  
    findAdducts-methods                     html  
    findIsotopes-methods                    html  
    findIsotopesWithValidation-methods      html  
    findKendrickMasses                      html  
    findNeutralLoss                         html  
    findNeutralLossSpecs                    html  
    getAllPeakEICs-methods                  html  
    getAtomCount-compoundQuantiles-method   html  
    getIsotopeCluster                       html  
    getIsotopeProportion-compoundQuantiles-method
                                            html  
    getPeaklist-methods                     html  
    getReducedPeaklist-methods              html  
    getpspectra                             html  
    groupCorr-methods                       html  
    groupDen-methods                        html  
    groupFWHM-methods                       html  
    massWindowSizes                         html  
    mm14                                    html  
    plotEIC.xsAnnotate                      html  
    plotPsSpectrum.xsAnnotate               html  
    psDist-methods                          html  
    pspec2metfrag                           html  
    ruleSet-class                           html  
REDIRECT:topic	 class:ruleSet -> ruleSet-class.html [ FAIL ]
    xsAnnotate-class                        html  
    xsAnnotate                              html  
** building package indices
** installing vignettes
** testing if installed package can be loaded from temporary location
** testing if installed package can be loaded from final location
** testing if installed package keeps a record of temporary installation path

install for x64

* installing *source* package 'CAMERA' ...
** libs
"C:/rtools40/mingw64/bin/"gcc  -I"C:/Users/BIOCBU~1/BBS-3~1.13-/R/include" -DNDEBUG     -I"C:/extsoft/include"     -O2 -Wall  -std=gnu99 -mfpmath=sse -msse2 -mstackrealign  -c fastMatch.c -o fastMatch.o
C:/rtools40/mingw64/bin/gcc -shared -s -static-libgcc -o CAMERA.dll tmp.def fastMatch.o -LC:/extsoft/lib/x64 -LC:/extsoft/lib -LC:/Users/BIOCBU~1/BBS-3~1.13-/R/bin/x64 -lR
installing to C:/Users/biocbuild/bbs-3.13-bioc/meat/CAMERA.buildbin-libdir/CAMERA/libs/x64
** testing if installed package can be loaded
* MD5 sums
packaged installation of 'CAMERA' as CAMERA_1.48.0.zip
* DONE (CAMERA)
* installing to library 'C:/Users/biocbuild/bbs-3.13-bioc/R/library'
package 'CAMERA' successfully unpacked and MD5 sums checked