Back to Multiple platform build/check report for BioC 3.13
AB[C]DEFGHIJKLMNOPQRSTUVWXYZ

This page was generated on 2021-07-23 15:05:09 -0400 (Fri, 23 Jul 2021).

All results for package CAMERA

To the developers/maintainers of the CAMERA package:
- Please allow up to 24 hours (and sometimes 48 hours) for your latest push to git@git.bioconductor.org:packages/CAMERA.git to
reflect on this report. See How and When does the builder pull? When will my changes propagate? here for more information.
- Make sure to use the following settings in order to reproduce any error or warning you see on this page.

raw results

Package 233/2041HostnameOS / ArchINSTALLBUILDCHECKBUILD BIN
CAMERA 1.48.0  (landing page)
Steffen Neumann
Snapshot Date: 2021-07-22 04:50:13 -0400 (Thu, 22 Jul 2021)
URL: https://git.bioconductor.org/packages/CAMERA
Branch: RELEASE_3_13
Last Commit: 5ad3135
Last Changed Date: 2021-05-19 11:42:44 -0400 (Wed, 19 May 2021)
nebbiolo1Linux (Ubuntu 20.04.2 LTS) / x86_64  OK    OK    OK  UNNEEDED, same version is already published
tokay2Windows Server 2012 R2 Standard / x64  OK    OK    OK    OK  UNNEEDED, same version is already published
machv2macOS 10.14.6 Mojave / x86_64  OK    OK    OK    OK  UNNEEDED, same version is already published

Results for Bioconductor software packages that depend directly on package CAMERA

QUICK STATSOS / ArchINSTALLBUILDCHECKBUILD BIN
nebbiolo1Linux (Ubuntu 20.04.2 LTS) / x86_64
005
005
0023
tokay2Windows Server 2012 R2 Standard / x64
005
005
0023
005
machv2macOS 10.14.6 Mojave / x86_64
005
005
0023
005
Package 1/5HostnameOS / ArchINSTALLBUILDCHECKBUILD BIN
flagme 1.48.0  (landing page)
Mark Robinson , Riccardo Romoli
Last Commit: 31bd595
Last Changed Date: 2021-05-19 11:42:23 -0400
nebbiolo1Linux (Ubuntu 20.04.2 LTS) / x86_64  OK    OK    WARNINGS  UNNEEDED, same version is already published
tokay2Windows Server 2012 R2 Standard / x64  OK    OK    WARNINGS    OK  UNNEEDED, same version is already published
machv2macOS 10.14.6 Mojave / x86_64  OK    OK    WARNINGS    OK  UNNEEDED, same version is already published
Package 2/5HostnameOS / ArchINSTALLBUILDCHECKBUILD BIN
IPO 1.18.0  (landing page)
Thomas Riebenbauer
Last Commit: f29adc9
Last Changed Date: 2021-05-19 12:22:15 -0400
nebbiolo1Linux (Ubuntu 20.04.2 LTS) / x86_64  OK    OK    OK  UNNEEDED, same version is already published
tokay2Windows Server 2012 R2 Standard / x64  OK    OK    OK    OK  UNNEEDED, same version is already published
machv2macOS 10.14.6 Mojave / x86_64  OK    OK    OK    OK  UNNEEDED, same version is already published
Package 3/5HostnameOS / ArchINSTALLBUILDCHECKBUILD BIN
LOBSTAHS 1.18.0  (landing page)
James Collins
Last Commit: 3b23292
Last Changed Date: 2021-05-19 12:21:39 -0400
nebbiolo1Linux (Ubuntu 20.04.2 LTS) / x86_64  OK    OK    WARNINGS  UNNEEDED, same version is already published
tokay2Windows Server 2012 R2 Standard / x64  OK    OK    WARNINGS    OK  UNNEEDED, same version is already published
machv2macOS 10.14.6 Mojave / x86_64  OK    OK    WARNINGS    OK  UNNEEDED, same version is already published
Package 4/5HostnameOS / ArchINSTALLBUILDCHECKBUILD BIN
MAIT 1.26.0  (landing page)
Pol Sola-Santos
Last Commit: 5d0e003
Last Changed Date: 2021-05-19 12:08:43 -0400
nebbiolo1Linux (Ubuntu 20.04.2 LTS) / x86_64  OK    OK    OK  UNNEEDED, same version is already published
tokay2Windows Server 2012 R2 Standard / x64  OK    OK    OK    OK  UNNEEDED, same version is already published
machv2macOS 10.14.6 Mojave / x86_64  OK    OK    OK    OK  UNNEEDED, same version is already published
Package 5/5HostnameOS / ArchINSTALLBUILDCHECKBUILD BIN
metaMS 1.28.0  (landing page)
Yann Guitton
Last Commit: 1f3d024
Last Changed Date: 2021-05-19 12:04:21 -0400
nebbiolo1Linux (Ubuntu 20.04.2 LTS) / x86_64  OK    OK    OK  UNNEEDED, same version is already published
tokay2Windows Server 2012 R2 Standard / x64  OK    OK    OK    OK  UNNEEDED, same version is already published
machv2macOS 10.14.6 Mojave / x86_64  OK    OK    OK    OK  UNNEEDED, same version is already published