Back to Multiple platform build/check report for BioC 3.13
AB[C]DEFGHIJKLMNOPQRSTUVWXYZ

This page was generated on 2021-09-24 15:05:40 -0400 (Fri, 24 Sep 2021).

BUILD results for CAGEfightR on nebbiolo1

To the developers/maintainers of the CAGEfightR package:
- Please allow up to 24 hours (and sometimes 48 hours) for your latest push to git@git.bioconductor.org:packages/CAGEfightR.git to
reflect on this report. See How and When does the builder pull? When will my changes propagate? here for more information.
- Make sure to use the following settings in order to reproduce any error or warning you see on this page.

raw results

Package 230/2041HostnameOS / ArchINSTALLBUILDCHECKBUILD BIN
CAGEfightR 1.12.0  (landing page)
Malte Thodberg
Snapshot Date: 2021-09-23 04:50:12 -0400 (Thu, 23 Sep 2021)
git_url: https://git.bioconductor.org/packages/CAGEfightR
git_branch: RELEASE_3_13
git_last_commit: f776ea4
git_last_commit_date: 2021-05-19 12:35:42 -0400 (Wed, 19 May 2021)
nebbiolo1Linux (Ubuntu 20.04.2 LTS) / x86_64  OK    OK    OK  UNNEEDED, same version is already published
tokay2Windows Server 2012 R2 Standard / x64  OK    OK    OK    OK  UNNEEDED, same version is already published
machv2macOS 10.14.6 Mojave / x86_64  OK    OK    OK    OK  UNNEEDED, same version is already published

Summary

Package: CAGEfightR
Version: 1.12.0
Command: /home/biocbuild/bbs-3.13-bioc/R/bin/R CMD build --keep-empty-dirs --no-resave-data CAGEfightR
StartedAt: 2021-09-23 06:49:57 -0400 (Thu, 23 Sep 2021)
EndedAt: 2021-09-23 06:53:10 -0400 (Thu, 23 Sep 2021)
EllapsedTime: 193.2 seconds
RetCode: 0
Status:   OK  
PackageFile: CAGEfightR_1.12.0.tar.gz
PackageFileSize: 2.659 MiB

Command output

##############################################################################
##############################################################################
###
### Running command:
###
###   /home/biocbuild/bbs-3.13-bioc/R/bin/R CMD build --keep-empty-dirs --no-resave-data CAGEfightR
###
##############################################################################
##############################################################################


* checking for file ‘CAGEfightR/DESCRIPTION’ ... OK
* preparing ‘CAGEfightR’:
* checking DESCRIPTION meta-information ... OK
* installing the package to build vignettes
* creating vignettes ... OK
* checking for LF line-endings in source and make files and shell scripts
* checking for empty or unneeded directories
* building ‘CAGEfightR_1.12.0.tar.gz’