Back to Multiple platform build/check report for BioC 3.13
A[B]CDEFGHIJKLMNOPQRSTUVWXYZ

This page was generated on 2021-09-20 15:05:07 -0400 (Mon, 20 Sep 2021).

INSTALL results for BumpyMatrix on tokay2

To the developers/maintainers of the BumpyMatrix package:
- Please allow up to 24 hours (and sometimes 48 hours) for your latest push to git@git.bioconductor.org:packages/BumpyMatrix.git to
reflect on this report. See How and When does the builder pull? When will my changes propagate? here for more information.
- Make sure to use the following settings in order to reproduce any error or warning you see on this page.

raw results

Package 224/2041HostnameOS / ArchINSTALLBUILDCHECKBUILD BIN
BumpyMatrix 1.0.1  (landing page)
Aaron Lun
Snapshot Date: 2021-09-19 04:50:10 -0400 (Sun, 19 Sep 2021)
git_url: https://git.bioconductor.org/packages/BumpyMatrix
git_branch: RELEASE_3_13
git_last_commit: 24a8f24
git_last_commit_date: 2021-07-03 14:08:26 -0400 (Sat, 03 Jul 2021)
nebbiolo1Linux (Ubuntu 20.04.2 LTS) / x86_64  OK    OK    OK  UNNEEDED, same version is already published
tokay2Windows Server 2012 R2 Standard / x64  OK    OK    OK    OK  UNNEEDED, same version is already published
machv2macOS 10.14.6 Mojave / x86_64  OK    OK    OK    OK  UNNEEDED, same version is already published

Summary

Package: BumpyMatrix
Version: 1.0.1
Command: C:\cygwin\bin\curl.exe -O http://155.52.207.165/BBS/3.13/bioc/src/contrib/BumpyMatrix_1.0.1.tar.gz && rm -rf BumpyMatrix.buildbin-libdir && mkdir BumpyMatrix.buildbin-libdir && C:\Users\biocbuild\bbs-3.13-bioc\R\bin\R.exe CMD INSTALL --merge-multiarch --build --library=BumpyMatrix.buildbin-libdir BumpyMatrix_1.0.1.tar.gz && C:\Users\biocbuild\bbs-3.13-bioc\R\bin\R.exe CMD INSTALL BumpyMatrix_1.0.1.zip && rm BumpyMatrix_1.0.1.tar.gz BumpyMatrix_1.0.1.zip
StartedAt: 2021-09-19 07:31:20 -0400 (Sun, 19 Sep 2021)
EndedAt: 2021-09-19 07:32:13 -0400 (Sun, 19 Sep 2021)
EllapsedTime: 52.7 seconds
RetCode: 0
Status:   OK  

Command output

##############################################################################
##############################################################################
###
### Running command:
###
###   C:\cygwin\bin\curl.exe -O http://155.52.207.165/BBS/3.13/bioc/src/contrib/BumpyMatrix_1.0.1.tar.gz && rm -rf BumpyMatrix.buildbin-libdir && mkdir BumpyMatrix.buildbin-libdir && C:\Users\biocbuild\bbs-3.13-bioc\R\bin\R.exe CMD INSTALL --merge-multiarch --build --library=BumpyMatrix.buildbin-libdir BumpyMatrix_1.0.1.tar.gz && C:\Users\biocbuild\bbs-3.13-bioc\R\bin\R.exe CMD INSTALL BumpyMatrix_1.0.1.zip && rm BumpyMatrix_1.0.1.tar.gz BumpyMatrix_1.0.1.zip
###
##############################################################################
##############################################################################


  % Total    % Received % Xferd  Average Speed   Time    Time     Time  Current
                                 Dload  Upload   Total   Spent    Left  Speed

  0     0    0     0    0     0      0      0 --:--:-- --:--:-- --:--:--     0
100 23556  100 23556    0     0  59745      0 --:--:-- --:--:-- --:--:-- 59786
100 23556  100 23556    0     0  59703      0 --:--:-- --:--:-- --:--:-- 59635

install for i386

* installing *source* package 'BumpyMatrix' ...
** using staged installation
** R
** byte-compile and prepare package for lazy loading
** help
*** installing help indices
  converting help for package 'BumpyMatrix'
    finding HTML links ... done
    BumpyAtomicMatrix                       html  
    BumpyDataFrameMatrix                    html  
    finding level-2 HTML links ... done

    BumpyMatrix                             html  
    splitAsBumpyMatrix                      html  
    unsplitAsDataFrame                      html  
** building package indices
** installing vignettes
** testing if installed package can be loaded from temporary location
** testing if installed package can be loaded from final location
** testing if installed package keeps a record of temporary installation path

install for x64

* installing *source* package 'BumpyMatrix' ...
** testing if installed package can be loaded
* MD5 sums
packaged installation of 'BumpyMatrix' as BumpyMatrix_1.0.1.zip
* DONE (BumpyMatrix)
* installing to library 'C:/Users/biocbuild/bbs-3.13-bioc/R/library'
package 'BumpyMatrix' successfully unpacked and MD5 sums checked