Back to Multiple platform build/check report for BioC 3.13
A[B]CDEFGHIJKLMNOPQRSTUVWXYZ

This page was generated on 2021-09-22 15:05:10 -0400 (Wed, 22 Sep 2021).

CHECK results for BumpyMatrix on tokay2

To the developers/maintainers of the BumpyMatrix package:
- Please allow up to 24 hours (and sometimes 48 hours) for your latest push to git@git.bioconductor.org:packages/BumpyMatrix.git to
reflect on this report. See How and When does the builder pull? When will my changes propagate? here for more information.
- Make sure to use the following settings in order to reproduce any error or warning you see on this page.

raw results

Package 224/2041HostnameOS / ArchINSTALLBUILDCHECKBUILD BIN
BumpyMatrix 1.0.1  (landing page)
Aaron Lun
Snapshot Date: 2021-09-21 04:50:12 -0400 (Tue, 21 Sep 2021)
git_url: https://git.bioconductor.org/packages/BumpyMatrix
git_branch: RELEASE_3_13
git_last_commit: 24a8f24
git_last_commit_date: 2021-07-03 14:08:26 -0400 (Sat, 03 Jul 2021)
nebbiolo1Linux (Ubuntu 20.04.2 LTS) / x86_64  OK    OK    OK  UNNEEDED, same version is already published
tokay2Windows Server 2012 R2 Standard / x64  OK    OK    OK    OK  UNNEEDED, same version is already published
machv2macOS 10.14.6 Mojave / x86_64  OK    OK    OK    OK  UNNEEDED, same version is already published

Summary

Package: BumpyMatrix
Version: 1.0.1
Command: C:\Users\biocbuild\bbs-3.13-bioc\R\bin\R.exe CMD check --force-multiarch --install=check:BumpyMatrix.install-out.txt --library=C:\Users\biocbuild\bbs-3.13-bioc\R\library --no-vignettes --timings BumpyMatrix_1.0.1.tar.gz
StartedAt: 2021-09-21 20:08:38 -0400 (Tue, 21 Sep 2021)
EndedAt: 2021-09-21 20:10:59 -0400 (Tue, 21 Sep 2021)
EllapsedTime: 141.6 seconds
RetCode: 0
Status:   OK  
CheckDir: BumpyMatrix.Rcheck
Warnings: 0

Command output

##############################################################################
##############################################################################
###
### Running command:
###
###   C:\Users\biocbuild\bbs-3.13-bioc\R\bin\R.exe CMD check --force-multiarch --install=check:BumpyMatrix.install-out.txt --library=C:\Users\biocbuild\bbs-3.13-bioc\R\library --no-vignettes --timings BumpyMatrix_1.0.1.tar.gz
###
##############################################################################
##############################################################################


* using log directory 'C:/Users/biocbuild/bbs-3.13-bioc/meat/BumpyMatrix.Rcheck'
* using R version 4.1.1 (2021-08-10)
* using platform: x86_64-w64-mingw32 (64-bit)
* using session charset: ISO8859-1
* using option '--no-vignettes'
* checking for file 'BumpyMatrix/DESCRIPTION' ... OK
* this is package 'BumpyMatrix' version '1.0.1'
* checking package namespace information ... OK
* checking package dependencies ... OK
* checking if this is a source package ... OK
* checking if there is a namespace ... OK
* checking for hidden files and directories ... OK
* checking for portable file names ... OK
* checking whether package 'BumpyMatrix' can be installed ... OK
* checking installed package size ... OK
* checking package directory ... OK
* checking 'build' directory ... OK
* checking DESCRIPTION meta-information ... OK
* checking top-level files ... OK
* checking for left-over files ... OK
* checking index information ... OK
* checking package subdirectories ... OK
* checking R files for non-ASCII characters ... OK
* checking R files for syntax errors ... OK
* loading checks for arch 'i386'
** checking whether the package can be loaded ... OK
** checking whether the package can be loaded with stated dependencies ... OK
** checking whether the package can be unloaded cleanly ... OK
** checking whether the namespace can be loaded with stated dependencies ... OK
** checking whether the namespace can be unloaded cleanly ... OK
* loading checks for arch 'x64'
** checking whether the package can be loaded ... OK
** checking whether the package can be loaded with stated dependencies ... OK
** checking whether the package can be unloaded cleanly ... OK
** checking whether the namespace can be loaded with stated dependencies ... OK
** checking whether the namespace can be unloaded cleanly ... OK
* checking dependencies in R code ... NOTE
Unexported object imported by a ':::' call: 'S4Vectors:::selectSome'
  See the note in ?`:::` about the use of this operator.
* checking S3 generic/method consistency ... OK
* checking replacement functions ... OK
* checking foreign function calls ... OK
* checking R code for possible problems ... OK
* checking Rd files ... OK
* checking Rd metadata ... OK
* checking Rd cross-references ... OK
* checking for missing documentation entries ... OK
* checking for code/documentation mismatches ... OK
* checking Rd \usage sections ... OK
* checking Rd contents ... OK
* checking for unstated dependencies in examples ... OK
* checking files in 'vignettes' ... OK
* checking examples ...
** running examples for arch 'i386' ... OK
** running examples for arch 'x64' ... OK
* checking for unstated dependencies in 'tests' ... OK
* checking tests ...
** running tests for arch 'i386' ...
  Running 'testthat.R'
 OK
** running tests for arch 'x64' ...
  Running 'testthat.R'
 OK
* checking for unstated dependencies in vignettes ... OK
* checking package vignettes in 'inst/doc' ... OK
* checking running R code from vignettes ... SKIPPED
* checking re-building of vignette outputs ... SKIPPED
* checking PDF version of manual ... OK
* DONE

Status: 1 NOTE
See
  'C:/Users/biocbuild/bbs-3.13-bioc/meat/BumpyMatrix.Rcheck/00check.log'
for details.



Installation output

BumpyMatrix.Rcheck/00install.out

##############################################################################
##############################################################################
###
### Running command:
###
###   C:\cygwin\bin\curl.exe -O http://155.52.207.165/BBS/3.13/bioc/src/contrib/BumpyMatrix_1.0.1.tar.gz && rm -rf BumpyMatrix.buildbin-libdir && mkdir BumpyMatrix.buildbin-libdir && C:\Users\biocbuild\bbs-3.13-bioc\R\bin\R.exe CMD INSTALL --merge-multiarch --build --library=BumpyMatrix.buildbin-libdir BumpyMatrix_1.0.1.tar.gz && C:\Users\biocbuild\bbs-3.13-bioc\R\bin\R.exe CMD INSTALL BumpyMatrix_1.0.1.zip && rm BumpyMatrix_1.0.1.tar.gz BumpyMatrix_1.0.1.zip
###
##############################################################################
##############################################################################


  % Total    % Received % Xferd  Average Speed   Time    Time     Time  Current
                                 Dload  Upload   Total   Spent    Left  Speed

  0     0    0     0    0     0      0      0 --:--:-- --:--:-- --:--:--     0
100 23556  100 23556    0     0   199k      0 --:--:-- --:--:-- --:--:--  201k

install for i386

* installing *source* package 'BumpyMatrix' ...
** using staged installation
** R
** byte-compile and prepare package for lazy loading
** help
*** installing help indices
  converting help for package 'BumpyMatrix'
    finding HTML links ... done
    BumpyAtomicMatrix                       html  
    BumpyDataFrameMatrix                    html  
    finding level-2 HTML links ... done

    BumpyMatrix                             html  
    splitAsBumpyMatrix                      html  
    unsplitAsDataFrame                      html  
** building package indices
** installing vignettes
** testing if installed package can be loaded from temporary location
** testing if installed package can be loaded from final location
** testing if installed package keeps a record of temporary installation path

install for x64

* installing *source* package 'BumpyMatrix' ...
** testing if installed package can be loaded
* MD5 sums
packaged installation of 'BumpyMatrix' as BumpyMatrix_1.0.1.zip
* DONE (BumpyMatrix)
* installing to library 'C:/Users/biocbuild/bbs-3.13-bioc/R/library'
package 'BumpyMatrix' successfully unpacked and MD5 sums checked

Tests output

BumpyMatrix.Rcheck/tests_i386/testthat.Rout


R version 4.1.1 (2021-08-10) -- "Kick Things"
Copyright (C) 2021 The R Foundation for Statistical Computing
Platform: i386-w64-mingw32/i386 (32-bit)

R is free software and comes with ABSOLUTELY NO WARRANTY.
You are welcome to redistribute it under certain conditions.
Type 'license()' or 'licence()' for distribution details.

R is a collaborative project with many contributors.
Type 'contributors()' for more information and
'citation()' on how to cite R or R packages in publications.

Type 'demo()' for some demos, 'help()' for on-line help, or
'help.start()' for an HTML browser interface to help.
Type 'q()' to quit R.

> library(testthat)
> library(BumpyMatrix)
> test_check("BumpyMatrix")
[ FAIL 0 | WARN 0 | SKIP 0 | PASS 289 ]
> 
> proc.time()
   user  system elapsed 
  11.96    0.35   12.31 

BumpyMatrix.Rcheck/tests_x64/testthat.Rout


R version 4.1.1 (2021-08-10) -- "Kick Things"
Copyright (C) 2021 The R Foundation for Statistical Computing
Platform: x86_64-w64-mingw32/x64 (64-bit)

R is free software and comes with ABSOLUTELY NO WARRANTY.
You are welcome to redistribute it under certain conditions.
Type 'license()' or 'licence()' for distribution details.

R is a collaborative project with many contributors.
Type 'contributors()' for more information and
'citation()' on how to cite R or R packages in publications.

Type 'demo()' for some demos, 'help()' for on-line help, or
'help.start()' for an HTML browser interface to help.
Type 'q()' to quit R.

> library(testthat)
> library(BumpyMatrix)
> test_check("BumpyMatrix")
[ FAIL 0 | WARN 0 | SKIP 0 | PASS 289 ]
> 
> proc.time()
   user  system elapsed 
  14.87    0.26   15.12 

Example timings

BumpyMatrix.Rcheck/examples_i386/BumpyMatrix-Ex.timings

nameusersystemelapsed
BumpyAtomicMatrix0.540.000.55
BumpyDataFrameMatrix0.380.000.38
BumpyMatrix0.340.000.34
splitAsBumpyMatrix0.110.000.11
unsplitAsDataFrame0.030.000.03

BumpyMatrix.Rcheck/examples_x64/BumpyMatrix-Ex.timings

nameusersystemelapsed
BumpyAtomicMatrix0.620.000.62
BumpyDataFrameMatrix0.420.000.42
BumpyMatrix0.360.000.36
splitAsBumpyMatrix0.110.000.11
unsplitAsDataFrame0.030.000.03