Back to Multiple platform build/check report for BioC 3.13
A[B]CDEFGHIJKLMNOPQRSTUVWXYZ

This page was generated on 2021-09-24 15:06:04 -0400 (Fri, 24 Sep 2021).

BUILD BIN results for BumpyMatrix on tokay2

To the developers/maintainers of the BumpyMatrix package:
- Please allow up to 24 hours (and sometimes 48 hours) for your latest push to git@git.bioconductor.org:packages/BumpyMatrix.git to
reflect on this report. See How and When does the builder pull? When will my changes propagate? here for more information.
- Make sure to use the following settings in order to reproduce any error or warning you see on this page.

raw results

Package 224/2041HostnameOS / ArchINSTALLBUILDCHECKBUILD BIN
BumpyMatrix 1.0.1  (landing page)
Aaron Lun
Snapshot Date: 2021-09-23 04:50:12 -0400 (Thu, 23 Sep 2021)
git_url: https://git.bioconductor.org/packages/BumpyMatrix
git_branch: RELEASE_3_13
git_last_commit: 24a8f24
git_last_commit_date: 2021-07-03 14:08:26 -0400 (Sat, 03 Jul 2021)
nebbiolo1Linux (Ubuntu 20.04.2 LTS) / x86_64  OK    OK    OK  UNNEEDED, same version is already published
tokay2Windows Server 2012 R2 Standard / x64  OK    OK    OK    OK  UNNEEDED, same version is already published
machv2macOS 10.14.6 Mojave / x86_64  OK    OK    OK    OK  UNNEEDED, same version is already published

Summary

Package: BumpyMatrix
Version: 1.0.1
Command: rm -rf BumpyMatrix.buildbin-libdir && mkdir BumpyMatrix.buildbin-libdir && C:\Users\biocbuild\bbs-3.13-bioc\R\bin\R.exe CMD INSTALL --merge-multiarch --build --library=BumpyMatrix.buildbin-libdir BumpyMatrix_1.0.1.tar.gz
StartedAt: 2021-09-24 07:31:01 -0400 (Fri, 24 Sep 2021)
EndedAt: 2021-09-24 07:32:44 -0400 (Fri, 24 Sep 2021)
EllapsedTime: 102.6 seconds
RetCode: 0
Status:   OK  
PackageFile: BumpyMatrix_1.0.1.zip
PackageFileSize: 1.05 MiB

Command output

##############################################################################
##############################################################################
###
### Running command:
###
###   rm -rf BumpyMatrix.buildbin-libdir && mkdir BumpyMatrix.buildbin-libdir && C:\Users\biocbuild\bbs-3.13-bioc\R\bin\R.exe CMD INSTALL --merge-multiarch --build --library=BumpyMatrix.buildbin-libdir BumpyMatrix_1.0.1.tar.gz
###
##############################################################################
##############################################################################



install for i386

* installing *source* package 'BumpyMatrix' ...
** using staged installation
** R
** inst
** byte-compile and prepare package for lazy loading
** help
*** installing help indices
  converting help for package 'BumpyMatrix'
    finding HTML links ... done
    BumpyAtomicMatrix                       html  
    BumpyDataFrameMatrix                    html  
    finding level-2 HTML links ... done

    BumpyMatrix                             html  
    splitAsBumpyMatrix                      html  
    unsplitAsDataFrame                      html  
** building package indices
** installing vignettes
** testing if installed package can be loaded from temporary location
** testing if installed package can be loaded from final location
** testing if installed package keeps a record of temporary installation path

install for x64

* installing *source* package 'BumpyMatrix' ...
** testing if installed package can be loaded
* MD5 sums
packaged installation of 'BumpyMatrix' as BumpyMatrix_1.0.1.zip
* DONE (BumpyMatrix)