Back to Multiple platform build/check report for BioC 3.13
A[B]CDEFGHIJKLMNOPQRSTUVWXYZ

This page was generated on 2021-09-13 15:06:51 -0400 (Mon, 13 Sep 2021).

BUILD results for Biostrings on machv2

To the developers/maintainers of the Biostrings package:
- Please allow up to 24 hours (and sometimes 48 hours) for your latest push to git@git.bioconductor.org:packages/Biostrings.git to
reflect on this report. See How and When does the builder pull? When will my changes propagate? here for more information.
- Make sure to use the following settings in order to reproduce any error or warning you see on this page.

raw results

Package 190/2041HostnameOS / ArchINSTALLBUILDCHECKBUILD BIN
Biostrings 2.60.2  (landing page)
H. Pagès
Snapshot Date: 2021-09-12 04:50:10 -0400 (Sun, 12 Sep 2021)
git_url: https://git.bioconductor.org/packages/Biostrings
git_branch: RELEASE_3_13
git_last_commit: 2024073
git_last_commit_date: 2021-08-04 00:39:03 -0400 (Wed, 04 Aug 2021)
nebbiolo1Linux (Ubuntu 20.04.2 LTS) / x86_64  OK    OK    WARNINGS  UNNEEDED, same version is already published
tokay2Windows Server 2012 R2 Standard / x64  OK    OK    WARNINGS    OK  UNNEEDED, same version is already published
machv2macOS 10.14.6 Mojave / x86_64  OK    OK    WARNINGS    OK  UNNEEDED, same version is already published

Summary

Package: Biostrings
Version: 2.60.2
Command: /Library/Frameworks/R.framework/Versions/Current/Resources/bin/R CMD build --keep-empty-dirs --no-resave-data Biostrings
StartedAt: 2021-09-12 10:50:01 -0400 (Sun, 12 Sep 2021)
EndedAt: 2021-09-12 10:52:16 -0400 (Sun, 12 Sep 2021)
EllapsedTime: 134.5 seconds
RetCode: 0
Status:   OK  
PackageFile: Biostrings_2.60.2.tar.gz
PackageFileSize: 12.06 MiB

Command output

##############################################################################
##############################################################################
###
### Running command:
###
###   /Library/Frameworks/R.framework/Versions/Current/Resources/bin/R CMD build --keep-empty-dirs --no-resave-data Biostrings
###
##############################################################################
##############################################################################


* checking for file ‘Biostrings/DESCRIPTION’ ... OK
* preparing ‘Biostrings’:
* checking DESCRIPTION meta-information ... OK
* cleaning src
* installing the package to build vignettes
* creating vignettes ... OK
* cleaning src
* checking for LF line-endings in source and make files and shell scripts
* checking for empty or unneeded directories
* looking to see if a ‘data/datalist’ file should be added
* building ‘Biostrings_2.60.2.tar.gz’