Back to Multiple platform build/check report for BioC 3.13
A[B]CDEFGHIJKLMNOPQRSTUVWXYZ

This page was generated on 2021-09-27 15:05:27 -0400 (Mon, 27 Sep 2021).

All results for package Biostrings

To the developers/maintainers of the Biostrings package:
- Please allow up to 24 hours (and sometimes 48 hours) for your latest push to git@git.bioconductor.org:packages/Biostrings.git to
reflect on this report. See How and When does the builder pull? When will my changes propagate? here for more information.
- Make sure to use the following settings in order to reproduce any error or warning you see on this page.

raw results

Package 190/2041HostnameOS / ArchINSTALLBUILDCHECKBUILD BIN
Biostrings 2.60.2  (landing page)
H. Pagès
Snapshot Date: 2021-09-26 04:50:10 -0400 (Sun, 26 Sep 2021)
git_url: https://git.bioconductor.org/packages/Biostrings
git_branch: RELEASE_3_13
git_last_commit: 2024073
git_last_commit_date: 2021-08-04 00:39:03 -0400 (Wed, 04 Aug 2021)
nebbiolo1Linux (Ubuntu 20.04.2 LTS) / x86_64  OK    OK    WARNINGS  UNNEEDED, same version is already published
tokay2Windows Server 2012 R2 Standard / x64  OK    OK    WARNINGS    OK  UNNEEDED, same version is already published
machv2macOS 10.14.6 Mojave / x86_64  OK    OK    WARNINGS    OK  UNNEEDED, same version is already published

Results for Bioconductor software packages that depend directly on package Biostrings

QUICK STATSOS / ArchINSTALLBUILDCHECKBUILD BIN
nebbiolo1Linux (Ubuntu 20.04.2 LTS) / x86_64
00257
06251
0342206
tokay2Windows Server 2012 R2 Standard / x64
00249
07242
1639196
01241
machv2macOS 10.14.6 Mojave / x86_64
00256
07249
0338208
00249
Package 1/257HostnameOS / ArchINSTALLBUILDCHECKBUILD BIN
AffyCompatible 1.52.0  (landing page)
Martin Morgan
git_last_commit: 7dc4c06
git_last_commit_date: 2021-05-19 11:40:46 -0400
nebbiolo1Linux (Ubuntu 20.04.2 LTS) / x86_64  OK    OK    OK  UNNEEDED, same version is already published
tokay2Windows Server 2012 R2 Standard / x64  OK    OK    OK    OK  UNNEEDED, same version is already published
machv2macOS 10.14.6 Mojave / x86_64  OK    OK    OK    OK  UNNEEDED, same version is already published
Package 2/257HostnameOS / ArchINSTALLBUILDCHECKBUILD BIN
AllelicImbalance 1.30.0  (landing page)
Jesper R Gadin
git_last_commit: 5e00a1f
git_last_commit_date: 2021-05-19 12:00:58 -0400
nebbiolo1Linux (Ubuntu 20.04.2 LTS) / x86_64  OK    OK    OK  UNNEEDED, same version is already published
tokay2Windows Server 2012 R2 Standard / x64  OK    OK    OK    OK  UNNEEDED, same version is already published
machv2macOS 10.14.6 Mojave / x86_64  OK    OK    OK    OK  UNNEEDED, same version is already published
Package 3/257HostnameOS / ArchINSTALLBUILDCHECKBUILD BIN
alpine 1.18.0  (landing page)
Michael Love
git_last_commit: 06257d2
git_last_commit_date: 2021-05-19 12:22:33 -0400
nebbiolo1Linux (Ubuntu 20.04.2 LTS) / x86_64  OK    OK    OK  UNNEEDED, same version is already published
tokay2Windows Server 2012 R2 Standard / x64  OK    OK    OK    OK  UNNEEDED, same version is already published
machv2macOS 10.14.6 Mojave / x86_64  OK    OK    OK    OK  UNNEEDED, same version is already published
Package 4/257HostnameOS / ArchINSTALLBUILDCHECKBUILD BIN
altcdfenvs 2.54.0  (landing page)
Laurent Gautier
git_last_commit: fbe5728
git_last_commit_date: 2021-05-19 11:34:10 -0400
nebbiolo1Linux (Ubuntu 20.04.2 LTS) / x86_64  OK    OK    OK  UNNEEDED, same version is already published
tokay2Windows Server 2012 R2 Standard / x64  OK    OK    OK    OK  UNNEEDED, same version is already published
machv2macOS 10.14.6 Mojave / x86_64  OK    OK    OK    OK  UNNEEDED, same version is already published
Package 5/257HostnameOS / ArchINSTALLBUILDCHECKBUILD BIN
amplican 1.14.0  (landing page)
Eivind Valen
git_last_commit: e994104
git_last_commit_date: 2021-05-19 12:30:12 -0400
nebbiolo1Linux (Ubuntu 20.04.2 LTS) / x86_64  OK    OK    OK  UNNEEDED, same version is already published
tokay2Windows Server 2012 R2 Standard / x64  OK    OK    OK    OK  UNNEEDED, same version is already published
machv2macOS 10.14.6 Mojave / x86_64  OK    OK    OK    OK  UNNEEDED, same version is already published
Package 6/257HostnameOS / ArchINSTALLBUILDCHECKBUILD BIN
AneuFinder 1.20.0  (landing page)
Aaron Taudt
git_last_commit: 1c7aed6
git_last_commit_date: 2021-05-19 12:19:05 -0400
nebbiolo1Linux (Ubuntu 20.04.2 LTS) / x86_64  OK    OK    OK  UNNEEDED, same version is already published
tokay2Windows Server 2012 R2 Standard / x64  OK    OK    OK    OK  UNNEEDED, same version is already published
machv2macOS 10.14.6 Mojave / x86_64  OK    OK    OK    OK  UNNEEDED, same version is already published
Package 7/257HostnameOS / ArchINSTALLBUILDCHECKBUILD BIN
AnnotationHubData 1.22.0  (landing page)
Bioconductor Package Maintainer
git_last_commit: c2a76fb
git_last_commit_date: 2021-05-19 12:15:21 -0400
nebbiolo1Linux (Ubuntu 20.04.2 LTS) / x86_64  OK    OK    WARNINGS  UNNEEDED, same version is already published
tokay2Windows Server 2012 R2 Standard / x64  OK    OK    WARNINGS    OK  UNNEEDED, same version is already published
machv2macOS 10.14.6 Mojave / x86_64  OK    OK    WARNINGS    OK  UNNEEDED, same version is already published
Package 8/257HostnameOS / ArchINSTALLBUILDCHECKBUILD BIN
appreci8R 1.10.0  (landing page)
Sarah Sandmann
git_last_commit: d1399fc
git_last_commit_date: 2021-05-19 12:36:42 -0400
nebbiolo1Linux (Ubuntu 20.04.2 LTS) / x86_64  OK    OK    OK  UNNEEDED, same version is already published
tokay2Windows Server 2012 R2 Standard / x64  OK    OK    OK    OK  UNNEEDED, same version is already published
machv2macOS 10.14.6 Mojave / x86_64  OK    OK    OK    OK  UNNEEDED, same version is already published
Package 9/257HostnameOS / ArchINSTALLBUILDCHECKBUILD BIN
ArrayExpressHTS 1.42.0  (landing page)
Angela Goncalves , Andrew Tikhonov
git_last_commit: 9a41140
git_last_commit_date: 2021-05-19 11:48:38 -0400
nebbiolo1Linux (Ubuntu 20.04.2 LTS) / x86_64  OK    OK    WARNINGS  UNNEEDED, same version is already published
tokay2Windows Server 2012 R2 Standard / x64... NOT SUPPORTED ...
machv2macOS 10.14.6 Mojave / x86_64  OK    OK    OK    OK  UNNEEDED, same version is already published
Package 10/257HostnameOS / ArchINSTALLBUILDCHECKBUILD BIN
AssessORF 1.10.0  (landing page)
Deepank Korandla
git_last_commit: c43e459
git_last_commit_date: 2021-05-19 12:39:14 -0400
nebbiolo1Linux (Ubuntu 20.04.2 LTS) / x86_64  OK    OK    OK  UNNEEDED, same version is already published
tokay2Windows Server 2012 R2 Standard / x64  OK    OK    OK    OK  UNNEEDED, same version is already published
machv2macOS 10.14.6 Mojave / x86_64  OK    OK    OK    OK  UNNEEDED, same version is already published
Package 11/257HostnameOS / ArchINSTALLBUILDCHECKBUILD BIN
ATACseqQC 1.16.0  (landing page)
Jianhong Ou
git_last_commit: e345154
git_last_commit_date: 2021-05-19 12:27:43 -0400
nebbiolo1Linux (Ubuntu 20.04.2 LTS) / x86_64  OK    OK    OK  UNNEEDED, same version is already published
tokay2Windows Server 2012 R2 Standard / x64  OK    OK    OK    OK  UNNEEDED, same version is already published
machv2macOS 10.14.6 Mojave / x86_64  OK    OK    OK    OK  UNNEEDED, same version is already published
Package 12/257HostnameOS / ArchINSTALLBUILDCHECKBUILD BIN
Basic4Cseq 1.28.0  (landing page)
Carolin Walter
git_last_commit: 0ad4961
git_last_commit_date: 2021-05-19 12:03:22 -0400
nebbiolo1Linux (Ubuntu 20.04.2 LTS) / x86_64  OK    OK    OK  UNNEEDED, same version is already published
tokay2Windows Server 2012 R2 Standard / x64  OK    OK    OK    OK  UNNEEDED, same version is already published
machv2macOS 10.14.6 Mojave / x86_64  OK    OK    OK    OK  UNNEEDED, same version is already published
Package 13/257HostnameOS / ArchINSTALLBUILDCHECKBUILD BIN
BBCAnalyzer 1.22.0  (landing page)
Sarah Sandmann
git_last_commit: ca0ad63
git_last_commit_date: 2021-05-19 12:15:08 -0400
nebbiolo1Linux (Ubuntu 20.04.2 LTS) / x86_64  OK    OK    OK  UNNEEDED, same version is already published
tokay2Windows Server 2012 R2 Standard / x64  OK    OK    WARNINGS    OK  UNNEEDED, same version is already published
machv2macOS 10.14.6 Mojave / x86_64  OK    OK    OK    OK  UNNEEDED, same version is already published
Package 14/257HostnameOS / ArchINSTALLBUILDCHECKBUILD BIN
BCRANK 1.54.0  (landing page)
Adam Ameur
git_last_commit: 827b00a
git_last_commit_date: 2021-05-19 11:40:23 -0400
nebbiolo1Linux (Ubuntu 20.04.2 LTS) / x86_64  OK    OK    OK  UNNEEDED, same version is already published
tokay2Windows Server 2012 R2 Standard / x64  OK    OK    OK    OK  UNNEEDED, same version is already published
machv2macOS 10.14.6 Mojave / x86_64  OK    OK    OK    OK  UNNEEDED, same version is already published
Package 15/257HostnameOS / ArchINSTALLBUILDCHECKBUILD BIN
bcSeq 1.14.0  (landing page)
Jiaxing Lin
git_last_commit: d9092ae
git_last_commit_date: 2021-05-19 12:32:05 -0400
nebbiolo1Linux (Ubuntu 20.04.2 LTS) / x86_64  OK    OK    WARNINGS  UNNEEDED, same version is already published
tokay2Windows Server 2012 R2 Standard / x64  OK    OK    WARNINGS    OK  UNNEEDED, same version is already published
machv2macOS 10.14.6 Mojave / x86_64  OK    OK    OK    OK  UNNEEDED, same version is already published
Package 16/257HostnameOS / ArchINSTALLBUILDCHECKBUILD BIN
BEAT 1.30.0  (landing page)
Kemal Akman
git_last_commit: 226a8df
git_last_commit_date: 2021-05-19 12:02:28 -0400
nebbiolo1Linux (Ubuntu 20.04.2 LTS) / x86_64  OK    OK    OK  UNNEEDED, same version is already published
tokay2Windows Server 2012 R2 Standard / x64  OK    OK    OK    OK  UNNEEDED, same version is already published
machv2macOS 10.14.6 Mojave / x86_64  OK    OK    OK    OK  UNNEEDED, same version is already published
Package 17/257HostnameOS / ArchINSTALLBUILDCHECKBUILD BIN
BgeeCall 1.8.0  (landing page)
Julien Wollbrett
git_last_commit: 75b35d9
git_last_commit_date: 2021-05-19 12:48:49 -0400
nebbiolo1Linux (Ubuntu 20.04.2 LTS) / x86_64  OK    OK    OK  UNNEEDED, same version is already published
tokay2Windows Server 2012 R2 Standard / x64  OK    OK    OK    OK  UNNEEDED, same version is already published
machv2macOS 10.14.6 Mojave / x86_64  OK    OK    OK    OK  UNNEEDED, same version is already published
Package 18/257HostnameOS / ArchINSTALLBUILDCHECKBUILD BIN
biovizBase 1.40.0  (landing page)
Michael Lawrence
git_last_commit: e741735
git_last_commit_date: 2021-05-19 11:50:05 -0400
nebbiolo1Linux (Ubuntu 20.04.2 LTS) / x86_64  OK    OK    WARNINGS  UNNEEDED, same version is already published
tokay2Windows Server 2012 R2 Standard / x64  OK    OK    WARNINGS    OK  UNNEEDED, same version is already published
machv2macOS 10.14.6 Mojave / x86_64  OK    OK    WARNINGS    OK  UNNEEDED, same version is already published
Package 19/257HostnameOS / ArchINSTALLBUILDCHECKBUILD BIN
BRAIN 1.38.0  (landing page)
Piotr Dittwald
git_last_commit: eea0fc0
git_last_commit_date: 2021-05-19 11:51:37 -0400
nebbiolo1Linux (Ubuntu 20.04.2 LTS) / x86_64  OK    OK    WARNINGS  UNNEEDED, same version is already published
tokay2Windows Server 2012 R2 Standard / x64  OK    OK    WARNINGS    OK  UNNEEDED, same version is already published
machv2macOS 10.14.6 Mojave / x86_64  OK    OK    WARNINGS    OK  UNNEEDED, same version is already published
Package 20/257HostnameOS / ArchINSTALLBUILDCHECKBUILD BIN
brainflowprobes 1.6.0  (landing page)
Amanda Price
git_last_commit: 3bae675
git_last_commit_date: 2021-05-19 12:47:58 -0400
nebbiolo1Linux (Ubuntu 20.04.2 LTS) / x86_64  OK    OK    OK  UNNEEDED, same version is already published
tokay2Windows Server 2012 R2 Standard / x64  OK    OK    OK    OK  UNNEEDED, same version is already published
machv2macOS 10.14.6 Mojave / x86_64  OK    OK    OK    OK  UNNEEDED, same version is already published
Package 21/257HostnameOS / ArchINSTALLBUILDCHECKBUILD BIN
branchpointer 1.18.0  (landing page)
Beth Signal
git_last_commit: 0e0e947
git_last_commit_date: 2021-05-19 12:26:29 -0400
nebbiolo1Linux (Ubuntu 20.04.2 LTS) / x86_64  OK    OK    OK  UNNEEDED, same version is already published
tokay2Windows Server 2012 R2 Standard / x64  OK    OK    OK    OK  UNNEEDED, same version is already published
machv2macOS 10.14.6 Mojave / x86_64  OK    OK    OK    OK  UNNEEDED, same version is already published
Package 22/257HostnameOS / ArchINSTALLBUILDCHECKBUILD BIN
BSgenome 1.60.0  (landing page)
H. Pagès
git_last_commit: 6643064
git_last_commit_date: 2021-05-19 11:37:32 -0400
nebbiolo1Linux (Ubuntu 20.04.2 LTS) / x86_64  OK    OK    WARNINGS  UNNEEDED, same version is already published
tokay2Windows Server 2012 R2 Standard / x64  OK    OK    WARNINGS    OK  UNNEEDED, same version is already published
machv2macOS 10.14.6 Mojave / x86_64  OK    OK    WARNINGS    OK  UNNEEDED, same version is already published
Package 23/257HostnameOS / ArchINSTALLBUILDCHECKBUILD BIN
bsseq 1.28.0  (landing page)
Kasper Daniel Hansen
git_last_commit: 57084fa
git_last_commit_date: 2021-05-19 11:53:03 -0400
nebbiolo1Linux (Ubuntu 20.04.2 LTS) / x86_64  OK    OK    OK  UNNEEDED, same version is already published
tokay2Windows Server 2012 R2 Standard / x64  OK    OK    OK    OK  UNNEEDED, same version is already published
machv2macOS 10.14.6 Mojave / x86_64  OK    OK    OK    OK  UNNEEDED, same version is already published
Package 24/257HostnameOS / ArchINSTALLBUILDCHECKBUILD BIN
BUMHMM 1.16.0  (landing page)
Alina Selega
git_last_commit: 96ebaad
git_last_commit_date: 2021-05-19 12:24:51 -0400
nebbiolo1Linux (Ubuntu 20.04.2 LTS) / x86_64  OK    OK    OK  UNNEEDED, same version is already published
tokay2Windows Server 2012 R2 Standard / x64  OK    OK    OK    OK  UNNEEDED, same version is already published
machv2macOS 10.14.6 Mojave / x86_64  OK    OK    OK    OK  UNNEEDED, same version is already published
Package 25/257HostnameOS / ArchINSTALLBUILDCHECKBUILD BIN
BUSpaRse 1.6.1  (landing page)
Lambda Moses
git_last_commit: 10db5d4
git_last_commit_date: 2021-06-07 21:09:14 -0400
nebbiolo1Linux (Ubuntu 20.04.2 LTS) / x86_64  OK    OK    OK  UNNEEDED, same version is already published
tokay2Windows Server 2012 R2 Standard / x64  OK    OK    OK    OK  UNNEEDED, same version is already published
machv2macOS 10.14.6 Mojave / x86_64  OK    OK    OK    OK  UNNEEDED, same version is already published
Package 26/257HostnameOS / ArchINSTALLBUILDCHECKBUILD BIN
CellaRepertorium 1.2.0  (landing page)
Andrew McDavid
git_last_commit: 86b7f10
git_last_commit_date: 2021-05-19 12:57:31 -0400
nebbiolo1Linux (Ubuntu 20.04.2 LTS) / x86_64  OK    OK    WARNINGS  UNNEEDED, same version is already published
tokay2Windows Server 2012 R2 Standard / x64  OK    OK    WARNINGS    OK  UNNEEDED, same version is already published
machv2macOS 10.14.6 Mojave / x86_64  OK    OK    WARNINGS    OK  UNNEEDED, same version is already published
Package 27/257HostnameOS / ArchINSTALLBUILDCHECKBUILD BIN
chimeraviz 1.18.0  (landing page)
Stian Lågstad
git_last_commit: bc2b277
git_last_commit_date: 2021-05-19 12:24:46 -0400
nebbiolo1Linux (Ubuntu 20.04.2 LTS) / x86_64  OK    OK    OK  UNNEEDED, same version is already published
tokay2Windows Server 2012 R2 Standard / x64  OK    OK    OK    OK  UNNEEDED, same version is already published
machv2macOS 10.14.6 Mojave / x86_64  OK    OK    OK    OK  UNNEEDED, same version is already published
Package 28/257HostnameOS / ArchINSTALLBUILDCHECKBUILD BIN
ChIPanalyser 1.14.0  (landing page)
Patrick C.N. Martin
git_last_commit: 68caeca
git_last_commit_date: 2021-05-19 12:29:58 -0400
nebbiolo1Linux (Ubuntu 20.04.2 LTS) / x86_64  OK    OK    OK  UNNEEDED, same version is already published
tokay2Windows Server 2012 R2 Standard / x64  OK    OK    OK    OK  UNNEEDED, same version is already published
machv2macOS 10.14.6 Mojave / x86_64  OK    OK    OK    OK  UNNEEDED, same version is already published
Package 29/257HostnameOS / ArchINSTALLBUILDCHECKBUILD BIN
ChIPpeakAnno 3.26.4  (landing page)
Jianhong Ou
git_last_commit: 5104b7d
git_last_commit_date: 2021-09-09 15:41:30 -0400
nebbiolo1Linux (Ubuntu 20.04.2 LTS) / x86_64  OK    OK    OK  UNNEEDED, same version is already published
tokay2Windows Server 2012 R2 Standard / x64  OK    OK    OK    OK  UNNEEDED, same version is already published
machv2macOS 10.14.6 Mojave / x86_64  OK    OK    OK    OK  UNNEEDED, same version is already published
Package 30/257HostnameOS / ArchINSTALLBUILDCHECKBUILD BIN
ChIPseqR 1.46.0  (landing page)
Peter Humburg
git_last_commit: d242683
git_last_commit_date: 2021-05-19 11:44:14 -0400
nebbiolo1Linux (Ubuntu 20.04.2 LTS) / x86_64  OK    OK    OK  UNNEEDED, same version is already published
tokay2Windows Server 2012 R2 Standard / x64  OK    OK    OK    OK  UNNEEDED, same version is already published
machv2macOS 10.14.6 Mojave / x86_64  OK    OK    OK    OK  UNNEEDED, same version is already published
Package 31/257HostnameOS / ArchINSTALLBUILDCHECKBUILD BIN
ChIPsim 1.46.0  (landing page)
Peter Humburg
git_last_commit: 410a1f4
git_last_commit_date: 2021-05-19 11:43:44 -0400
nebbiolo1Linux (Ubuntu 20.04.2 LTS) / x86_64  OK    OK    OK  UNNEEDED, same version is already published
tokay2Windows Server 2012 R2 Standard / x64  OK    OK    OK    OK  UNNEEDED, same version is already published
machv2macOS 10.14.6 Mojave / x86_64  OK    OK    OK    OK  UNNEEDED, same version is already published
Package 32/257HostnameOS / ArchINSTALLBUILDCHECKBUILD BIN
chromVAR 1.14.0  (landing page)
Alicia Schep
git_last_commit: 2dc5547
git_last_commit_date: 2021-05-19 12:30:52 -0400
nebbiolo1Linux (Ubuntu 20.04.2 LTS) / x86_64  OK    OK    OK  UNNEEDED, same version is already published
tokay2Windows Server 2012 R2 Standard / x64  OK    OK    OK    OK  UNNEEDED, same version is already published
machv2macOS 10.14.6 Mojave / x86_64  OK    OK    OK    OK  UNNEEDED, same version is already published
Package 33/257HostnameOS / ArchINSTALLBUILDCHECKBUILD BIN
circRNAprofiler 1.6.0  (landing page)
Simona Aufiero
git_last_commit: 405f392
git_last_commit_date: 2021-05-19 12:44:52 -0400
nebbiolo1Linux (Ubuntu 20.04.2 LTS) / x86_64  OK    OK    OK  UNNEEDED, same version is already published
tokay2Windows Server 2012 R2 Standard / x64  OK    OK    OK    OK  UNNEEDED, same version is already published
machv2macOS 10.14.6 Mojave / x86_64  OK    OK    OK    OK  UNNEEDED, same version is already published
Package 34/257HostnameOS / ArchINSTALLBUILDCHECKBUILD BIN
cleanUpdTSeq 1.30.0  (landing page)
Jianhong Ou ; Lihua Julie Zhu
git_last_commit: 45e4e8b
git_last_commit_date: 2021-05-19 11:59:31 -0400
nebbiolo1Linux (Ubuntu 20.04.2 LTS) / x86_64  OK    OK    OK  UNNEEDED, same version is already published
tokay2Windows Server 2012 R2 Standard / x64  OK    OK    OK    OK  UNNEEDED, same version is already published
machv2macOS 10.14.6 Mojave / x86_64  OK    OK    OK    OK  UNNEEDED, same version is already published
Package 35/257HostnameOS / ArchINSTALLBUILDCHECKBUILD BIN
cleaver 1.30.0  (landing page)
Sebastian Gibb
git_last_commit: e528be9
git_last_commit_date: 2021-05-19 11:59:09 -0400
nebbiolo1Linux (Ubuntu 20.04.2 LTS) / x86_64  OK    OK    OK  UNNEEDED, same version is already published
tokay2Windows Server 2012 R2 Standard / x64  OK    OK    OK    OK  UNNEEDED, same version is already published
machv2macOS 10.14.6 Mojave / x86_64  OK    OK    OK    OK  UNNEEDED, same version is already published
Package 36/257HostnameOS / ArchINSTALLBUILDCHECKBUILD BIN
CNEr 1.28.0  (landing page)
Ge Tan
git_last_commit: fdeac98
git_last_commit_date: 2021-05-19 12:02:51 -0400
nebbiolo1Linux (Ubuntu 20.04.2 LTS) / x86_64  OK    OK    OK  UNNEEDED, same version is already published
tokay2Windows Server 2012 R2 Standard / x64  OK    OK    WARNINGS    OK  UNNEEDED, same version is already published
machv2macOS 10.14.6 Mojave / x86_64  OK    OK    WARNINGS    OK  UNNEEDED, same version is already published
Package 37/257HostnameOS / ArchINSTALLBUILDCHECKBUILD BIN
CNVfilteR 1.6.2  (landing page)
Jose Marcos Moreno-Cabrera
git_last_commit: a422dc0
git_last_commit_date: 2021-09-08 10:40:43 -0400
nebbiolo1Linux (Ubuntu 20.04.2 LTS) / x86_64  OK    OK    OK  UNNEEDED, same version is already published
tokay2Windows Server 2012 R2 Standard / x64  OK    OK    OK    OK  UNNEEDED, same version is already published
machv2macOS 10.14.6 Mojave / x86_64  OK    OK    OK    OK  UNNEEDED, same version is already published
Package 38/257HostnameOS / ArchINSTALLBUILDCHECKBUILD BIN
CODEX 1.24.0  (landing page)
Yuchao Jiang
git_last_commit: 0051ee2
git_last_commit_date: 2021-05-19 12:10:21 -0400
nebbiolo1Linux (Ubuntu 20.04.2 LTS) / x86_64  OK    OK    OK  UNNEEDED, same version is already published
tokay2Windows Server 2012 R2 Standard / x64  OK    OK    OK    OK  UNNEEDED, same version is already published
machv2macOS 10.14.6 Mojave / x86_64  OK    OK    OK    OK  UNNEEDED, same version is already published
Package 39/257HostnameOS / ArchINSTALLBUILDCHECKBUILD BIN
compEpiTools 1.26.0  (landing page)
Kamal Kishore
git_last_commit: cefdb04
git_last_commit_date: 2021-05-19 12:06:54 -0400
nebbiolo1Linux (Ubuntu 20.04.2 LTS) / x86_64  OK    OK    OK  UNNEEDED, same version is already published
tokay2Windows Server 2012 R2 Standard / x64  OK    OK    OK    OK  UNNEEDED, same version is already published
machv2macOS 10.14.6 Mojave / x86_64  OK    OK    OK    OK  UNNEEDED, same version is already published
Package 40/257HostnameOS / ArchINSTALLBUILDCHECKBUILD BIN
consensusDE 1.10.0  (landing page)
Ashley J. Waardenberg
git_last_commit: 1b434d7
git_last_commit_date: 2021-05-19 12:39:09 -0400
nebbiolo1Linux (Ubuntu 20.04.2 LTS) / x86_64  OK    OK    OK  UNNEEDED, same version is already published
tokay2Windows Server 2012 R2 Standard / x64  OK    OK    OK    OK  UNNEEDED, same version is already published
machv2macOS 10.14.6 Mojave / x86_64  OK    OK    OK    OK  UNNEEDED, same version is already published
Package 41/257HostnameOS / ArchINSTALLBUILDCHECKBUILD BIN
coRdon 1.10.0  (landing page)
Anamaria Elek
git_last_commit: 9387b5f
git_last_commit_date: 2021-05-19 12:37:02 -0400
nebbiolo1Linux (Ubuntu 20.04.2 LTS) / x86_64  OK    OK    OK  UNNEEDED, same version is already published
tokay2Windows Server 2012 R2 Standard / x64  OK    OK    OK    OK  UNNEEDED, same version is already published
machv2macOS 10.14.6 Mojave / x86_64  OK    OK    OK    OK  UNNEEDED, same version is already published
Package 42/257HostnameOS / ArchINSTALLBUILDCHECKBUILD BIN
CRISPRseek 1.32.0  (landing page)
Lihua Julie Zhu
git_last_commit: b64de86
git_last_commit_date: 2021-05-19 12:01:57 -0400
nebbiolo1Linux (Ubuntu 20.04.2 LTS) / x86_64  OK    OK    OK  UNNEEDED, same version is already published
tokay2Windows Server 2012 R2 Standard / x64  OK    OK    OK    OK  UNNEEDED, same version is already published
machv2macOS 10.14.6 Mojave / x86_64  OK    OK    OK    OK  UNNEEDED, same version is already published
Package 43/257HostnameOS / ArchINSTALLBUILDCHECKBUILD BIN
CrispRVariants 1.20.0  (landing page)
Helen Lindsay
git_last_commit: 6789cce
git_last_commit_date: 2021-05-19 12:17:13 -0400
nebbiolo1Linux (Ubuntu 20.04.2 LTS) / x86_64  OK    OK    WARNINGS  UNNEEDED, same version is already published
tokay2Windows Server 2012 R2 Standard / x64  OK    OK    WARNINGS    OK  UNNEEDED, same version is already published
machv2macOS 10.14.6 Mojave / x86_64  OK    OK    WARNINGS    OK  UNNEEDED, same version is already published
Package 44/257HostnameOS / ArchINSTALLBUILDCHECKBUILD BIN
customProDB 1.32.0  (landing page)
Xiaojing Wang
git_last_commit: 6c740d6
git_last_commit_date: 2021-05-19 11:59:12 -0400
nebbiolo1Linux (Ubuntu 20.04.2 LTS) / x86_64  OK    OK    OK  UNNEEDED, same version is already published
tokay2Windows Server 2012 R2 Standard / x64  OK    OK    OK    OK  UNNEEDED, same version is already published
machv2macOS 10.14.6 Mojave / x86_64  OK    OK    OK    OK  UNNEEDED, same version is already published
Package 45/257HostnameOS / ArchINSTALLBUILDCHECKBUILD BIN
dada2 1.20.0  (landing page)
Benjamin Callahan
git_last_commit: b8a796b
git_last_commit_date: 2021-05-19 12:18:16 -0400
nebbiolo1Linux (Ubuntu 20.04.2 LTS) / x86_64  OK    OK    OK  UNNEEDED, same version is already published
tokay2Windows Server 2012 R2 Standard / x64  OK    OK    OK    OK  UNNEEDED, same version is already published
machv2macOS 10.14.6 Mojave / x86_64  OK    OK    OK    OK  UNNEEDED, same version is already published
Package 46/257HostnameOS / ArchINSTALLBUILDCHECKBUILD BIN
dagLogo 1.30.0  (landing page)
Jianhong Ou
git_last_commit: 603fae3
git_last_commit_date: 2021-05-19 12:01:07 -0400
nebbiolo1Linux (Ubuntu 20.04.2 LTS) / x86_64  OK    OK    OK  UNNEEDED, same version is already published
tokay2Windows Server 2012 R2 Standard / x64  OK    OK    OK    OK  UNNEEDED, same version is already published
machv2macOS 10.14.6 Mojave / x86_64  OK    OK    OK    OK  UNNEEDED, same version is already published
Package 47/257HostnameOS / ArchINSTALLBUILDCHECKBUILD BIN
DAMEfinder 1.4.0  (landing page)
Stephany Orjuela
git_last_commit: a0da475
git_last_commit_date: 2021-05-19 12:49:06 -0400
nebbiolo1Linux (Ubuntu 20.04.2 LTS) / x86_64  OK    OK    OK  UNNEEDED, same version is already published
tokay2Windows Server 2012 R2 Standard / x64  OK    OK    OK    OK  UNNEEDED, same version is already published
machv2macOS 10.14.6 Mojave / x86_64  OK    OK    OK    OK  UNNEEDED, same version is already published
Package 48/257HostnameOS / ArchINSTALLBUILDCHECKBUILD BIN
DECIPHER 2.20.0  (landing page)
Erik Wright
git_last_commit: bcd35a8
git_last_commit_date: 2021-05-19 11:50:12 -0400
nebbiolo1Linux (Ubuntu 20.04.2 LTS) / x86_64  OK    OK    OK  UNNEEDED, same version is already published
tokay2Windows Server 2012 R2 Standard / x64  OK    OK    OK    OK  UNNEEDED, same version is already published
machv2macOS 10.14.6 Mojave / x86_64  OK    OK    OK    OK  UNNEEDED, same version is already published
Package 49/257HostnameOS / ArchINSTALLBUILDCHECKBUILD BIN
decompTumor2Sig 2.8.0  (landing page)
Rosario M. Piro
git_last_commit: 974c2b7
git_last_commit_date: 2021-05-19 12:39:46 -0400
nebbiolo1Linux (Ubuntu 20.04.2 LTS) / x86_64  OK    OK    OK  UNNEEDED, same version is already published
tokay2Windows Server 2012 R2 Standard / x64  OK    OK    OK    OK  UNNEEDED, same version is already published
machv2macOS 10.14.6 Mojave / x86_64  OK    OK    OK    OK  UNNEEDED, same version is already published
Package 50/257HostnameOS / ArchINSTALLBUILDCHECKBUILD BIN
deepSNV 1.38.0  (landing page)
Moritz Gerstung
git_last_commit: c542997
git_last_commit_date: 2021-05-19 11:51:24 -0400
nebbiolo1Linux (Ubuntu 20.04.2 LTS) / x86_64  OK    OK    OK  UNNEEDED, same version is already published
tokay2Windows Server 2012 R2 Standard / x64  OK    OK    OK    OK  UNNEEDED, same version is already published
machv2macOS 10.14.6 Mojave / x86_64  OK    OK    OK    OK  UNNEEDED, same version is already published
Package 51/257HostnameOS / ArchINSTALLBUILDCHECKBUILD BIN
diffHic 1.24.1  (landing page)
Aaron Lun
git_last_commit: a505f6d
git_last_commit_date: 2021-07-15 04:46:22 -0400
nebbiolo1Linux (Ubuntu 20.04.2 LTS) / x86_64  OK    OK    OK  UNNEEDED, same version is already published
tokay2Windows Server 2012 R2 Standard / x64  OK    OK    OK    OK  UNNEEDED, same version is already published
machv2macOS 10.14.6 Mojave / x86_64  OK    OK    OK    OK  UNNEEDED, same version is already published
Package 52/257HostnameOS / ArchINSTALLBUILDCHECKBUILD BIN
DNAshapeR 1.20.0  (landing page)
Tsu-Pei Chiu
git_last_commit: 20c156a
git_last_commit_date: 2021-05-19 12:18:50 -0400
nebbiolo1Linux (Ubuntu 20.04.2 LTS) / x86_64  OK    OK    OK  UNNEEDED, same version is already published
tokay2Windows Server 2012 R2 Standard / x64  OK    OK    OK    OK  UNNEEDED, same version is already published
machv2macOS 10.14.6 Mojave / x86_64  OK    OK    OK    OK  UNNEEDED, same version is already published
Package 53/257HostnameOS / ArchINSTALLBUILDCHECKBUILD BIN
DominoEffect 1.12.0  (landing page)
Marija Buljan
git_last_commit: bce8fe8
git_last_commit_date: 2021-05-19 12:33:35 -0400
nebbiolo1Linux (Ubuntu 20.04.2 LTS) / x86_64  OK    OK    OK  UNNEEDED, same version is already published
tokay2Windows Server 2012 R2 Standard / x64  OK    OK    OK    OK  UNNEEDED, same version is already published
machv2macOS 10.14.6 Mojave / x86_64  OK    OK    OK    OK  UNNEEDED, same version is already published
Package 54/257HostnameOS / ArchINSTALLBUILDCHECKBUILD BIN
easyRNASeq 2.28.0  (landing page)
Nicolas Delhomme
git_last_commit: 6d18522
git_last_commit_date: 2021-05-19 11:51:10 -0400
nebbiolo1Linux (Ubuntu 20.04.2 LTS) / x86_64  OK    OK    OK  UNNEEDED, same version is already published
tokay2Windows Server 2012 R2 Standard / x64  OK    OK    OK    OK  UNNEEDED, same version is already published
machv2macOS 10.14.6 Mojave / x86_64  OK    OK    OK    OK  UNNEEDED, same version is already published
Package 55/257HostnameOS / ArchINSTALLBUILDCHECKBUILD BIN
EDASeq 2.26.1  (landing page)
Davide Risso
git_last_commit: 49df07d
git_last_commit_date: 2021-06-18 04:56:09 -0400
nebbiolo1Linux (Ubuntu 20.04.2 LTS) / x86_64  OK    OK    OK  UNNEEDED, same version is already published
tokay2Windows Server 2012 R2 Standard / x64  OK    OK    OK    OK  UNNEEDED, same version is already published
machv2macOS 10.14.6 Mojave / x86_64  OK    OK    OK    OK  UNNEEDED, same version is already published
Package 56/257HostnameOS / ArchINSTALLBUILDCHECKBUILD BIN
ensembldb 2.16.4  (landing page)
Johannes Rainer
git_last_commit: 130dbcc
git_last_commit_date: 2021-08-04 10:18:05 -0400
nebbiolo1Linux (Ubuntu 20.04.2 LTS) / x86_64  OK    OK    OK  UNNEEDED, same version is already published
tokay2Windows Server 2012 R2 Standard / x64  OK    OK    OK    OK  UNNEEDED, same version is already published
machv2macOS 10.14.6 Mojave / x86_64  OK    OK    OK    OK  UNNEEDED, same version is already published
Package 57/257HostnameOS / ArchINSTALLBUILDCHECKBUILD BIN
ensemblVEP 1.34.0  (landing page)
Bioconductor Package Maintainer
git_last_commit: 71a49c5
git_last_commit_date: 2021-05-19 11:54:59 -0400
nebbiolo1Linux (Ubuntu 20.04.2 LTS) / x86_64  OK    OK    OK  UNNEEDED, same version is already published
tokay2Windows Server 2012 R2 Standard / x64... NOT SUPPORTED ...
machv2macOS 10.14.6 Mojave / x86_64  OK    OK    OK    OK  UNNEEDED, same version is already published
Package 58/257HostnameOS / ArchINSTALLBUILDCHECKBUILD BIN
EpiTxDb 1.4.0  (landing page)
Felix G.M. Ernst
git_last_commit: 14681e3
git_last_commit_date: 2021-05-19 12:50:24 -0400
nebbiolo1Linux (Ubuntu 20.04.2 LTS) / x86_64  OK    OK    OK  UNNEEDED, same version is already published
tokay2Windows Server 2012 R2 Standard / x64  OK    OK    OK    OK  UNNEEDED, same version is already published
machv2macOS 10.14.6 Mojave / x86_64  OK    OK    OK    OK  UNNEEDED, same version is already published
Package 59/257HostnameOS / ArchINSTALLBUILDCHECKBUILD BIN
esATAC 1.14.0  (landing page)
Zheng Wei
git_last_commit: 2939dd0
git_last_commit_date: 2021-05-19 12:31:59 -0400
nebbiolo1Linux (Ubuntu 20.04.2 LTS) / x86_64  OK    OK    WARNINGS  UNNEEDED, same version is already published
tokay2Windows Server 2012 R2 Standard / x64  OK    OK    WARNINGS    OK  UNNEEDED, same version is already published
machv2macOS 10.14.6 Mojave / x86_64  OK    OK    WARNINGS    OK  UNNEEDED, same version is already published
Package 60/257HostnameOS / ArchINSTALLBUILDCHECKBUILD BIN
eudysbiome 1.22.0  (landing page)
Xiaoyuan Zhou
git_last_commit: 2309739
git_last_commit_date: 2021-05-19 12:14:56 -0400
nebbiolo1Linux (Ubuntu 20.04.2 LTS) / x86_64  OK    OK    OK  UNNEEDED, same version is already published
tokay2Windows Server 2012 R2 Standard / x64  OK    OK    OK    OK  UNNEEDED, same version is already published
machv2macOS 10.14.6 Mojave / x86_64  OK    OK    OK    OK  UNNEEDED, same version is already published
Package 61/257HostnameOS / ArchINSTALLBUILDCHECKBUILD BIN
EventPointer 3.0.0  (landing page)
Juan A. Ferrer-Bonsoms
git_last_commit: e4f2123
git_last_commit_date: 2021-05-19 12:26:09 -0400
nebbiolo1Linux (Ubuntu 20.04.2 LTS) / x86_64  OK    OK    OK  UNNEEDED, same version is already published
tokay2Windows Server 2012 R2 Standard / x64  OK    OK    OK    OK  UNNEEDED, same version is already published
machv2macOS 10.14.6 Mojave / x86_64  OK    OK    OK    OK  UNNEEDED, same version is already published
Package 62/257HostnameOS / ArchINSTALLBUILDCHECKBUILD BIN
exomePeak2 1.4.2  (landing page)
Zhen Wei
git_last_commit: d8d75f9
git_last_commit_date: 2021-09-07 12:28:10 -0400
nebbiolo1Linux (Ubuntu 20.04.2 LTS) / x86_64  OK    OK    OK  UNNEEDED, same version is already published
tokay2Windows Server 2012 R2 Standard / x64  OK    OK    OK    OK  UNNEEDED, same version is already published
machv2macOS 10.14.6 Mojave / x86_64  OK    OK    OK    OK  UNNEEDED, same version is already published
Package 63/257HostnameOS / ArchINSTALLBUILDCHECKBUILD BIN
FastqCleaner 1.10.0  (landing page)
Leandro Roser
git_last_commit: 6704c61
git_last_commit_date: 2021-05-19 12:36:03 -0400
nebbiolo1Linux (Ubuntu 20.04.2 LTS) / x86_64  OK    OK    OK  UNNEEDED, same version is already published
tokay2Windows Server 2012 R2 Standard / x64  OK    OK    OK    OK  UNNEEDED, same version is already published
machv2macOS 10.14.6 Mojave / x86_64  OK    OK    OK    OK  UNNEEDED, same version is already published
Package 64/257HostnameOS / ArchINSTALLBUILDCHECKBUILD BIN
FindMyFriends 1.22.0  (landing page)
Thomas Lin Pedersen
git_last_commit: 526b1e4
git_last_commit_date: 2021-05-19 12:15:44 -0400
nebbiolo1Linux (Ubuntu 20.04.2 LTS) / x86_64  OK    OK    WARNINGS  UNNEEDED, same version is already published
tokay2Windows Server 2012 R2 Standard / x64  OK    ERROR  skippedskipped
machv2macOS 10.14.6 Mojave / x86_64  OK    OK    WARNINGS    OK  UNNEEDED, same version is already published
Package 65/257HostnameOS / ArchINSTALLBUILDCHECKBUILD BIN
GA4GHclient 1.16.0  (landing page)
Welliton Souza
git_last_commit: d3644e7
git_last_commit_date: 2021-05-19 12:26:45 -0400
nebbiolo1Linux (Ubuntu 20.04.2 LTS) / x86_64  OK    OK    OK  UNNEEDED, same version is already published
tokay2Windows Server 2012 R2 Standard / x64  OK    OK    OK    OK  UNNEEDED, same version is already published
machv2macOS 10.14.6 Mojave / x86_64  OK    OK    OK    OK  UNNEEDED, same version is already published
Package 66/257HostnameOS / ArchINSTALLBUILDCHECKBUILD BIN
gcapc 1.16.0  (landing page)
Mingxiang Teng
git_last_commit: 38a05b9
git_last_commit_date: 2021-05-19 12:24:48 -0400
nebbiolo1Linux (Ubuntu 20.04.2 LTS) / x86_64  OK    OK    OK  UNNEEDED, same version is already published
tokay2Windows Server 2012 R2 Standard / x64  OK    OK    OK    OK  UNNEEDED, same version is already published
machv2macOS 10.14.6 Mojave / x86_64  OK    OK    OK    OK  UNNEEDED, same version is already published
Package 67/257HostnameOS / ArchINSTALLBUILDCHECKBUILD BIN
gcrma 2.64.0  (landing page)
Z. Wu
git_last_commit: 9914de3
git_last_commit_date: 2021-05-19 11:33:18 -0400
nebbiolo1Linux (Ubuntu 20.04.2 LTS) / x86_64  OK    OK    OK  UNNEEDED, same version is already published
tokay2Windows Server 2012 R2 Standard / x64  OK    OK    OK    OK  UNNEEDED, same version is already published
machv2macOS 10.14.6 Mojave / x86_64  OK    OK    OK    OK  UNNEEDED, same version is already published
Package 68/257HostnameOS / ArchINSTALLBUILDCHECKBUILD BIN
genbankr 1.20.0  (landing page)
Gabriel Becker
git_last_commit: 968c425
git_last_commit_date: 2021-05-19 12:19:55 -0400
nebbiolo1Linux (Ubuntu 20.04.2 LTS) / x86_64  OK    OK    OK  UNNEEDED, same version is already published
tokay2Windows Server 2012 R2 Standard / x64  OK    OK    OK    OK  UNNEEDED, same version is already published
machv2macOS 10.14.6 Mojave / x86_64  OK    OK    OK    OK  UNNEEDED, same version is already published
Package 69/257HostnameOS / ArchINSTALLBUILDCHECKBUILD BIN
GeneRegionScan 1.48.0  (landing page)
Lasse Folkersen
git_last_commit: 8331f9a
git_last_commit_date: 2021-05-19 11:43:04 -0400
nebbiolo1Linux (Ubuntu 20.04.2 LTS) / x86_64  OK    OK    OK  UNNEEDED, same version is already published
tokay2Windows Server 2012 R2 Standard / x64  OK    OK    OK    OK  UNNEEDED, same version is already published
machv2macOS 10.14.6 Mojave / x86_64  OK    OK    OK    OK  UNNEEDED, same version is already published
Package 70/257HostnameOS / ArchINSTALLBUILDCHECKBUILD BIN
GeneStructureTools 1.12.0  (landing page)
Beth Signal
git_last_commit: 1b05c47
git_last_commit_date: 2021-05-19 12:33:53 -0400
nebbiolo1Linux (Ubuntu 20.04.2 LTS) / x86_64  OK    OK    OK  UNNEEDED, same version is already published
tokay2Windows Server 2012 R2 Standard / x64  OK    OK    OK    OK  UNNEEDED, same version is already published
machv2macOS 10.14.6 Mojave / x86_64  OK    OK    OK    OK  UNNEEDED, same version is already published
Package 71/257HostnameOS / ArchINSTALLBUILDCHECKBUILD BIN
GenoGAM 2.10.0  (landing page)
Georg Stricker
git_last_commit: 3b86b0c
git_last_commit_date: 2021-05-19 12:19:19 -0400
nebbiolo1Linux (Ubuntu 20.04.2 LTS) / x86_64  OK    OK    WARNINGS  UNNEEDED, same version is already published
tokay2Windows Server 2012 R2 Standard / x64  OK    OK    WARNINGS    OK  UNNEEDED, same version is already published
machv2macOS 10.14.6 Mojave / x86_64  OK    OK    WARNINGS    OK  UNNEEDED, same version is already published
Package 72/257HostnameOS / ArchINSTALLBUILDCHECKBUILD BIN
genomation 1.24.0  (landing page)
Altuna Akalin , Vedran Franke
git_last_commit: 94f0278
git_last_commit_date: 2021-05-19 12:09:55 -0400
nebbiolo1Linux (Ubuntu 20.04.2 LTS) / x86_64  OK    OK    WARNINGS  UNNEEDED, same version is already published
tokay2Windows Server 2012 R2 Standard / x64  OK    OK    WARNINGS    OK  UNNEEDED, same version is already published
machv2macOS 10.14.6 Mojave / x86_64  OK    OK    WARNINGS    OK  UNNEEDED, same version is already published
Package 73/257HostnameOS / ArchINSTALLBUILDCHECKBUILD BIN
GenomicAlignments 1.28.0  (landing page)
Bioconductor Package Maintainer
git_last_commit: e755dc1
git_last_commit_date: 2021-05-19 12:01:53 -0400
nebbiolo1Linux (Ubuntu 20.04.2 LTS) / x86_64  OK    OK    OK  UNNEEDED, same version is already published
tokay2Windows Server 2012 R2 Standard / x64  OK    OK    OK    OK  UNNEEDED, same version is already published
machv2macOS 10.14.6 Mojave / x86_64  OK    OK    OK    OK  UNNEEDED, same version is already published
Package 74/257HostnameOS / ArchINSTALLBUILDCHECKBUILD BIN
GenomicDistributions 1.0.0  (landing page)
Kristyna Kupkova
git_last_commit: 84c4876
git_last_commit_date: 2021-05-19 12:58:49 -0400
nebbiolo1Linux (Ubuntu 20.04.2 LTS) / x86_64  OK    OK    OK  UNNEEDED, same version is already published
tokay2Windows Server 2012 R2 Standard / x64  OK    OK    OK    OK  UNNEEDED, same version is already published
machv2macOS 10.14.6 Mojave / x86_64  OK    OK    OK    OK  UNNEEDED, same version is already published
Package 75/257HostnameOS / ArchINSTALLBUILDCHECKBUILD BIN
GenomicFeatures 1.44.2  (landing page)
Bioconductor Package Maintainer
git_last_commit: 49566bc
git_last_commit_date: 2021-08-26 00:53:36 -0400
nebbiolo1Linux (Ubuntu 20.04.2 LTS) / x86_64  OK    OK    WARNINGS  UNNEEDED, same version is already published
tokay2Windows Server 2012 R2 Standard / x64  OK    OK    WARNINGS    OK  UNNEEDED, same version is already published
machv2macOS 10.14.6 Mojave / x86_64  OK    OK    WARNINGS    OK  UNNEEDED, same version is already published
Package 76/257HostnameOS / ArchINSTALLBUILDCHECKBUILD BIN
GenomicScores 2.4.0  (landing page)
Robert Castelo
git_last_commit: 4b46561
git_last_commit_date: 2021-05-19 12:27:15 -0400
nebbiolo1Linux (Ubuntu 20.04.2 LTS) / x86_64  OK    OK    OK  UNNEEDED, same version is already published
tokay2Windows Server 2012 R2 Standard / x64  OK    OK    OK    OK  UNNEEDED, same version is already published
machv2macOS 10.14.6 Mojave / x86_64  OK    OK    OK    OK  UNNEEDED, same version is already published
Package 77/257HostnameOS / ArchINSTALLBUILDCHECKBUILD BIN
genphen 1.20.0  (landing page)
Simo Kitanovski
git_last_commit: 33793d8
git_last_commit_date: 2021-05-19 12:19:10 -0400
nebbiolo1Linux (Ubuntu 20.04.2 LTS) / x86_64  OK    OK    OK  UNNEEDED, same version is already published
tokay2Windows Server 2012 R2 Standard / x64  OK    ERROR  skippedskipped
machv2macOS 10.14.6 Mojave / x86_64  OK    ERROR  skippedskipped
Package 78/257HostnameOS / ArchINSTALLBUILDCHECKBUILD BIN
GenVisR 1.24.0  (landing page)
Zachary Skidmore
git_last_commit: 3b6abcf
git_last_commit_date: 2021-05-19 12:17:38 -0400
nebbiolo1Linux (Ubuntu 20.04.2 LTS) / x86_64  OK    OK    OK  UNNEEDED, same version is already published
tokay2Windows Server 2012 R2 Standard / x64  OK    OK    OK    OK  UNNEEDED, same version is already published
machv2macOS 10.14.6 Mojave / x86_64  OK    OK    OK    OK  UNNEEDED, same version is already published
Package 79/257HostnameOS / ArchINSTALLBUILDCHECKBUILD BIN
ggbio 1.40.0  (landing page)
Michael Lawrence
git_last_commit: c084632
git_last_commit_date: 2021-05-19 11:50:29 -0400
nebbiolo1Linux (Ubuntu 20.04.2 LTS) / x86_64  OK    OK    WARNINGS  UNNEEDED, same version is already published
tokay2Windows Server 2012 R2 Standard / x64  OK    OK    WARNINGS    OK  UNNEEDED, same version is already published
machv2macOS 10.14.6 Mojave / x86_64  OK    OK    WARNINGS    OK  UNNEEDED, same version is already published
Package 80/257HostnameOS / ArchINSTALLBUILDCHECKBUILD BIN
girafe 1.44.0  (landing page)
J. Toedling
git_last_commit: e753ae6
git_last_commit_date: 2021-05-19 11:45:04 -0400
nebbiolo1Linux (Ubuntu 20.04.2 LTS) / x86_64  OK    OK    OK  UNNEEDED, same version is already published
tokay2Windows Server 2012 R2 Standard / x64  OK    OK    OK    OK  UNNEEDED, same version is already published
machv2macOS 10.14.6 Mojave / x86_64  OK    OK    OK    OK  UNNEEDED, same version is already published
Package 81/257HostnameOS / ArchINSTALLBUILDCHECKBUILD BIN
gmapR 1.34.0  (landing page)
Michael Lawrence
git_last_commit: 3262a4e
git_last_commit_date: 2021-05-19 11:53:08 -0400
nebbiolo1Linux (Ubuntu 20.04.2 LTS) / x86_64  OK    OK    WARNINGS  UNNEEDED, same version is already published
tokay2Windows Server 2012 R2 Standard / x64... NOT SUPPORTED ...
machv2macOS 10.14.6 Mojave / x86_64  OK    OK    WARNINGS    OK  UNNEEDED, same version is already published
Package 82/257HostnameOS / ArchINSTALLBUILDCHECKBUILD BIN
gmoviz 1.4.0  (landing page)
Kathleen Zeglinski
git_last_commit: 8eb5807
git_last_commit_date: 2021-05-19 12:50:37 -0400
nebbiolo1Linux (Ubuntu 20.04.2 LTS) / x86_64  OK    OK    OK  UNNEEDED, same version is already published
tokay2Windows Server 2012 R2 Standard / x64  OK    OK    OK    OK  UNNEEDED, same version is already published
machv2macOS 10.14.6 Mojave / x86_64  OK    OK    OK    OK  UNNEEDED, same version is already published
Package 83/257HostnameOS / ArchINSTALLBUILDCHECKBUILD BIN
GOTHiC 1.28.0  (landing page)
Borbala Mifsud
git_last_commit: 4898bfc
git_last_commit_date: 2021-05-19 12:44:42 -0400
nebbiolo1Linux (Ubuntu 20.04.2 LTS) / x86_64  OK    OK    OK  UNNEEDED, same version is already published
tokay2Windows Server 2012 R2 Standard / x64  OK    OK    OK    OK  UNNEEDED, same version is already published
machv2macOS 10.14.6 Mojave / x86_64  OK    OK    OK    OK  UNNEEDED, same version is already published
Package 84/257HostnameOS / ArchINSTALLBUILDCHECKBUILD BIN
GUIDEseq 1.22.0  (landing page)
Lihua Julie Zhu
git_last_commit: d6c83e7
git_last_commit_date: 2021-05-19 12:16:19 -0400
nebbiolo1Linux (Ubuntu 20.04.2 LTS) / x86_64  OK    OK    OK  UNNEEDED, same version is already published
tokay2Windows Server 2012 R2 Standard / x64  OK    OK    OK    OK  UNNEEDED, same version is already published
machv2macOS 10.14.6 Mojave / x86_64  OK    OK    OK    OK  UNNEEDED, same version is already published
Package 85/257HostnameOS / ArchINSTALLBUILDCHECKBUILD BIN
Gviz 1.36.2  (landing page)
Robert Ivanek
git_last_commit: 742ed80
git_last_commit_date: 2021-07-02 05:34:16 -0400
nebbiolo1Linux (Ubuntu 20.04.2 LTS) / x86_64  OK    OK    OK  UNNEEDED, same version is already published
tokay2Windows Server 2012 R2 Standard / x64  OK    OK    OK    OK  UNNEEDED, same version is already published
machv2macOS 10.14.6 Mojave / x86_64  OK    OK    OK    OK  UNNEEDED, same version is already published
Package 86/257HostnameOS / ArchINSTALLBUILDCHECKBUILD BIN
gwascat 2.24.0  (landing page)
VJ Carey
git_last_commit: d251baa
git_last_commit_date: 2021-05-19 11:51:31 -0400
nebbiolo1Linux (Ubuntu 20.04.2 LTS) / x86_64  OK    OK    OK  UNNEEDED, same version is already published
tokay2Windows Server 2012 R2 Standard / x64  OK    OK    OK    OK  UNNEEDED, same version is already published
machv2macOS 10.14.6 Mojave / x86_64  OK    OK    OK    OK  UNNEEDED, same version is already published
Package 87/257HostnameOS / ArchINSTALLBUILDCHECKBUILD BIN
h5vc 2.26.1  (landing page)
Paul Theodor Pyl
git_last_commit: 95d3f8b
git_last_commit_date: 2021-05-21 16:31:59 -0400
nebbiolo1Linux (Ubuntu 20.04.2 LTS) / x86_64  OK    OK    WARNINGS  UNNEEDED, same version is already published
tokay2Windows Server 2012 R2 Standard / x64  OK    OK    WARNINGS    OK  UNNEEDED, same version is already published
machv2macOS 10.14.6 Mojave / x86_64  OK    OK    WARNINGS    OK  UNNEEDED, same version is already published
Package 88/257HostnameOS / ArchINSTALLBUILDCHECKBUILD BIN
heatmaps 1.16.0  (landing page)
Malcolm Perry
git_last_commit: c35acce
git_last_commit_date: 2021-05-19 12:27:40 -0400
nebbiolo1Linux (Ubuntu 20.04.2 LTS) / x86_64  OK    OK    OK  UNNEEDED, same version is already published
tokay2Windows Server 2012 R2 Standard / x64  OK    OK    OK    OK  UNNEEDED, same version is already published
machv2macOS 10.14.6 Mojave / x86_64  OK    OK    OK    OK  UNNEEDED, same version is already published
Package 89/257HostnameOS / ArchINSTALLBUILDCHECKBUILD BIN
HelloRanges 1.18.0  (landing page)
Michael Lawrence
git_last_commit: e9067d1
git_last_commit_date: 2021-05-19 12:23:56 -0400
nebbiolo1Linux (Ubuntu 20.04.2 LTS) / x86_64  OK    OK    WARNINGS  UNNEEDED, same version is already published
tokay2Windows Server 2012 R2 Standard / x64  OK    OK    WARNINGS    OK  UNNEEDED, same version is already published
machv2macOS 10.14.6 Mojave / x86_64  OK    ERROR  skippedskipped
Package 90/257HostnameOS / ArchINSTALLBUILDCHECKBUILD BIN
HiCDCPlus 1.0.0  (landing page)
Merve Sahin
git_last_commit: c666131
git_last_commit_date: 2021-05-19 12:59:52 -0400
nebbiolo1Linux (Ubuntu 20.04.2 LTS) / x86_64  OK    OK    OK  UNNEEDED, same version is already published
tokay2Windows Server 2012 R2 Standard / x64  OK    ERROR  skippedskipped
machv2macOS 10.14.6 Mojave / x86_64  OK    OK    OK    OK  UNNEEDED, same version is already published
Package 91/257HostnameOS / ArchINSTALLBUILDCHECKBUILD BIN
HiLDA 1.6.0  (landing page)
Zhi Yang
git_last_commit: f7ac306
git_last_commit_date: 2021-05-19 12:45:01 -0400
nebbiolo1Linux (Ubuntu 20.04.2 LTS) / x86_64  OK    OK    OK  UNNEEDED, same version is already published
tokay2Windows Server 2012 R2 Standard / x64  OK    OK    OK    OK  UNNEEDED, same version is already published
machv2macOS 10.14.6 Mojave / x86_64  OK    OK    OK    OK  UNNEEDED, same version is already published
Package 92/257HostnameOS / ArchINSTALLBUILDCHECKBUILD BIN
hiReadsProcessor 1.28.0  (landing page)
Nirav V Malani
git_last_commit: daa41a6
git_last_commit_date: 2021-05-19 12:07:00 -0400
nebbiolo1Linux (Ubuntu 20.04.2 LTS) / x86_64  OK    OK    OK  UNNEEDED, same version is already published
tokay2Windows Server 2012 R2 Standard / x64... NOT SUPPORTED ...
machv2macOS 10.14.6 Mojave / x86_64  OK    OK    OK    OK  UNNEEDED, same version is already published
Package 93/257HostnameOS / ArchINSTALLBUILDCHECKBUILD BIN
HiTC 1.36.0  (landing page)
Nicolas Servant
git_last_commit: 012dec8
git_last_commit_date: 2021-05-19 11:52:11 -0400
nebbiolo1Linux (Ubuntu 20.04.2 LTS) / x86_64  OK    OK    OK  UNNEEDED, same version is already published
tokay2Windows Server 2012 R2 Standard / x64  OK    OK    OK    OK  UNNEEDED, same version is already published
machv2macOS 10.14.6 Mojave / x86_64  OK    OK    OK    OK  UNNEEDED, same version is already published
Package 94/257HostnameOS / ArchINSTALLBUILDCHECKBUILD BIN
HTSeqGenie 4.22.0  (landing page)
Jens Reeder
git_last_commit: ddd1eb5
git_last_commit_date: 2021-05-19 11:54:22 -0400
nebbiolo1Linux (Ubuntu 20.04.2 LTS) / x86_64  OK    OK    OK  UNNEEDED, same version is already published
tokay2Windows Server 2012 R2 Standard / x64... NOT SUPPORTED ...
machv2macOS 10.14.6 Mojave / x86_64... NOT SUPPORTED ...
Package 95/257HostnameOS / ArchINSTALLBUILDCHECKBUILD BIN
icetea 1.10.0  (landing page)
Vivek Bhardwaj
git_last_commit: b536bec
git_last_commit_date: 2021-05-19 12:36:20 -0400
nebbiolo1Linux (Ubuntu 20.04.2 LTS) / x86_64  OK    OK    OK  UNNEEDED, same version is already published
tokay2Windows Server 2012 R2 Standard / x64  OK    OK    OK    OK  UNNEEDED, same version is already published
machv2macOS 10.14.6 Mojave / x86_64  OK    OK    OK    OK  UNNEEDED, same version is already published
Package 96/257HostnameOS / ArchINSTALLBUILDCHECKBUILD BIN
idpr 1.2.0  (landing page)
William M. McFadden
git_last_commit: 035b726
git_last_commit_date: 2021-05-19 12:54:53 -0400
nebbiolo1Linux (Ubuntu 20.04.2 LTS) / x86_64  OK    OK    OK  UNNEEDED, same version is already published
tokay2Windows Server 2012 R2 Standard / x64  OK    OK    OK    OK  UNNEEDED, same version is already published
machv2macOS 10.14.6 Mojave / x86_64  OK    OK    OK    OK  UNNEEDED, same version is already published
Package 97/257HostnameOS / ArchINSTALLBUILDCHECKBUILD BIN
IMMAN 1.12.0  (landing page)
Minoo Ashtiani
git_last_commit: 9df3185
git_last_commit_date: 2021-05-19 12:34:25 -0400
nebbiolo1Linux (Ubuntu 20.04.2 LTS) / x86_64  OK    OK    OK  UNNEEDED, same version is already published
tokay2Windows Server 2012 R2 Standard / x64  OK    OK    OK    OK  UNNEEDED, same version is already published
machv2macOS 10.14.6 Mojave / x86_64  OK    OK    OK    OK  UNNEEDED, same version is already published
Package 98/257HostnameOS / ArchINSTALLBUILDCHECKBUILD BIN
InPAS 2.0.0  (landing page)
Jianhong Ou
git_last_commit: d402f5c
git_last_commit_date: 2021-05-19 12:12:03 -0400
nebbiolo1Linux (Ubuntu 20.04.2 LTS) / x86_64  OK    OK    OK  UNNEEDED, same version is already published
tokay2Windows Server 2012 R2 Standard / x64  OK    OK    OK    OK  UNNEEDED, same version is already published
machv2macOS 10.14.6 Mojave / x86_64  OK    OK    OK    OK  UNNEEDED, same version is already published
Package 99/257HostnameOS / ArchINSTALLBUILDCHECKBUILD BIN
IntEREst 1.16.0  (landing page)
Ali Oghabian , Mikko Frilander
git_last_commit: 4d75a7c
git_last_commit_date: 2021-05-19 12:26:24 -0400
nebbiolo1Linux (Ubuntu 20.04.2 LTS) / x86_64  OK    OK    OK  UNNEEDED, same version is already published
tokay2Windows Server 2012 R2 Standard / x64  OK    OK    OK    OK  UNNEEDED, same version is already published
machv2macOS 10.14.6 Mojave / x86_64  OK    OK    OK    OK  UNNEEDED, same version is already published
Package 100/257HostnameOS / ArchINSTALLBUILDCHECKBUILD BIN
InterMineR 1.14.1  (landing page)
InterMine Team
git_last_commit: 1a090a5
git_last_commit_date: 2021-05-27 05:34:42 -0400
nebbiolo1Linux (Ubuntu 20.04.2 LTS) / x86_64  OK    OK    WARNINGS  UNNEEDED, same version is already published
tokay2Windows Server 2012 R2 Standard / x64  OK    OK    WARNINGS    OK  UNNEEDED, same version is already published
machv2macOS 10.14.6 Mojave / x86_64  OK    OK    WARNINGS    OK  UNNEEDED, same version is already published
Package 101/257HostnameOS / ArchINSTALLBUILDCHECKBUILD BIN
IONiseR 2.16.0  (landing page)
Mike Smith
git_last_commit: e9be4a9
git_last_commit_date: 2021-05-19 12:14:13 -0400
nebbiolo1Linux (Ubuntu 20.04.2 LTS) / x86_64  OK    OK    OK  UNNEEDED, same version is already published
tokay2Windows Server 2012 R2 Standard / x64  OK    OK    OK    OK  UNNEEDED, same version is already published
machv2macOS 10.14.6 Mojave / x86_64  OK    OK    OK    OK  UNNEEDED, same version is already published
Package 102/257HostnameOS / ArchINSTALLBUILDCHECKBUILD BIN
iPAC 1.36.0  (landing page)
Gregory Ryslik
git_last_commit: c449c77
git_last_commit_date: 2021-05-19 11:53:11 -0400
nebbiolo1Linux (Ubuntu 20.04.2 LTS) / x86_64  OK    OK    OK  UNNEEDED, same version is already published
tokay2Windows Server 2012 R2 Standard / x64  OK    OK    OK    OK  UNNEEDED, same version is already published
machv2macOS 10.14.6 Mojave / x86_64  OK    OK    OK    OK  UNNEEDED, same version is already published
Package 103/257HostnameOS / ArchINSTALLBUILDCHECKBUILD BIN
ipdDb 1.10.0  (landing page)
Steffen Klasberg
git_last_commit: 926b8bd
git_last_commit_date: 2021-05-19 12:36:37 -0400
nebbiolo1Linux (Ubuntu 20.04.2 LTS) / x86_64  OK    OK    OK  UNNEEDED, same version is already published
tokay2Windows Server 2012 R2 Standard / x64  OK    OK    OK    OK  UNNEEDED, same version is already published
machv2macOS 10.14.6 Mojave / x86_64  OK    OK    OK    OK  UNNEEDED, same version is already published
Package 104/257HostnameOS / ArchINSTALLBUILDCHECKBUILD BIN
IsoformSwitchAnalyzeR 1.14.0  (landing page)
Kristoffer Vitting-Seerup
git_last_commit: e42bc78
git_last_commit_date: 2021-05-19 12:28:14 -0400
nebbiolo1Linux (Ubuntu 20.04.2 LTS) / x86_64  OK    ERROR  skipped
tokay2Windows Server 2012 R2 Standard / x64  OK    ERROR  skippedskipped
machv2macOS 10.14.6 Mojave / x86_64  OK    ERROR  skippedskipped
Package 105/257HostnameOS / ArchINSTALLBUILDCHECKBUILD BIN
kebabs 1.26.1  (landing page)
Ulrich Bodenhofer
git_last_commit: 6abd0f9
git_last_commit_date: 2021-06-18 09:06:41 -0400
nebbiolo1Linux (Ubuntu 20.04.2 LTS) / x86_64  OK    OK    OK  UNNEEDED, same version is already published
tokay2Windows Server 2012 R2 Standard / x64  OK    OK    OK    OK  UNNEEDED, same version is already published
machv2macOS 10.14.6 Mojave / x86_64  OK    OK    OK    OK  UNNEEDED, same version is already published
Package 106/257HostnameOS / ArchINSTALLBUILDCHECKBUILD BIN
KEGGREST 1.32.0  (landing page)
Bioconductor Package Maintainer
git_last_commit: 25656cd
git_last_commit_date: 2021-05-19 11:55:14 -0400
nebbiolo1Linux (Ubuntu 20.04.2 LTS) / x86_64  OK    OK    OK  UNNEEDED, same version is already published
tokay2Windows Server 2012 R2 Standard / x64  OK    OK    OK    OK  UNNEEDED, same version is already published
machv2macOS 10.14.6 Mojave / x86_64  OK    OK    OK    OK  UNNEEDED, same version is already published
Package 107/257HostnameOS / ArchINSTALLBUILDCHECKBUILD BIN
LowMACA 1.22.0  (landing page)
Stefano de Pretis , Giorgio Melloni
git_last_commit: b9b4a18
git_last_commit_date: 2021-05-19 12:12:19 -0400
nebbiolo1Linux (Ubuntu 20.04.2 LTS) / x86_64  OK    OK    OK  UNNEEDED, same version is already published
tokay2Windows Server 2012 R2 Standard / x64  OK    OK    OK    OK  UNNEEDED, same version is already published
machv2macOS 10.14.6 Mojave / x86_64  OK    OK    OK    OK  UNNEEDED, same version is already published
Package 108/257HostnameOS / ArchINSTALLBUILDCHECKBUILD BIN
LymphoSeq 1.20.0  (landing page)
David Coffey
git_last_commit: 672762d
git_last_commit_date: 2021-05-19 12:19:57 -0400
nebbiolo1Linux (Ubuntu 20.04.2 LTS) / x86_64  OK    OK    OK  UNNEEDED, same version is already published
tokay2Windows Server 2012 R2 Standard / x64  OK    OK    OK    OK  UNNEEDED, same version is already published
machv2macOS 10.14.6 Mojave / x86_64  OK    OK    OK    OK  UNNEEDED, same version is already published
Package 109/257HostnameOS / ArchINSTALLBUILDCHECKBUILD BIN
MACPET 1.12.0  (landing page)
Ioannis Vardaxis
git_last_commit: 2e34842
git_last_commit_date: 2021-05-19 12:33:30 -0400
nebbiolo1Linux (Ubuntu 20.04.2 LTS) / x86_64  OK    OK    OK  UNNEEDED, same version is already published
tokay2Windows Server 2012 R2 Standard / x64  OK    OK    OK    OK  UNNEEDED, same version is already published
machv2macOS 10.14.6 Mojave / x86_64  OK    OK    OK    OK  UNNEEDED, same version is already published
Package 110/257HostnameOS / ArchINSTALLBUILDCHECKBUILD BIN
MADSEQ 1.18.0  (landing page)
Yu Kong
git_last_commit: 64cfc9c
git_last_commit_date: 2021-05-19 12:20:58 -0400
nebbiolo1Linux (Ubuntu 20.04.2 LTS) / x86_64  OK    OK    OK  UNNEEDED, same version is already published
tokay2Windows Server 2012 R2 Standard / x64  OK    OK    OK    OK  UNNEEDED, same version is already published
machv2macOS 10.14.6 Mojave / x86_64  OK    OK    OK    OK  UNNEEDED, same version is already published
Package 111/257HostnameOS / ArchINSTALLBUILDCHECKBUILD BIN
MatrixRider 1.24.0  (landing page)
Elena Grassi
git_last_commit: 9eb06fd
git_last_commit_date: 2021-05-19 12:11:48 -0400
nebbiolo1Linux (Ubuntu 20.04.2 LTS) / x86_64  OK    OK    OK  UNNEEDED, same version is already published
tokay2Windows Server 2012 R2 Standard / x64  OK    OK    OK    OK  UNNEEDED, same version is already published
machv2macOS 10.14.6 Mojave / x86_64  OK    OK    OK    OK  UNNEEDED, same version is already published
Package 112/257HostnameOS / ArchINSTALLBUILDCHECKBUILD BIN
MDTS 1.12.0  (landing page)
Jack M.. Fu
git_last_commit: e0ad157
git_last_commit_date: 2021-05-19 12:33:55 -0400
nebbiolo1Linux (Ubuntu 20.04.2 LTS) / x86_64  OK    OK    OK  UNNEEDED, same version is already published
tokay2Windows Server 2012 R2 Standard / x64  OK    OK    OK    OK  UNNEEDED, same version is already published
machv2macOS 10.14.6 Mojave / x86_64  OK    OK    OK    OK  UNNEEDED, same version is already published
Package 113/257HostnameOS / ArchINSTALLBUILDCHECKBUILD BIN
MEDIPS 1.44.0  (landing page)
Lukas Chavez
git_last_commit: 4df0aee
git_last_commit_date: 2021-05-19 11:46:46 -0400
nebbiolo1Linux (Ubuntu 20.04.2 LTS) / x86_64  OK    OK    OK  UNNEEDED, same version is already published
tokay2Windows Server 2012 R2 Standard / x64  OK    OK    OK    OK  UNNEEDED, same version is already published
machv2macOS 10.14.6 Mojave / x86_64  OK    OK    OK    OK  UNNEEDED, same version is already published
Package 114/257HostnameOS / ArchINSTALLBUILDCHECKBUILD BIN
MEDME 1.52.0  (landing page)
Mattia Pelizzola
git_last_commit: c435a94
git_last_commit_date: 2021-05-19 11:41:43 -0400
nebbiolo1Linux (Ubuntu 20.04.2 LTS) / x86_64  OK    OK    WARNINGS  UNNEEDED, same version is already published
tokay2Windows Server 2012 R2 Standard / x64  OK    OK    WARNINGS    OK  UNNEEDED, same version is already published
machv2macOS 10.14.6 Mojave / x86_64  OK    OK    WARNINGS    OK  UNNEEDED, same version is already published
Package 115/257HostnameOS / ArchINSTALLBUILDCHECKBUILD BIN
memes 1.0.4  (landing page)
Spencer Nystrom
git_last_commit: 7a80e64
git_last_commit_date: 2021-08-06 09:00:42 -0400
nebbiolo1Linux (Ubuntu 20.04.2 LTS) / x86_64  OK    OK    OK  UNNEEDED, same version is already published
tokay2Windows Server 2012 R2 Standard / x64  OK    OK    OK    OK  UNNEEDED, same version is already published
machv2macOS 10.14.6 Mojave / x86_64  OK    OK    OK    OK  UNNEEDED, same version is already published
Package 116/257HostnameOS / ArchINSTALLBUILDCHECKBUILD BIN
MesKit 1.2.0  (landing page)
Mengni Liu
git_last_commit: faa3f2a
git_last_commit_date: 2021-05-19 12:54:10 -0400
nebbiolo1Linux (Ubuntu 20.04.2 LTS) / x86_64  OK    OK    OK  UNNEEDED, same version is already published
tokay2Windows Server 2012 R2 Standard / x64  OK    OK    OK    OK  UNNEEDED, same version is already published
machv2macOS 10.14.6 Mojave / x86_64  OK    OK    OK    OK  UNNEEDED, same version is already published
Package 117/257HostnameOS / ArchINSTALLBUILDCHECKBUILD BIN
metagenomeFeatures 2.12.0  (landing page)
Nathan D. Olson
git_last_commit: ae94722
git_last_commit_date: 2021-05-19 12:16:05 -0400
nebbiolo1Linux (Ubuntu 20.04.2 LTS) / x86_64  OK    ERROR  skipped
tokay2Windows Server 2012 R2 Standard / x64  OK    ERROR  skippedskipped
machv2macOS 10.14.6 Mojave / x86_64  OK    ERROR  skippedskipped
Package 118/257HostnameOS / ArchINSTALLBUILDCHECKBUILD BIN
metaseqR2 1.4.11  (landing page)
Panagiotis Moulos
git_last_commit: 56cb2d4
git_last_commit_date: 2021-09-19 06:50:06 -0400
nebbiolo1Linux (Ubuntu 20.04.2 LTS) / x86_64  OK    ERROR  skipped
tokay2Windows Server 2012 R2 Standard / x64  OK    ERROR  skippedskipped
machv2macOS 10.14.6 Mojave / x86_64  OK    ERROR  skippedskipped
Package 119/257HostnameOS / ArchINSTALLBUILDCHECKBUILD BIN
methimpute 1.14.0  (landing page)
Aaron Taudt
git_last_commit: b24384b
git_last_commit_date: 2021-05-19 12:30:55 -0400
nebbiolo1Linux (Ubuntu 20.04.2 LTS) / x86_64  OK    OK    OK  UNNEEDED, same version is already published
tokay2Windows Server 2012 R2 Standard / x64  OK    OK    OK    OK  UNNEEDED, same version is already published
machv2macOS 10.14.6 Mojave / x86_64  OK    OK    OK    OK  UNNEEDED, same version is already published
Package 120/257HostnameOS / ArchINSTALLBUILDCHECKBUILD BIN
MethTargetedNGS 1.24.0  (landing page)
Muhammad Ahmer Jamil
git_last_commit: ca02db6
git_last_commit_date: 2021-05-19 12:13:05 -0400
nebbiolo1Linux (Ubuntu 20.04.2 LTS) / x86_64  OK    OK    OK  UNNEEDED, same version is already published
tokay2Windows Server 2012 R2 Standard / x64  OK    OK    OK    OK  UNNEEDED, same version is already published
machv2macOS 10.14.6 Mojave / x86_64  OK    OK    OK    OK  UNNEEDED, same version is already published
Package 121/257HostnameOS / ArchINSTALLBUILDCHECKBUILD BIN
methylPipe 1.26.0  (landing page)
Kamal Kishore
git_last_commit: ca8dade
git_last_commit_date: 2021-05-19 12:07:06 -0400
nebbiolo1Linux (Ubuntu 20.04.2 LTS) / x86_64  OK    OK    WARNINGS  UNNEEDED, same version is already published
tokay2Windows Server 2012 R2 Standard / x64  OK    OK    WARNINGS    OK  UNNEEDED, same version is already published
machv2macOS 10.14.6 Mojave / x86_64  OK    OK    WARNINGS    OK  UNNEEDED, same version is already published
Package 122/257HostnameOS / ArchINSTALLBUILDCHECKBUILD BIN
methylscaper 1.0.0  (landing page)
Bacher Rhonda
git_last_commit: de134ea
git_last_commit_date: 2021-05-19 13:00:56 -0400
nebbiolo1Linux (Ubuntu 20.04.2 LTS) / x86_64  OK    OK    OK  UNNEEDED, same version is already published
tokay2Windows Server 2012 R2 Standard / x64  OK    OK    OK    OK  UNNEEDED, same version is already published
machv2macOS 10.14.6 Mojave / x86_64  OK    OK    OK    OK  UNNEEDED, same version is already published
Package 123/257HostnameOS / ArchINSTALLBUILDCHECKBUILD BIN
mia 1.0.8  (landing page)
Felix G.M. Ernst
git_last_commit: 95eeac0
git_last_commit_date: 2021-07-30 16:13:43 -0400
nebbiolo1Linux (Ubuntu 20.04.2 LTS) / x86_64  OK    OK    OK  UNNEEDED, same version is already published
tokay2Windows Server 2012 R2 Standard / x64  OK    OK    OK    OK  UNNEEDED, same version is already published
machv2macOS 10.14.6 Mojave / x86_64  OK    OK    OK    OK  UNNEEDED, same version is already published
Package 124/257HostnameOS / ArchINSTALLBUILDCHECKBUILD BIN
MicrobiotaProcess 1.4.3  (landing page)
Shuangbin Xu
git_last_commit: ccfd4a0
git_last_commit_date: 2021-09-18 01:55:28 -0400
nebbiolo1Linux (Ubuntu 20.04.2 LTS) / x86_64  OK    OK    OK  UNNEEDED, same version is already published
tokay2Windows Server 2012 R2 Standard / x64  OK    OK    OK    OK  UNNEEDED, same version is already published
machv2macOS 10.14.6 Mojave / x86_64  OK    OK    OK    OK  UNNEEDED, same version is already published
Package 125/257HostnameOS / ArchINSTALLBUILDCHECKBUILD BIN
microRNA 1.50.0  (landing page)
"James F. Reid"
git_last_commit: a72a3a3
git_last_commit_date: 2021-05-19 11:41:48 -0400
nebbiolo1Linux (Ubuntu 20.04.2 LTS) / x86_64  OK    OK    OK  UNNEEDED, same version is already published
tokay2Windows Server 2012 R2 Standard / x64  OK    OK    OK    OK  UNNEEDED, same version is already published
machv2macOS 10.14.6 Mojave / x86_64  OK    OK    OK    OK  UNNEEDED, same version is already published
Package 126/257HostnameOS / ArchINSTALLBUILDCHECKBUILD BIN
minfi 1.38.0  (landing page)
Kasper Daniel Hansen
git_last_commit: ff3bf4a
git_last_commit_date: 2021-05-19 11:50:18 -0400
nebbiolo1Linux (Ubuntu 20.04.2 LTS) / x86_64  OK    OK    OK  UNNEEDED, same version is already published
tokay2Windows Server 2012 R2 Standard / x64  OK    OK    OK    OK  UNNEEDED, same version is already published
machv2macOS 10.14.6 Mojave / x86_64  OK    OK    OK    OK  UNNEEDED, same version is already published
Package 127/257HostnameOS / ArchINSTALLBUILDCHECKBUILD BIN
MMDiff2 1.20.0  (landing page)
Gabriele Schweikert
git_last_commit: d1abce8
git_last_commit_date: 2021-05-19 12:20:25 -0400
nebbiolo1Linux (Ubuntu 20.04.2 LTS) / x86_64  OK    OK    OK  UNNEEDED, same version is already published
tokay2Windows Server 2012 R2 Standard / x64  OK    OK    WARNINGS    OK  UNNEEDED, same version is already published
machv2macOS 10.14.6 Mojave / x86_64  OK    OK    OK    OK  UNNEEDED, same version is already published
Package 128/257HostnameOS / ArchINSTALLBUILDCHECKBUILD BIN
Modstrings 1.8.0  (landing page)
Felix G.M. Ernst
git_last_commit: 8d52df1
git_last_commit_date: 2021-05-19 12:41:35 -0400
nebbiolo1Linux (Ubuntu 20.04.2 LTS) / x86_64  OK    OK    OK  UNNEEDED, same version is already published
tokay2Windows Server 2012 R2 Standard / x64  OK    OK    OK    OK  UNNEEDED, same version is already published
machv2macOS 10.14.6 Mojave / x86_64  OK    OK    OK    OK  UNNEEDED, same version is already published
Package 129/257HostnameOS / ArchINSTALLBUILDCHECKBUILD BIN
motifbreakR 2.6.1  (landing page)
Simon Gert Coetzee
git_last_commit: ed220a9
git_last_commit_date: 2021-07-20 16:57:08 -0400
nebbiolo1Linux (Ubuntu 20.04.2 LTS) / x86_64  OK    OK    WARNINGS  UNNEEDED, same version is already published
tokay2Windows Server 2012 R2 Standard / x64  OK    OK    WARNINGS    OK  UNNEEDED, same version is already published
machv2macOS 10.14.6 Mojave / x86_64  OK    OK    WARNINGS    OK  UNNEEDED, same version is already published
Package 130/257HostnameOS / ArchINSTALLBUILDCHECKBUILD BIN
motifcounter 1.16.0  (landing page)
Wolfgang Kopp
git_last_commit: 2e4bd42
git_last_commit_date: 2021-05-19 12:26:39 -0400
nebbiolo1Linux (Ubuntu 20.04.2 LTS) / x86_64  OK    OK    OK  UNNEEDED, same version is already published
tokay2Windows Server 2012 R2 Standard / x64  OK    OK    OK    OK  UNNEEDED, same version is already published
machv2macOS 10.14.6 Mojave / x86_64  OK    OK    OK    OK  UNNEEDED, same version is already published
Package 131/257HostnameOS / ArchINSTALLBUILDCHECKBUILD BIN
MotifDb 1.34.0  (landing page)
Paul Shannon
git_last_commit: ed81ab9
git_last_commit_date: 2021-05-19 11:53:25 -0400
nebbiolo1Linux (Ubuntu 20.04.2 LTS) / x86_64  OK    OK    WARNINGS  UNNEEDED, same version is already published
tokay2Windows Server 2012 R2 Standard / x64  OK    OK    WARNINGS    OK  UNNEEDED, same version is already published
machv2macOS 10.14.6 Mojave / x86_64  OK    OK    WARNINGS    OK  UNNEEDED, same version is already published
Package 132/257HostnameOS / ArchINSTALLBUILDCHECKBUILD BIN
motifmatchr 1.14.0  (landing page)
Alicia Schep
git_last_commit: b395fda
git_last_commit_date: 2021-05-19 12:28:12 -0400
nebbiolo1Linux (Ubuntu 20.04.2 LTS) / x86_64  OK    OK    OK  UNNEEDED, same version is already published
tokay2Windows Server 2012 R2 Standard / x64  OK    OK    OK    OK  UNNEEDED, same version is already published
machv2macOS 10.14.6 Mojave / x86_64  OK    OK    OK    OK  UNNEEDED, same version is already published
Package 133/257HostnameOS / ArchINSTALLBUILDCHECKBUILD BIN
motifStack 1.36.0  (landing page)
Jianhong Ou
git_last_commit: f15e3b2
git_last_commit_date: 2021-05-19 11:53:56 -0400
nebbiolo1Linux (Ubuntu 20.04.2 LTS) / x86_64  OK    OK    OK  UNNEEDED, same version is already published
tokay2Windows Server 2012 R2 Standard / x64  OK    OK    OK    OK  UNNEEDED, same version is already published
machv2macOS 10.14.6 Mojave / x86_64  OK    OK    OK    OK  UNNEEDED, same version is already published
Package 134/257HostnameOS / ArchINSTALLBUILDCHECKBUILD BIN
msa 1.24.0  (landing page)
Ulrich Bodenhofer
git_last_commit: d939cac
git_last_commit_date: 2021-05-19 12:13:32 -0400
nebbiolo1Linux (Ubuntu 20.04.2 LTS) / x86_64  OK    OK    WARNINGS  UNNEEDED, same version is already published
tokay2Windows Server 2012 R2 Standard / x64  OK    OK    WARNINGS    OK  UNNEEDED, same version is already published
machv2macOS 10.14.6 Mojave / x86_64  OK    OK    WARNINGS    OK  UNNEEDED, same version is already published
Package 135/257HostnameOS / ArchINSTALLBUILDCHECKBUILD BIN
MSnID 1.26.0  (landing page)
Vlad Petyuk
git_last_commit: 542b32c
git_last_commit_date: 2021-05-19 12:07:42 -0400
nebbiolo1Linux (Ubuntu 20.04.2 LTS) / x86_64  OK    OK    OK  UNNEEDED, same version is already published
tokay2Windows Server 2012 R2 Standard / x64  OK    OK    OK    OK  UNNEEDED, same version is already published
machv2macOS 10.14.6 Mojave / x86_64  OK    OK    OK    OK  UNNEEDED, same version is already published
Package 136/257HostnameOS / ArchINSTALLBUILDCHECKBUILD BIN
MSstatsPTM 1.2.3  (landing page)
Devon Kohler
git_last_commit: 9a9e508
git_last_commit_date: 2021-06-26 10:46:37 -0400
nebbiolo1Linux (Ubuntu 20.04.2 LTS) / x86_64  OK    OK    OK  UNNEEDED, same version is already published
tokay2Windows Server 2012 R2 Standard / x64  OK    OK    OK    OK  UNNEEDED, same version is already published
machv2macOS 10.14.6 Mojave / x86_64  OK    OK    OK    OK  UNNEEDED, same version is already published
Package 137/257HostnameOS / ArchINSTALLBUILDCHECKBUILD BIN
multicrispr 1.2.0  (landing page)
Aditya Bhagwat
git_last_commit: 88c1a4f
git_last_commit_date: 2021-05-19 12:53:01 -0400
nebbiolo1Linux (Ubuntu 20.04.2 LTS) / x86_64  OK    OK    OK  UNNEEDED, same version is already published
tokay2Windows Server 2012 R2 Standard / x64  OK    OK    OK    OK  UNNEEDED, same version is already published
machv2macOS 10.14.6 Mojave / x86_64  OK    OK    OK    OK  UNNEEDED, same version is already published
Package 138/257HostnameOS / ArchINSTALLBUILDCHECKBUILD BIN
MungeSumstats 1.0.1  (landing page)
Alan Murphy
git_last_commit: c1fe775
git_last_commit_date: 2021-06-22 14:02:24 -0400
nebbiolo1Linux (Ubuntu 20.04.2 LTS) / x86_64  OK    OK    OK  UNNEEDED, same version is already published
tokay2Windows Server 2012 R2 Standard / x64  OK    OK    OK    OK  UNNEEDED, same version is already published
machv2macOS 10.14.6 Mojave / x86_64  OK    OK    OK    OK  UNNEEDED, same version is already published
Package 139/257HostnameOS / ArchINSTALLBUILDCHECKBUILD BIN
muscle 3.34.0  (landing page)
Alex T. Kalinka
git_last_commit: 49f305f
git_last_commit_date: 2021-05-19 12:11:32 -0400
nebbiolo1Linux (Ubuntu 20.04.2 LTS) / x86_64  OK    OK    WARNINGS  UNNEEDED, same version is already published
tokay2Windows Server 2012 R2 Standard / x64  OK    OK    WARNINGS    OK  UNNEEDED, same version is already published
machv2macOS 10.14.6 Mojave / x86_64  OK    OK    OK    OK  UNNEEDED, same version is already published
Package 140/257HostnameOS / ArchINSTALLBUILDCHECKBUILD BIN
musicatk 1.2.0  (landing page)
Aaron Chevalier
git_last_commit: c207280
git_last_commit_date: 2021-05-19 12:57:08 -0400
nebbiolo1Linux (Ubuntu 20.04.2 LTS) / x86_64  OK    OK    OK  UNNEEDED, same version is already published
tokay2Windows Server 2012 R2 Standard / x64  OK    OK    OK    OK  UNNEEDED, same version is already published
machv2macOS 10.14.6 Mojave / x86_64  OK    OK    OK    OK  UNNEEDED, same version is already published
Package 141/257HostnameOS / ArchINSTALLBUILDCHECKBUILD BIN
MutationalPatterns 3.2.0  (landing page)
Rurika Oka
git_last_commit: 80fd57a
git_last_commit_date: 2021-05-19 12:23:54 -0400
nebbiolo1Linux (Ubuntu 20.04.2 LTS) / x86_64  OK    OK    OK  UNNEEDED, same version is already published
tokay2Windows Server 2012 R2 Standard / x64  OK    OK    OK    OK  UNNEEDED, same version is already published
machv2macOS 10.14.6 Mojave / x86_64  OK    OK    OK    OK  UNNEEDED, same version is already published
Package 142/257HostnameOS / ArchINSTALLBUILDCHECKBUILD BIN
NanoStringNCTools 1.0.0  (landing page)
Nicole Ortogero
git_last_commit: 962adc0
git_last_commit_date: 2021-05-19 12:59:12 -0400
nebbiolo1Linux (Ubuntu 20.04.2 LTS) / x86_64  OK    OK    OK  UNNEEDED, same version is already published
tokay2Windows Server 2012 R2 Standard / x64  OK    OK    OK    OK  UNNEEDED, same version is already published
machv2macOS 10.14.6 Mojave / x86_64  OK    OK    OK    OK  UNNEEDED, same version is already published
Package 143/257HostnameOS / ArchINSTALLBUILDCHECKBUILD BIN
ngsReports 1.8.1  (landing page)
Steve Pederson
git_last_commit: 03a044d
git_last_commit_date: 2021-06-14 10:57:53 -0400
nebbiolo1Linux (Ubuntu 20.04.2 LTS) / x86_64  OK    OK    OK  UNNEEDED, same version is already published
tokay2Windows Server 2012 R2 Standard / x64  OK    OK    OK    OK  UNNEEDED, same version is already published
machv2macOS 10.14.6 Mojave / x86_64  OK    OK    OK    OK  UNNEEDED, same version is already published
Package 144/257HostnameOS / ArchINSTALLBUILDCHECKBUILD BIN
nucleR 2.24.0  (landing page)
Alba Sala
git_last_commit: b7e30e8
git_last_commit_date: 2021-05-19 11:49:18 -0400
nebbiolo1Linux (Ubuntu 20.04.2 LTS) / x86_64  OK    OK    WARNINGS  UNNEEDED, same version is already published
tokay2Windows Server 2012 R2 Standard / x64  OK    OK    WARNINGS    OK  UNNEEDED, same version is already published
machv2macOS 10.14.6 Mojave / x86_64  OK    OK    WARNINGS    OK  UNNEEDED, same version is already published
Package 145/257HostnameOS / ArchINSTALLBUILDCHECKBUILD BIN
oligo 1.56.0  (landing page)
Benilton Carvalho
git_last_commit: b3b6d7e
git_last_commit_date: 2021-05-19 11:36:00 -0400
nebbiolo1Linux (Ubuntu 20.04.2 LTS) / x86_64  OK    OK    WARNINGS  UNNEEDED, same version is already published
tokay2Windows Server 2012 R2 Standard / x64  OK    OK    WARNINGS    OK  UNNEEDED, same version is already published
machv2macOS 10.14.6 Mojave / x86_64  OK    OK    WARNINGS    OK  UNNEEDED, same version is already published
Package 146/257HostnameOS / ArchINSTALLBUILDCHECKBUILD BIN
oligoClasses 1.54.0  (landing page)
Benilton Carvalho and Robert Scharpf
git_last_commit: 1b919e6
git_last_commit_date: 2021-05-19 11:39:37 -0400
nebbiolo1Linux (Ubuntu 20.04.2 LTS) / x86_64  OK    OK    WARNINGS  UNNEEDED, same version is already published
tokay2Windows Server 2012 R2 Standard / x64  OK    OK    WARNINGS    OK  UNNEEDED, same version is already published
machv2macOS 10.14.6 Mojave / x86_64  OK    OK    WARNINGS    OK  UNNEEDED, same version is already published
Package 147/257HostnameOS / ArchINSTALLBUILDCHECKBUILD BIN
OmaDB 2.8.0  (landing page)
Klara Kaleb , Adrian Altenhoff
git_last_commit: 73c1e16
git_last_commit_date: 2021-05-19 12:32:07 -0400
nebbiolo1Linux (Ubuntu 20.04.2 LTS) / x86_64  OK    OK    OK  UNNEEDED, same version is already published
tokay2Windows Server 2012 R2 Standard / x64  OK    OK    OK    OK  UNNEEDED, same version is already published
machv2macOS 10.14.6 Mojave / x86_64  OK    OK    OK    OK  UNNEEDED, same version is already published
Package 148/257HostnameOS / ArchINSTALLBUILDCHECKBUILD BIN
openPrimeR 1.14.0  (landing page)
Matthias Döring
git_last_commit: cc9c24b
git_last_commit_date: 2021-05-19 12:30:17 -0400
nebbiolo1Linux (Ubuntu 20.04.2 LTS) / x86_64  OK    OK    OK  UNNEEDED, same version is already published
tokay2Windows Server 2012 R2 Standard / x64  OK    OK    OK    OK  UNNEEDED, same version is already published
machv2macOS 10.14.6 Mojave / x86_64  OK    OK    OK    OK  UNNEEDED, same version is already published
Package 149/257HostnameOS / ArchINSTALLBUILDCHECKBUILD BIN
ORFhunteR 1.0.0  (landing page)
Vasily V. Grinev
git_last_commit: aacc377
git_last_commit_date: 2021-05-19 12:59:25 -0400
nebbiolo1Linux (Ubuntu 20.04.2 LTS) / x86_64  OK    OK    OK  UNNEEDED, same version is already published
tokay2Windows Server 2012 R2 Standard / x64  OK    OK    OK    OK  UNNEEDED, same version is already published
machv2macOS 10.14.6 Mojave / x86_64  OK    OK    OK    OK  UNNEEDED, same version is already published
Package 150/257HostnameOS / ArchINSTALLBUILDCHECKBUILD BIN
ORFik 1.12.12  (landing page)
Haakon Tjeldnes
git_last_commit: c5ead14
git_last_commit_date: 2021-09-24 05:31:33 -0400
nebbiolo1Linux (Ubuntu 20.04.2 LTS) / x86_64  OK    OK    OK  YES
tokay2Windows Server 2012 R2 Standard / x64  OK    OK    ERROR    OK  
machv2macOS 10.14.6 Mojave / x86_64  OK    OK    OK    OK  YES
Package 151/257HostnameOS / ArchINSTALLBUILDCHECKBUILD BIN
OTUbase 1.42.0  (landing page)
Daniel Beck
git_last_commit: d423dfc
git_last_commit_date: 2021-05-19 11:46:21 -0400
nebbiolo1Linux (Ubuntu 20.04.2 LTS) / x86_64  OK    OK    OK  UNNEEDED, same version is already published
tokay2Windows Server 2012 R2 Standard / x64  OK    OK    OK    OK  UNNEEDED, same version is already published
machv2macOS 10.14.6 Mojave / x86_64  OK    OK    OK    OK  UNNEEDED, same version is already published
Package 152/257HostnameOS / ArchINSTALLBUILDCHECKBUILD BIN
packFinder 1.4.0  (landing page)
Jack Gisby
git_last_commit: a750a91
git_last_commit_date: 2021-05-19 12:48:53 -0400
nebbiolo1Linux (Ubuntu 20.04.2 LTS) / x86_64  OK    OK    OK  UNNEEDED, same version is already published
tokay2Windows Server 2012 R2 Standard / x64  OK    OK    OK    OK  UNNEEDED, same version is already published
machv2macOS 10.14.6 Mojave / x86_64  OK    OK    OK    OK  UNNEEDED, same version is already published
Package 153/257HostnameOS / ArchINSTALLBUILDCHECKBUILD BIN
pdInfoBuilder 1.56.0  (landing page)
Benilton Carvalho
git_last_commit: 9bbe14d
git_last_commit_date: 2021-05-19 11:38:37 -0400
nebbiolo1Linux (Ubuntu 20.04.2 LTS) / x86_64  OK    OK    OK  UNNEEDED, same version is already published
tokay2Windows Server 2012 R2 Standard / x64  OK    OK    OK    OK  UNNEEDED, same version is already published
machv2macOS 10.14.6 Mojave / x86_64  OK    OK    OK    OK  UNNEEDED, same version is already published
Package 154/257HostnameOS / ArchINSTALLBUILDCHECKBUILD BIN
periodicDNA 1.2.0  (landing page)
Jacques Serizay
git_last_commit: 0a265ed
git_last_commit_date: 2021-05-19 12:55:16 -0400
nebbiolo1Linux (Ubuntu 20.04.2 LTS) / x86_64  OK    OK    OK  UNNEEDED, same version is already published
tokay2Windows Server 2012 R2 Standard / x64  OK    OK    OK    OK  UNNEEDED, same version is already published
machv2macOS 10.14.6 Mojave / x86_64  OK    OK    OK    OK  UNNEEDED, same version is already published
Package 155/257HostnameOS / ArchINSTALLBUILDCHECKBUILD BIN
PhyloProfile 1.6.6  (landing page)
Vinh Tran
git_last_commit: 92e2e9e
git_last_commit_date: 2021-06-29 05:53:37 -0400
nebbiolo1Linux (Ubuntu 20.04.2 LTS) / x86_64  OK    OK    OK  UNNEEDED, same version is already published
tokay2Windows Server 2012 R2 Standard / x64  OK    OK    OK    OK  UNNEEDED, same version is already published
machv2macOS 10.14.6 Mojave / x86_64  OK    OK    OK    OK  UNNEEDED, same version is already published
Package 156/257HostnameOS / ArchINSTALLBUILDCHECKBUILD BIN
phyloseq 1.36.0  (landing page)
Paul J. McMurdie
git_last_commit: f9af643
git_last_commit_date: 2021-05-19 11:51:21 -0400
nebbiolo1Linux (Ubuntu 20.04.2 LTS) / x86_64  OK    OK    OK  UNNEEDED, same version is already published
tokay2Windows Server 2012 R2 Standard / x64  OK    OK    OK    OK  UNNEEDED, same version is already published
machv2macOS 10.14.6 Mojave / x86_64  OK    OK    OK    OK  UNNEEDED, same version is already published
Package 157/257HostnameOS / ArchINSTALLBUILDCHECKBUILD BIN
pipeFrame 1.8.0  (landing page)
Zheng Wei
git_last_commit: e733729
git_last_commit_date: 2021-05-19 12:43:19 -0400
nebbiolo1Linux (Ubuntu 20.04.2 LTS) / x86_64  OK    OK    OK  UNNEEDED, same version is already published
tokay2Windows Server 2012 R2 Standard / x64  OK    OK    OK    OK  UNNEEDED, same version is already published
machv2macOS 10.14.6 Mojave / x86_64  OK    OK    OK    OK  UNNEEDED, same version is already published
Package 158/257HostnameOS / ArchINSTALLBUILDCHECKBUILD BIN
podkat 1.24.0  (landing page)
Ulrich Bodenhofer
git_last_commit: 01fa5e3
git_last_commit_date: 2021-05-19 12:12:22 -0400
nebbiolo1Linux (Ubuntu 20.04.2 LTS) / x86_64  OK    OK    OK  UNNEEDED, same version is already published
tokay2Windows Server 2012 R2 Standard / x64  OK    OK    OK    OK  UNNEEDED, same version is already published
machv2macOS 10.14.6 Mojave / x86_64  OK    OK    OK    OK  UNNEEDED, same version is already published
Package 159/257HostnameOS / ArchINSTALLBUILDCHECKBUILD BIN
polyester 1.28.0  (landing page)
Jack Fu , Jeff Leek
git_last_commit: a71cce4
git_last_commit_date: 2021-05-19 12:08:02 -0400
nebbiolo1Linux (Ubuntu 20.04.2 LTS) / x86_64  OK    OK    OK  UNNEEDED, same version is already published
tokay2Windows Server 2012 R2 Standard / x64  OK    OK    OK    OK  UNNEEDED, same version is already published
machv2macOS 10.14.6 Mojave / x86_64  OK    OK    OK    OK  UNNEEDED, same version is already published
Package 160/257HostnameOS / ArchINSTALLBUILDCHECKBUILD BIN
pqsfinder 2.8.0  (landing page)
Jiri Hon
git_last_commit: 777bb64
git_last_commit_date: 2021-05-19 12:19:51 -0400
nebbiolo1Linux (Ubuntu 20.04.2 LTS) / x86_64  OK    OK    OK  UNNEEDED, same version is already published
tokay2Windows Server 2012 R2 Standard / x64  OK    OK    OK    OK  UNNEEDED, same version is already published
machv2macOS 10.14.6 Mojave / x86_64  OK    OK    OK    OK  UNNEEDED, same version is already published
Package 161/257HostnameOS / ArchINSTALLBUILDCHECKBUILD BIN
primirTSS 1.10.0  (landing page)
Pumin Li
git_last_commit: e9cd880
git_last_commit_date: 2021-05-19 12:37:45 -0400
nebbiolo1Linux (Ubuntu 20.04.2 LTS) / x86_64  OK    OK    WARNINGS  UNNEEDED, same version is already published
tokay2Windows Server 2012 R2 Standard / x64  OK    OK    WARNINGS    OK  UNNEEDED, same version is already published
machv2macOS 10.14.6 Mojave / x86_64  OK    OK    WARNINGS    OK  UNNEEDED, same version is already published
Package 162/257HostnameOS / ArchINSTALLBUILDCHECKBUILD BIN
proBAMr 1.26.0  (landing page)
Xiaojing Wang
git_last_commit: cf5184b
git_last_commit_date: 2021-05-19 12:08:26 -0400
nebbiolo1Linux (Ubuntu 20.04.2 LTS) / x86_64  OK    OK    OK  UNNEEDED, same version is already published
tokay2Windows Server 2012 R2 Standard / x64  OK    OK    OK    OK  UNNEEDED, same version is already published
machv2macOS 10.14.6 Mojave / x86_64  OK    OK    OK    OK  UNNEEDED, same version is already published
Package 163/257HostnameOS / ArchINSTALLBUILDCHECKBUILD BIN
procoil 2.20.0  (landing page)
Ulrich Bodenhofer
git_last_commit: 8884085
git_last_commit_date: 2021-05-19 11:47:27 -0400
nebbiolo1Linux (Ubuntu 20.04.2 LTS) / x86_64  OK    OK    OK  UNNEEDED, same version is already published
tokay2Windows Server 2012 R2 Standard / x64  OK    OK    OK    OK  UNNEEDED, same version is already published
machv2macOS 10.14.6 Mojave / x86_64  OK    OK    OK    OK  UNNEEDED, same version is already published
Package 164/257HostnameOS / ArchINSTALLBUILDCHECKBUILD BIN
ProteomicsAnnotationHubData 1.22.0  (landing page)
Laurent Gatto
git_last_commit: f070c64
git_last_commit_date: 2021-05-19 12:15:31 -0400
nebbiolo1Linux (Ubuntu 20.04.2 LTS) / x86_64  OK    OK    OK  UNNEEDED, same version is already published
tokay2Windows Server 2012 R2 Standard / x64  OK    OK    OK    OK  UNNEEDED, same version is already published
machv2macOS 10.14.6 Mojave / x86_64  OK    OK    OK    OK  UNNEEDED, same version is already published
Package 165/257HostnameOS / ArchINSTALLBUILDCHECKBUILD BIN
PureCN 1.22.2  (landing page)
Markus Riester
git_last_commit: 1d595f4
git_last_commit_date: 2021-07-01 13:33:13 -0400
nebbiolo1Linux (Ubuntu 20.04.2 LTS) / x86_64  OK    OK    OK  UNNEEDED, same version is already published
tokay2Windows Server 2012 R2 Standard / x64  OK    OK    OK    OK  UNNEEDED, same version is already published
machv2macOS 10.14.6 Mojave / x86_64  OK    OK    OK    OK  UNNEEDED, same version is already published
Package 166/257HostnameOS / ArchINSTALLBUILDCHECKBUILD BIN
Pviz 1.26.0  (landing page)
Renan Sauteraud
git_last_commit: dcce10c
git_last_commit_date: 2021-05-19 12:06:01 -0400
nebbiolo1Linux (Ubuntu 20.04.2 LTS) / x86_64  OK    OK    OK  UNNEEDED, same version is already published
tokay2Windows Server 2012 R2 Standard / x64  OK    OK    OK    OK  UNNEEDED, same version is already published
machv2macOS 10.14.6 Mojave / x86_64  OK    OK    OK    OK  UNNEEDED, same version is already published
Package 167/257HostnameOS / ArchINSTALLBUILDCHECKBUILD BIN
PWMEnrich 4.28.1  (landing page)
Diego Diez
git_last_commit: 7ca4ee9
git_last_commit_date: 2021-05-25 08:26:57 -0400
nebbiolo1Linux (Ubuntu 20.04.2 LTS) / x86_64  OK    OK    OK  UNNEEDED, same version is already published
tokay2Windows Server 2012 R2 Standard / x64  OK    OK    OK    OK  UNNEEDED, same version is already published
machv2macOS 10.14.6 Mojave / x86_64  OK    OK    OK    OK  UNNEEDED, same version is already published
Package 168/257HostnameOS / ArchINSTALLBUILDCHECKBUILD BIN
qPLEXanalyzer 1.10.0  (landing page)
Ashley Sawle
git_last_commit: 1edf1ad
git_last_commit_date: 2021-05-19 12:36:30 -0400
nebbiolo1Linux (Ubuntu 20.04.2 LTS) / x86_64  OK    OK    OK  UNNEEDED, same version is already published
tokay2Windows Server 2012 R2 Standard / x64  OK    OK    OK    OK  UNNEEDED, same version is already published
machv2macOS 10.14.6 Mojave / x86_64  OK    OK    OK    OK  UNNEEDED, same version is already published
Package 169/257HostnameOS / ArchINSTALLBUILDCHECKBUILD BIN
qrqc 1.46.0  (landing page)
Vince Buffalo
git_last_commit: 891dd79
git_last_commit_date: 2021-05-19 11:48:11 -0400
nebbiolo1Linux (Ubuntu 20.04.2 LTS) / x86_64  OK    OK    WARNINGS  UNNEEDED, same version is already published
tokay2Windows Server 2012 R2 Standard / x64  OK    OK    OK    OK  UNNEEDED, same version is already published
machv2macOS 10.14.6 Mojave / x86_64  OK    OK    WARNINGS    OK  UNNEEDED, same version is already published
Package 170/257HostnameOS / ArchINSTALLBUILDCHECKBUILD BIN
qsea 1.18.0  (landing page)
Matthias Lienhard
git_last_commit: f23006b
git_last_commit_date: 2021-05-19 12:21:24 -0400
nebbiolo1Linux (Ubuntu 20.04.2 LTS) / x86_64  OK    OK    OK  UNNEEDED, same version is already published
tokay2Windows Server 2012 R2 Standard / x64  OK    OK    OK    OK  UNNEEDED, same version is already published
machv2macOS 10.14.6 Mojave / x86_64  OK    OK    OK    OK  UNNEEDED, same version is already published
Package 171/257HostnameOS / ArchINSTALLBUILDCHECKBUILD BIN
QSutils 1.10.0  (landing page)
Mercedes Guerrero-Murillo
git_last_commit: 74dbca7
git_last_commit_date: 2021-05-19 12:38:58 -0400
nebbiolo1Linux (Ubuntu 20.04.2 LTS) / x86_64  OK    OK    OK  UNNEEDED, same version is already published
tokay2Windows Server 2012 R2 Standard / x64  OK    OK    OK    OK  UNNEEDED, same version is already published
machv2macOS 10.14.6 Mojave / x86_64  OK    OK    OK    OK  UNNEEDED, same version is already published
Package 172/257HostnameOS / ArchINSTALLBUILDCHECKBUILD BIN
QuasR 1.32.0  (landing page)
Michael Stadler
git_last_commit: b24d275
git_last_commit_date: 2021-05-19 11:55:11 -0400
nebbiolo1Linux (Ubuntu 20.04.2 LTS) / x86_64  OK    OK    OK  UNNEEDED, same version is already published
tokay2Windows Server 2012 R2 Standard / x64  OK    OK    OK    OK  UNNEEDED, same version is already published
machv2macOS 10.14.6 Mojave / x86_64  OK    OK    OK    OK  UNNEEDED, same version is already published
Package 173/257HostnameOS / ArchINSTALLBUILDCHECKBUILD BIN
r3Cseq 1.38.0  (landing page)
Supat Thongjuea or
git_last_commit: f159c04
git_last_commit_date: 2021-05-19 11:50:26 -0400
nebbiolo1Linux (Ubuntu 20.04.2 LTS) / x86_64  OK    OK    OK  UNNEEDED, same version is already published
tokay2Windows Server 2012 R2 Standard / x64  OK    OK    OK    OK  UNNEEDED, same version is already published
machv2macOS 10.14.6 Mojave / x86_64  OK    OK    OK    OK  UNNEEDED, same version is already published
Package 174/257HostnameOS / ArchINSTALLBUILDCHECKBUILD BIN
R453Plus1Toolbox 1.42.0  (landing page)
Hans-Ulrich Klein
git_last_commit: 02482b8
git_last_commit_date: 2021-05-19 11:46:40 -0400
nebbiolo1Linux (Ubuntu 20.04.2 LTS) / x86_64  OK    OK    OK  UNNEEDED, same version is already published
tokay2Windows Server 2012 R2 Standard / x64  OK    OK    OK    OK  UNNEEDED, same version is already published
machv2macOS 10.14.6 Mojave / x86_64  OK    OK    OK    OK  UNNEEDED, same version is already published
Package 175/257HostnameOS / ArchINSTALLBUILDCHECKBUILD BIN
R4RNA 1.20.0  (landing page)
Daniel Lai
git_last_commit: d3707fc
git_last_commit_date: 2021-05-19 12:16:36 -0400
nebbiolo1Linux (Ubuntu 20.04.2 LTS) / x86_64  OK    OK    OK  UNNEEDED, same version is already published
tokay2Windows Server 2012 R2 Standard / x64  OK    OK    OK    OK  UNNEEDED, same version is already published
machv2macOS 10.14.6 Mojave / x86_64  OK    OK    OK    OK  UNNEEDED, same version is already published
Package 176/257HostnameOS / ArchINSTALLBUILDCHECKBUILD BIN
ramwas 1.16.0  (landing page)
Andrey A Shabalin
git_last_commit: 239ad35
git_last_commit_date: 2021-05-19 12:24:59 -0400
nebbiolo1Linux (Ubuntu 20.04.2 LTS) / x86_64  OK    OK    OK  UNNEEDED, same version is already published
tokay2Windows Server 2012 R2 Standard / x64  OK    OK    OK    OK  UNNEEDED, same version is already published
machv2macOS 10.14.6 Mojave / x86_64  OK    OK    OK    OK  UNNEEDED, same version is already published
Package 177/257HostnameOS / ArchINSTALLBUILDCHECKBUILD BIN
RCAS 1.18.0  (landing page)
Bora Uyar
git_last_commit: ffebafc
git_last_commit_date: 2021-05-19 12:21:54 -0400
nebbiolo1Linux (Ubuntu 20.04.2 LTS) / x86_64  OK    OK    OK  UNNEEDED, same version is already published
tokay2Windows Server 2012 R2 Standard / x64  OK    OK    OK    OK  UNNEEDED, same version is already published
machv2macOS 10.14.6 Mojave / x86_64  OK    OK    OK    OK  UNNEEDED, same version is already published
Package 178/257HostnameOS / ArchINSTALLBUILDCHECKBUILD BIN
Rcpi 1.28.0  (landing page)
Nan Xiao
git_last_commit: 422fb52
git_last_commit_date: 2021-05-19 12:03:43 -0400
nebbiolo1Linux (Ubuntu 20.04.2 LTS) / x86_64  OK    OK    OK  UNNEEDED, same version is already published
tokay2Windows Server 2012 R2 Standard / x64  OK    OK    OK    OK  UNNEEDED, same version is already published
machv2macOS 10.14.6 Mojave / x86_64  OK    OK    OK    OK  UNNEEDED, same version is already published
Package 179/257HostnameOS / ArchINSTALLBUILDCHECKBUILD BIN
recoup 1.20.0  (landing page)
Panagiotis Moulos
git_last_commit: 1b90812
git_last_commit_date: 2021-05-19 12:19:08 -0400
nebbiolo1Linux (Ubuntu 20.04.2 LTS) / x86_64  OK    OK    ERROR  
tokay2Windows Server 2012 R2 Standard / x64  OK    OK    ERROR    OK  
machv2macOS 10.14.6 Mojave / x86_64  OK    OK    ERROR    OK  
Package 180/257HostnameOS / ArchINSTALLBUILDCHECKBUILD BIN
REDseq 1.38.0  (landing page)
Lihua Julie Zhu
git_last_commit: 4c3b25a
git_last_commit_date: 2021-05-19 11:48:43 -0400
nebbiolo1Linux (Ubuntu 20.04.2 LTS) / x86_64  OK    OK    OK  UNNEEDED, same version is already published
tokay2Windows Server 2012 R2 Standard / x64  OK    OK    OK    OK  UNNEEDED, same version is already published
machv2macOS 10.14.6 Mojave / x86_64  OK    OK    OK    OK  UNNEEDED, same version is already published
Package 181/257HostnameOS / ArchINSTALLBUILDCHECKBUILD BIN
regioneR 1.24.0  (landing page)
Bernat Gel
git_last_commit: 3cbcdab
git_last_commit_date: 2021-05-19 12:12:34 -0400
nebbiolo1Linux (Ubuntu 20.04.2 LTS) / x86_64  OK    OK    OK  UNNEEDED, same version is already published
tokay2Windows Server 2012 R2 Standard / x64  OK    OK    OK    OK  UNNEEDED, same version is already published
machv2macOS 10.14.6 Mojave / x86_64  OK    OK    OK    OK  UNNEEDED, same version is already published
Package 182/257HostnameOS / ArchINSTALLBUILDCHECKBUILD BIN
regutools 1.4.0  (landing page)
Joselyn Chavez
git_last_commit: fe87b86
git_last_commit_date: 2021-05-19 12:52:12 -0400
nebbiolo1Linux (Ubuntu 20.04.2 LTS) / x86_64  OK    OK    OK  UNNEEDED, same version is already published
tokay2Windows Server 2012 R2 Standard / x64  OK    OK    OK    OK  UNNEEDED, same version is already published
machv2macOS 10.14.6 Mojave / x86_64  OK    OK    OK    OK  UNNEEDED, same version is already published
Package 183/257HostnameOS / ArchINSTALLBUILDCHECKBUILD BIN
REMP 1.16.0  (landing page)
Yinan Zheng
git_last_commit: 9be0aa3
git_last_commit_date: 2021-05-19 12:25:51 -0400
nebbiolo1Linux (Ubuntu 20.04.2 LTS) / x86_64  OK    OK    OK  UNNEEDED, same version is already published
tokay2Windows Server 2012 R2 Standard / x64  OK    OK    OK    OK  UNNEEDED, same version is already published
machv2macOS 10.14.6 Mojave / x86_64  OK    OK    OK    OK  UNNEEDED, same version is already published
Package 184/257HostnameOS / ArchINSTALLBUILDCHECKBUILD BIN
Repitools 1.38.0  (landing page)
Mark Robinson
git_last_commit: dc767d1
git_last_commit_date: 2021-05-19 11:49:04 -0400
nebbiolo1Linux (Ubuntu 20.04.2 LTS) / x86_64  OK    OK    OK  UNNEEDED, same version is already published
tokay2Windows Server 2012 R2 Standard / x64  OK    OK    OK    OK  UNNEEDED, same version is already published
machv2macOS 10.14.6 Mojave / x86_64  OK    OK    OK    OK  UNNEEDED, same version is already published
Package 185/257HostnameOS / ArchINSTALLBUILDCHECKBUILD BIN
rfaRm 1.4.3  (landing page)
Lara Selles Vidal
git_last_commit: f034172
git_last_commit_date: 2021-08-04 01:55:16 -0400
nebbiolo1Linux (Ubuntu 20.04.2 LTS) / x86_64  OK    OK    OK  UNNEEDED, same version is already published
tokay2Windows Server 2012 R2 Standard / x64  OK    OK    OK    OK  UNNEEDED, same version is already published
machv2macOS 10.14.6 Mojave / x86_64  OK    OK    OK    OK  UNNEEDED, same version is already published
Package 186/257HostnameOS / ArchINSTALLBUILDCHECKBUILD BIN
rGADEM 2.40.0  (landing page)
Arnaud Droit
git_last_commit: 3d0cf8b
git_last_commit_date: 2021-05-19 11:44:46 -0400
nebbiolo1Linux (Ubuntu 20.04.2 LTS) / x86_64  OK    OK    OK  UNNEEDED, same version is already published
tokay2Windows Server 2012 R2 Standard / x64  OK    OK    OK    OK  UNNEEDED, same version is already published
machv2macOS 10.14.6 Mojave / x86_64  OK    OK    OK    OK  UNNEEDED, same version is already published
Package 187/257HostnameOS / ArchINSTALLBUILDCHECKBUILD BIN
RiboProfiling 1.22.0  (landing page)
A. Popa
git_last_commit: a315cdd
git_last_commit_date: 2021-05-19 12:16:23 -0400
nebbiolo1Linux (Ubuntu 20.04.2 LTS) / x86_64  OK    OK    WARNINGS  UNNEEDED, same version is already published
tokay2Windows Server 2012 R2 Standard / x64  OK    OK    WARNINGS    OK  UNNEEDED, same version is already published
machv2macOS 10.14.6 Mojave / x86_64  OK    OK    WARNINGS    OK  UNNEEDED, same version is already published
Package 188/257HostnameOS / ArchINSTALLBUILDCHECKBUILD BIN
ribosomeProfilingQC 1.4.0  (landing page)
Jianhong Ou
git_last_commit: 482e0e7
git_last_commit_date: 2021-05-19 12:49:46 -0400
nebbiolo1Linux (Ubuntu 20.04.2 LTS) / x86_64  OK    OK    OK  UNNEEDED, same version is already published
tokay2Windows Server 2012 R2 Standard / x64  OK    OK    OK    OK  UNNEEDED, same version is already published
machv2macOS 10.14.6 Mojave / x86_64  OK    OK    OK    OK  UNNEEDED, same version is already published
Package 189/257HostnameOS / ArchINSTALLBUILDCHECKBUILD BIN
RNAmodR 1.6.0  (landing page)
Felix G.M. Ernst
git_last_commit: c7b25bf
git_last_commit_date: 2021-05-19 12:44:18 -0400
nebbiolo1Linux (Ubuntu 20.04.2 LTS) / x86_64  OK    OK    OK  UNNEEDED, same version is already published
tokay2Windows Server 2012 R2 Standard / x64  OK    OK    OK    OK  UNNEEDED, same version is already published
machv2macOS 10.14.6 Mojave / x86_64  OK    OK    OK    OK  UNNEEDED, same version is already published
Package 190/257HostnameOS / ArchINSTALLBUILDCHECKBUILD BIN
RNAprobR 1.24.0  (landing page)
Nikos Sidiropoulos
git_last_commit: 0fcd69f
git_last_commit_date: 2021-05-19 12:11:50 -0400
nebbiolo1Linux (Ubuntu 20.04.2 LTS) / x86_64  OK    OK    ERROR  
tokay2Windows Server 2012 R2 Standard / x64  OK    OK    ERROR    OK  
machv2macOS 10.14.6 Mojave / x86_64  OK    OK    ERROR    OK  
Package 191/257HostnameOS / ArchINSTALLBUILDCHECKBUILD BIN
RNASeqR 1.10.0  (landing page)
Kuan-Hao Chao
git_last_commit: c89d5c1
git_last_commit_date: 2021-05-19 12:38:39 -0400
nebbiolo1Linux (Ubuntu 20.04.2 LTS) / x86_64  OK    ERROR  skipped
tokay2Windows Server 2012 R2 Standard / x64... NOT SUPPORTED ...
machv2macOS 10.14.6 Mojave / x86_64  OK    ERROR  skippedskipped
Package 192/257HostnameOS / ArchINSTALLBUILDCHECKBUILD BIN
Rqc 1.26.0  (landing page)
Welliton Souza
git_last_commit: 1c1c91a
git_last_commit_date: 2021-05-19 12:09:26 -0400
nebbiolo1Linux (Ubuntu 20.04.2 LTS) / x86_64  OK    OK    OK  UNNEEDED, same version is already published
tokay2Windows Server 2012 R2 Standard / x64  OK    OK    TIMEOUT    OK  
machv2macOS 10.14.6 Mojave / x86_64  OK    OK    OK    OK  UNNEEDED, same version is already published
Package 193/257HostnameOS / ArchINSTALLBUILDCHECKBUILD BIN
rRDP 1.26.0  (landing page)
Michael Hahsler
git_last_commit: 2a5507e
git_last_commit_date: 2021-05-19 12:07:51 -0400
nebbiolo1Linux (Ubuntu 20.04.2 LTS) / x86_64  OK    OK    OK  UNNEEDED, same version is already published
tokay2Windows Server 2012 R2 Standard / x64  OK    OK    OK    OK  UNNEEDED, same version is already published
machv2macOS 10.14.6 Mojave / x86_64  OK    OK    OK    OK  UNNEEDED, same version is already published
Package 194/257HostnameOS / ArchINSTALLBUILDCHECKBUILD BIN
Rsamtools 2.8.0  (landing page)
Bioconductor Package Maintainer
git_last_commit: 45d46ab
git_last_commit_date: 2021-05-19 11:45:07 -0400
nebbiolo1Linux (Ubuntu 20.04.2 LTS) / x86_64  OK    OK    WARNINGS  UNNEEDED, same version is already published
tokay2Windows Server 2012 R2 Standard / x64  OK    OK    WARNINGS    OK  UNNEEDED, same version is already published
machv2macOS 10.14.6 Mojave / x86_64  OK    OK    WARNINGS    OK  UNNEEDED, same version is already published
Package 195/257HostnameOS / ArchINSTALLBUILDCHECKBUILD BIN
RSVSim 1.32.0  (landing page)
Christoph Bartenhagen
git_last_commit: 7c52c69
git_last_commit_date: 2021-05-19 11:55:06 -0400
nebbiolo1Linux (Ubuntu 20.04.2 LTS) / x86_64  OK    OK    OK  UNNEEDED, same version is already published
tokay2Windows Server 2012 R2 Standard / x64  OK    OK    OK    OK  UNNEEDED, same version is already published
machv2macOS 10.14.6 Mojave / x86_64  OK    OK    OK    OK  UNNEEDED, same version is already published
Package 196/257HostnameOS / ArchINSTALLBUILDCHECKBUILD BIN
rtracklayer 1.52.1  (landing page)
Michael Lawrence
git_last_commit: 20a3831
git_last_commit_date: 2021-08-12 15:31:12 -0400
nebbiolo1Linux (Ubuntu 20.04.2 LTS) / x86_64  OK    OK    WARNINGS  UNNEEDED, same version is already published
tokay2Windows Server 2012 R2 Standard / x64  OK    OK    WARNINGS    OK  UNNEEDED, same version is already published
machv2macOS 10.14.6 Mojave / x86_64  OK    OK    WARNINGS    OK  UNNEEDED, same version is already published
Package 197/257HostnameOS / ArchINSTALLBUILDCHECKBUILD BIN
sangeranalyseR 1.2.0  (landing page)
Kuan-Hao Chao
git_last_commit: 1dc9873
git_last_commit_date: 2021-05-19 12:52:42 -0400
nebbiolo1Linux (Ubuntu 20.04.2 LTS) / x86_64  OK    OK    WARNINGS  UNNEEDED, same version is already published
tokay2Windows Server 2012 R2 Standard / x64  OK    OK    WARNINGS    OK  UNNEEDED, same version is already published
machv2macOS 10.14.6 Mojave / x86_64  OK    OK    WARNINGS    OK  UNNEEDED, same version is already published
Package 198/257HostnameOS / ArchINSTALLBUILDCHECKBUILD BIN
sangerseqR 1.28.0  (landing page)
Jonathon Hill
git_last_commit: cdb10aa
git_last_commit_date: 2021-05-19 12:03:00 -0400
nebbiolo1Linux (Ubuntu 20.04.2 LTS) / x86_64  OK    OK    OK  UNNEEDED, same version is already published
tokay2Windows Server 2012 R2 Standard / x64  OK    OK    OK    OK  UNNEEDED, same version is already published
machv2macOS 10.14.6 Mojave / x86_64  OK    OK    OK    OK  UNNEEDED, same version is already published
Package 199/257HostnameOS / ArchINSTALLBUILDCHECKBUILD BIN
sarks 1.4.0  (landing page)
Dennis Wylie
git_last_commit: 47f8e9b
git_last_commit_date: 2021-05-19 12:50:10 -0400
nebbiolo1Linux (Ubuntu 20.04.2 LTS) / x86_64  OK    OK    OK  UNNEEDED, same version is already published
tokay2Windows Server 2012 R2 Standard / x64  OK    OK    OK    OK  UNNEEDED, same version is already published
machv2macOS 10.14.6 Mojave / x86_64  OK    OK    OK    OK  UNNEEDED, same version is already published
Package 200/257HostnameOS / ArchINSTALLBUILDCHECKBUILD BIN
SCAN.UPC 2.34.0  (landing page)
Stephen R. Piccolo
git_last_commit: 03c0797
git_last_commit_date: 2021-05-19 11:54:04 -0400
nebbiolo1Linux (Ubuntu 20.04.2 LTS) / x86_64  OK    OK    OK  UNNEEDED, same version is already published
tokay2Windows Server 2012 R2 Standard / x64  OK    OK    OK    OK  UNNEEDED, same version is already published
machv2macOS 10.14.6 Mojave / x86_64  OK    OK    OK    OK  UNNEEDED, same version is already published
Package 201/257HostnameOS / ArchINSTALLBUILDCHECKBUILD BIN
scmeth 1.12.0  (landing page)
Divy Kangeyan
git_last_commit: 1ad2a18
git_last_commit_date: 2021-05-19 12:33:28 -0400
nebbiolo1Linux (Ubuntu 20.04.2 LTS) / x86_64  OK    OK    OK  UNNEEDED, same version is already published
tokay2Windows Server 2012 R2 Standard / x64  OK    OK    OK    OK  UNNEEDED, same version is already published
machv2macOS 10.14.6 Mojave / x86_64  OK    OK    OK    OK  UNNEEDED, same version is already published
Package 202/257HostnameOS / ArchINSTALLBUILDCHECKBUILD BIN
SCOPE 1.4.0  (landing page)
Rujin Wang
git_last_commit: 16e6b55
git_last_commit_date: 2021-05-19 12:49:33 -0400
nebbiolo1Linux (Ubuntu 20.04.2 LTS) / x86_64  OK    OK    WARNINGS  UNNEEDED, same version is already published
tokay2Windows Server 2012 R2 Standard / x64  OK    OK    WARNINGS    OK  UNNEEDED, same version is already published
machv2macOS 10.14.6 Mojave / x86_64  OK    OK    WARNINGS    OK  UNNEEDED, same version is already published
Package 203/257HostnameOS / ArchINSTALLBUILDCHECKBUILD BIN
scoreInvHap 1.14.0  (landing page)
Dolors Pelegri-Siso
git_last_commit: 484fe25
git_last_commit_date: 2021-05-19 12:28:35 -0400
nebbiolo1Linux (Ubuntu 20.04.2 LTS) / x86_64  OK    OK    OK  UNNEEDED, same version is already published
tokay2Windows Server 2012 R2 Standard / x64  OK    OK    OK    OK  UNNEEDED, same version is already published
machv2macOS 10.14.6 Mojave / x86_64  OK    OK    OK    OK  UNNEEDED, same version is already published
Package 204/257HostnameOS / ArchINSTALLBUILDCHECKBUILD BIN
scRepertoire 1.2.0  (landing page)
Nick Borcherding
git_last_commit: f61c711
git_last_commit_date: 2021-06-16 10:41:12 -0400
nebbiolo1Linux (Ubuntu 20.04.2 LTS) / x86_64  OK    OK    OK  UNNEEDED, same version is already published
tokay2Windows Server 2012 R2 Standard / x64  OK    OK    OK    OK  UNNEEDED, same version is already published
machv2macOS 10.14.6 Mojave / x86_64  OK    OK    OK    OK  UNNEEDED, same version is already published
Package 205/257HostnameOS / ArchINSTALLBUILDCHECKBUILD BIN
scruff 1.10.0  (landing page)
Zhe Wang
git_last_commit: 027572f
git_last_commit_date: 2021-05-19 12:36:52 -0400
nebbiolo1Linux (Ubuntu 20.04.2 LTS) / x86_64  OK    OK    OK  UNNEEDED, same version is already published
tokay2Windows Server 2012 R2 Standard / x64  OK    OK    OK    OK  UNNEEDED, same version is already published
machv2macOS 10.14.6 Mojave / x86_64  OK    OK    OK    OK  UNNEEDED, same version is already published
Package 206/257HostnameOS / ArchINSTALLBUILDCHECKBUILD BIN
SELEX 1.24.0  (landing page)
Harmen J. Bussemaker
git_last_commit: d37bba9
git_last_commit_date: 2021-05-19 12:11:16 -0400
nebbiolo1Linux (Ubuntu 20.04.2 LTS) / x86_64  OK    OK    OK  UNNEEDED, same version is already published
tokay2Windows Server 2012 R2 Standard / x64  OK    OK    OK    OK  UNNEEDED, same version is already published
machv2macOS 10.14.6 Mojave / x86_64  OK    OK    OK    OK  UNNEEDED, same version is already published
Package 207/257HostnameOS / ArchINSTALLBUILDCHECKBUILD BIN
SeqArray 1.32.0  (landing page)
Xiuwen Zheng
git_last_commit: 8fa3c99
git_last_commit_date: 2021-05-19 11:58:07 -0400
nebbiolo1Linux (Ubuntu 20.04.2 LTS) / x86_64  OK    OK    OK  UNNEEDED, same version is already published
tokay2Windows Server 2012 R2 Standard / x64  OK    OK    OK    OK  UNNEEDED, same version is already published
machv2macOS 10.14.6 Mojave / x86_64  OK    OK    OK    OK  UNNEEDED, same version is already published
Package 208/257HostnameOS / ArchINSTALLBUILDCHECKBUILD BIN
seqbias 1.40.0  (landing page)
Daniel Jones
git_last_commit: c9d8e78
git_last_commit_date: 2021-05-19 11:47:09 -04