Back to Multiple platform build/check report for BioC 3.13
A[B]CDEFGHIJKLMNOPQRSTUVWXYZ

All results for package BiocStyle

This page was generated on 2021-06-11 14:05:10 -0400 (Fri, 11 Jun 2021).

Package 173/2041HostnameOS / ArchINSTALLBUILDCHECKBUILD BIN
BiocStyle 2.20.0  (landing page)
Bioconductor Package
Snapshot Date: 2021-06-10 06:50:12 -0400 (Thu, 10 Jun 2021)
URL: https://git.bioconductor.org/packages/BiocStyle
Branch: RELEASE_3_13
Last Commit: b2aac91
Last Changed Date: 2021-05-19 11:59:29 -0400 (Wed, 19 May 2021)
nebbiolo1Linux (Ubuntu 20.04.2 LTS) / x86_64  OK    OK    OK  UNNEEDED, same version is already published
tokay2Windows Server 2012 R2 Standard / x64  OK    OK    OK    OK  UNNEEDED, same version is already published
machv2macOS 10.14.6 Mojave / x86_64  OK    OK    OK    OK  UNNEEDED, same version is already published

Results for Bioconductor software packages that depend directly on package BiocStyle

QUICK STATSOS / ArchINSTALLBUILDCHECKBUILD BIN
nebbiolo1Linux (Ubuntu 20.04.2 LTS) / x86_64
0023
0023
00518
tokay2Windows Server 2012 R2 Standard / x64
0023
0023
21416
0023
machv2macOS 10.14.6 Mojave / x86_64
0023
0023
00518
0023
Package 1/23HostnameOS / ArchINSTALLBUILDCHECKBUILD BIN
abseqR 1.10.0  (landing page)
JiaHong Fong
Last Commit: 9ad3c88
Last Changed Date: 2021-05-19 12:39:19 -0400
nebbiolo1Linux (Ubuntu 20.04.2 LTS) / x86_64  OK    OK    OK  UNNEEDED, same version is already published
tokay2Windows Server 2012 R2 Standard / x64  OK    OK    OK    OK  UNNEEDED, same version is already published
machv2macOS 10.14.6 Mojave / x86_64  OK    OK    OK    OK  UNNEEDED, same version is already published
Package 2/23HostnameOS / ArchINSTALLBUILDCHECKBUILD BIN
ASpli 2.2.0  (landing page)
Estefania Mancini
Last Commit: 6dddfb0
Last Changed Date: 2021-05-19 12:22:07 -0400
nebbiolo1Linux (Ubuntu 20.04.2 LTS) / x86_64  OK    OK    OK  UNNEEDED, same version is already published
tokay2Windows Server 2012 R2 Standard / x64  OK    OK    OK    OK  UNNEEDED, same version is already published
machv2macOS 10.14.6 Mojave / x86_64  OK    OK    OK    OK  UNNEEDED, same version is already published
Package 3/23HostnameOS / ArchINSTALLBUILDCHECKBUILD BIN
BiocWorkflowTools 1.18.0  (landing page)
Mike Smith
Last Commit: 3894fab
Last Changed Date: 2021-05-19 12:22:57 -0400
nebbiolo1Linux (Ubuntu 20.04.2 LTS) / x86_64  OK    OK    OK  UNNEEDED, same version is already published
tokay2Windows Server 2012 R2 Standard / x64  OK    OK    OK    OK  UNNEEDED, same version is already published
machv2macOS 10.14.6 Mojave / x86_64  OK    OK    OK    OK  UNNEEDED, same version is already published
Package 4/23HostnameOS / ArchINSTALLBUILDCHECKBUILD BIN
BPRMeth 1.18.0  (landing page)
Chantriolnt-Andreas Kapourani
Last Commit: 2d62182
Last Changed Date: 2021-05-19 12:24:30 -0400
nebbiolo1Linux (Ubuntu 20.04.2 LTS) / x86_64  OK    OK    OK  UNNEEDED, same version is already published
tokay2Windows Server 2012 R2 Standard / x64  OK    OK    OK    OK  UNNEEDED, same version is already published
machv2macOS 10.14.6 Mojave / x86_64  OK    OK    OK    OK  UNNEEDED, same version is already published
Package 5/23HostnameOS / ArchINSTALLBUILDCHECKBUILD BIN
BubbleTree 2.22.0  (landing page)
Todd Creasy , Wei Zhu
Last Commit: d94bc48
Last Changed Date: 2021-05-19 12:11:10 -0400
nebbiolo1Linux (Ubuntu 20.04.2 LTS) / x86_64  OK    OK    OK  UNNEEDED, same version is already published
tokay2Windows Server 2012 R2 Standard / x64  OK    OK    OK    OK  UNNEEDED, same version is already published
machv2macOS 10.14.6 Mojave / x86_64  OK    OK    OK    OK  UNNEEDED, same version is already published
Package 6/23HostnameOS / ArchINSTALLBUILDCHECKBUILD BIN
chimeraviz 1.18.0  (landing page)
Stian Lågstad
Last Commit: bc2b277
Last Changed Date: 2021-05-19 12:24:46 -0400
nebbiolo1Linux (Ubuntu 20.04.2 LTS) / x86_64  OK    OK    OK  UNNEEDED, same version is already published
tokay2Windows Server 2012 R2 Standard / x64  OK    OK    OK    OK  UNNEEDED, same version is already published
machv2macOS 10.14.6 Mojave / x86_64  OK    OK    OK    OK  UNNEEDED, same version is already published
Package 7/23HostnameOS / ArchINSTALLBUILDCHECKBUILD BIN
COMPASS 1.30.0  (landing page)
Greg Finak
Last Commit: 00c36c3
Last Changed Date: 2021-05-19 12:02:54 -0400
nebbiolo1Linux (Ubuntu 20.04.2 LTS) / x86_64  OK    OK    OK  UNNEEDED, same version is already published
tokay2Windows Server 2012 R2 Standard / x64  OK    OK    OK    OK  UNNEEDED, same version is already published
machv2macOS 10.14.6 Mojave / x86_64  OK    OK    OK    OK  UNNEEDED, same version is already published
Package 8/23HostnameOS / ArchINSTALLBUILDCHECKBUILD BIN
deco 1.8.0  (landing page)
Francisco Jose Campos Laborie
Last Commit: b3606bb
Last Changed Date: 2021-05-19 12:40:07 -0400
nebbiolo1Linux (Ubuntu 20.04.2 LTS) / x86_64  OK    OK    WARNINGS  UNNEEDED, same version is already published
tokay2Windows Server 2012 R2 Standard / x64  OK    OK    WARNINGS    OK  UNNEEDED, same version is already published
machv2macOS 10.14.6 Mojave / x86_64  OK    OK    WARNINGS    OK  UNNEEDED, same version is already published
Package 9/23HostnameOS / ArchINSTALLBUILDCHECKBUILD BIN
DiscoRhythm 1.8.0  (landing page)
Matthew Carlucci
Last Commit: 1ea451c
Last Changed Date: 2021-05-19 12:42:40 -0400
nebbiolo1Linux (Ubuntu 20.04.2 LTS) / x86_64  OK    OK    OK  UNNEEDED, same version is already published
tokay2Windows Server 2012 R2 Standard / x64  OK    OK    OK    OK  UNNEEDED, same version is already published
machv2macOS 10.14.6 Mojave / x86_64  OK    OK    OK    OK  UNNEEDED, same version is already published
Package 10/23HostnameOS / ArchINSTALLBUILDCHECKBUILD BIN
geneXtendeR 1.18.0  (landing page)
Bohdan Khomtchouk
Last Commit: 5f7ff0e
Last Changed Date: 2021-05-19 12:23:33 -0400
nebbiolo1Linux (Ubuntu 20.04.2 LTS) / x86_64  OK    OK    WARNINGS  UNNEEDED, same version is already published
tokay2Windows Server 2012 R2 Standard / x64  OK    OK    WARNINGS    OK  UNNEEDED, same version is already published
machv2macOS 10.14.6 Mojave / x86_64  OK    OK    WARNINGS    OK  UNNEEDED, same version is already published
Package 11/23HostnameOS / ArchINSTALLBUILDCHECKBUILD BIN
Melissa 1.8.0  (landing page)
C. A. Kapourani
Last Commit: 4652c05
Last Changed Date: 2021-05-19 12:40:46 -0400
nebbiolo1Linux (Ubuntu 20.04.2 LTS) / x86_64  OK    OK    OK  UNNEEDED, same version is already published
tokay2Windows Server 2012 R2 Standard / x64  OK    OK    OK    OK  UNNEEDED, same version is already published
machv2macOS 10.14.6 Mojave / x86_64  OK    OK    OK    OK  UNNEEDED, same version is already published
Package 12/23HostnameOS / ArchINSTALLBUILDCHECKBUILD BIN
MSnID 1.26.0  (landing page)
Vlad Petyuk
Last Commit: 542b32c
Last Changed Date: 2021-05-19 12:07:42 -0400
nebbiolo1Linux (Ubuntu 20.04.2 LTS) / x86_64  OK    OK    OK  UNNEEDED, same version is already published
tokay2Windows Server 2012 R2 Standard / x64  OK    OK    OK    OK  UNNEEDED, same version is already published
machv2macOS 10.14.6 Mojave / x86_64  OK    OK    OK    OK  UNNEEDED, same version is already published
Package 13/23HostnameOS / ArchINSTALLBUILDCHECKBUILD BIN
PathoStat 1.18.0  (landing page)
Solaiappan Manimaran
Last Commit: 9d6981f
Last Changed Date: 2021-05-19 12:23:43 -0400
nebbiolo1Linux (Ubuntu 20.04.2 LTS) / x86_64  OK    OK    OK  UNNEEDED, same version is already published
tokay2Windows Server 2012 R2 Standard / x64  OK    OK    OK    OK  UNNEEDED, same version is already published
machv2macOS 10.14.6 Mojave / x86_64  OK    OK    OK    OK  UNNEEDED, same version is already published
Package 14/23HostnameOS / ArchINSTALLBUILDCHECKBUILD BIN
PhyloProfile 1.6.2  (landing page)
Vinh Tran
Last Commit: 2b9bbfc
Last Changed Date: 2021-06-02 15:38:02 -0400
nebbiolo1Linux (Ubuntu 20.04.2 LTS) / x86_64  OK    OK    OK  UNNEEDED, same version is already published
tokay2Windows Server 2012 R2 Standard / x64  OK    OK    OK    OK  UNNEEDED, same version is already published
machv2macOS 10.14.6 Mojave / x86_64  OK    OK    OK    OK  UNNEEDED, same version is already published
Package 15/23HostnameOS / ArchINSTALLBUILDCHECKBUILD BIN
Pigengene 1.18.0  (landing page)
Habil Zare
Last Commit: 848d21a
Last Changed Date: 2021-05-19 12:20:45 -0400
nebbiolo1Linux (Ubuntu 20.04.2 LTS) / x86_64  OK    OK    WARNINGS  UNNEEDED, same version is already published
tokay2Windows Server 2012 R2 Standard / x64  OK    OK    ERROR    OK  
machv2macOS 10.14.6 Mojave / x86_64  OK    OK    WARNINGS    OK  UNNEEDED, same version is already published
Package 16/23HostnameOS / ArchINSTALLBUILDCHECKBUILD BIN
rebook 1.2.0  (landing page)
Aaron Lun
Last Commit: 0566c03
Last Changed Date: 2021-05-19 12:54:38 -0400
nebbiolo1Linux (Ubuntu 20.04.2 LTS) / x86_64  OK    OK    WARNINGS  UNNEEDED, same version is already published
tokay2Windows Server 2012 R2 Standard / x64  OK    OK    WARNINGS    OK  UNNEEDED, same version is already published
machv2macOS 10.14.6 Mojave / x86_64  OK    OK    WARNINGS    OK  UNNEEDED, same version is already published
Package 17/23HostnameOS / ArchINSTALLBUILDCHECKBUILD BIN
regionReport 1.26.0  (landing page)
Leonardo Collado-Torres
Last Commit: 985fa5a
Last Changed Date: 2021-05-19 12:08:17 -0400
nebbiolo1Linux (Ubuntu 20.04.2 LTS) / x86_64  OK    OK    OK  UNNEEDED, same version is already published
tokay2Windows Server 2012 R2 Standard / x64  OK    OK    OK    OK  UNNEEDED, same version is already published
machv2macOS 10.14.6 Mojave / x86_64  OK    OK    OK    OK  UNNEEDED, same version is already published
Package 18/23HostnameOS / ArchINSTALLBUILDCHECKBUILD BIN
Rmmquant 1.10.0  (landing page)
Zytnicki Matthias
Last Commit: 5bad2b4
Last Changed Date: 2021-05-19 12:36:13 -0400
nebbiolo1Linux (Ubuntu 20.04.2 LTS) / x86_64  OK    OK    OK  UNNEEDED, same version is already published
tokay2Windows Server 2012 R2 Standard / x64  OK    OK    OK    OK  UNNEEDED, same version is already published
machv2macOS 10.14.6 Mojave / x86_64  OK    OK    OK    OK  UNNEEDED, same version is already published
Package 19/23HostnameOS / ArchINSTALLBUILDCHECKBUILD BIN
Rqc 1.26.0  (landing page)
Welliton Souza
Last Commit: 1c1c91a
Last Changed Date: 2021-05-19 12:09:26 -0400
nebbiolo1Linux (Ubuntu 20.04.2 LTS) / x86_64  OK    OK    OK  UNNEEDED, same version is already published
tokay2Windows Server 2012 R2 Standard / x64  OK    OK    TIMEOUT    OK  
machv2macOS 10.14.6 Mojave / x86_64  OK    OK    OK    OK  UNNEEDED, same version is already published
Package 20/23HostnameOS / ArchINSTALLBUILDCHECKBUILD BIN
sangeranalyseR 1.2.0  (landing page)
Kuan-Hao Chao
Last Commit: 1dc9873
Last Changed Date: 2021-05-19 12:52:42 -0400
nebbiolo1Linux (Ubuntu 20.04.2 LTS) / x86_64  OK    OK    WARNINGS  UNNEEDED, same version is already published
tokay2Windows Server 2012 R2 Standard / x64  OK    OK    WARNINGS    OK  UNNEEDED, same version is already published
machv2macOS 10.14.6 Mojave / x86_64  OK    OK    WARNINGS    OK  UNNEEDED, same version is already published
Package 21/23HostnameOS / ArchINSTALLBUILDCHECKBUILD BIN
scTensor 2.2.0  (landing page)
Koki Tsuyuzaki
Last Commit: adb0ecb
Last Changed Date: 2021-05-19 12:39:42 -0400
nebbiolo1Linux (Ubuntu 20.04.2 LTS) / x86_64  OK    OK    OK  UNNEEDED, same version is already published
tokay2Windows Server 2012 R2 Standard / x64  OK    OK    OK    OK  UNNEEDED, same version is already published
machv2macOS 10.14.6 Mojave / x86_64  OK    OK    OK    OK  UNNEEDED, same version is already published
Package 22/23HostnameOS / ArchINSTALLBUILDCHECKBUILD BIN
scTGIF 1.6.0  (landing page)
Koki Tsuyuzaki
Last Commit: 8463e50
Last Changed Date: 2021-05-19 12:47:50 -0400
nebbiolo1Linux (Ubuntu 20.04.2 LTS) / x86_64  OK    OK    OK  UNNEEDED, same version is already published
tokay2Windows Server 2012 R2 Standard / x64  OK    OK    OK    OK  UNNEEDED, same version is already published
machv2macOS 10.14.6 Mojave / x86_64  OK    OK    OK    OK  UNNEEDED, same version is already published
Package 23/23HostnameOS / ArchINSTALLBUILDCHECKBUILD BIN
srnadiff 1.12.2  (landing page)
Zytnicki Matthias
Last Commit: 21bcbca
Last Changed Date: 2021-06-02 10:17:41 -0400
nebbiolo1Linux (Ubuntu 20.04.2 LTS) / x86_64  OK    OK    OK  UNNEEDED, same version is already published
tokay2Windows Server 2012 R2 Standard / x64  OK    OK    TIMEOUT    OK  
machv2macOS 10.14.6 Mojave / x86_64  OK    OK    OK    OK  UNNEEDED, same version is already published