Back to Multiple platform build/check report for BioC 3.13
A[B]CDEFGHIJKLMNOPQRSTUVWXYZ

This page was generated on 2021-06-18 14:05:15 -0400 (Fri, 18 Jun 2021).

All results for package BiocSingular

To the developers/maintainers of the BiocSingular package:
- Please allow up to 24 hours (and sometimes 48 hours) for your latest push to git@git.bioconductor.org:packages/BiocSingular.git to
reflect on this report. See How and When does the builder pull? When will my changes propagate? here for more information.
- Make sure to use the following settings in order to reproduce any error or warning you see on this page.

raw results

Package 171/2041HostnameOS / ArchINSTALLBUILDCHECKBUILD BIN
BiocSingular 1.8.1  (landing page)
Aaron Lun
Snapshot Date: 2021-06-17 06:50:12 -0400 (Thu, 17 Jun 2021)
URL: https://git.bioconductor.org/packages/BiocSingular
Branch: RELEASE_3_13
Last Commit: 860033b
Last Changed Date: 2021-06-08 02:14:49 -0400 (Tue, 08 Jun 2021)
nebbiolo1Linux (Ubuntu 20.04.2 LTS) / x86_64  OK    OK    OK  UNNEEDED, same version is already published
tokay2Windows Server 2012 R2 Standard / x64  OK    OK    OK    OK  UNNEEDED, same version is already published
machv2macOS 10.14.6 Mojave / x86_64  OK    OK    OK    OK  UNNEEDED, same version is already published

Results for Bioconductor software packages that depend directly on package BiocSingular

QUICK STATSOS / ArchINSTALLBUILDCHECKBUILD BIN
nebbiolo1Linux (Ubuntu 20.04.2 LTS) / x86_64
0016
0016
00313
tokay2Windows Server 2012 R2 Standard / x64
0016
0115
10212
0015
machv2macOS 10.14.6 Mojave / x86_64
0016
0016
10213
0016
Package 1/16HostnameOS / ArchINSTALLBUILDCHECKBUILD BIN
batchelor 1.8.0  (landing page)
Aaron Lun
Last Commit: 58f6f51
Last Changed Date: 2021-05-19 12:42:21 -0400
nebbiolo1Linux (Ubuntu 20.04.2 LTS) / x86_64  OK    OK    OK  UNNEEDED, same version is already published
tokay2Windows Server 2012 R2 Standard / x64  OK    OK    OK    OK  UNNEEDED, same version is already published
machv2macOS 10.14.6 Mojave / x86_64  OK    OK    OK    OK  UNNEEDED, same version is already published
Package 2/16HostnameOS / ArchINSTALLBUILDCHECKBUILD BIN
BayesSpace 1.2.0  (landing page)
Matt Stone
Last Commit: 53377bd
Last Changed Date: 2021-05-19 12:56:21 -0400
nebbiolo1Linux (Ubuntu 20.04.2 LTS) / x86_64  OK    OK    OK  UNNEEDED, same version is already published
tokay2Windows Server 2012 R2 Standard / x64  OK    OK    OK    OK  UNNEEDED, same version is already published
machv2macOS 10.14.6 Mojave / x86_64  OK    OK    OK    OK  UNNEEDED, same version is already published
Package 3/16HostnameOS / ArchINSTALLBUILDCHECKBUILD BIN
clusterExperiment 2.12.0  (landing page)
Elizabeth Purdom
Last Commit: 3dc45a6
Last Changed Date: 2021-05-19 12:21:34 -0400
nebbiolo1Linux (Ubuntu 20.04.2 LTS) / x86_64  OK    OK    WARNINGS  UNNEEDED, same version is already published
tokay2Windows Server 2012 R2 Standard / x64  OK    OK    TIMEOUT    OK  
machv2macOS 10.14.6 Mojave / x86_64  OK    OK    TIMEOUT    OK  
Package 4/16HostnameOS / ArchINSTALLBUILDCHECKBUILD BIN
compartmap 1.10.0  (landing page)
Benjamin Johnson
Last Commit: 4c305de
Last Changed Date: 2021-05-19 12:39:30 -0400
nebbiolo1Linux (Ubuntu 20.04.2 LTS) / x86_64  OK    OK    OK  UNNEEDED, same version is already published
tokay2Windows Server 2012 R2 Standard / x64  OK    OK    OK    OK  UNNEEDED, same version is already published
machv2macOS 10.14.6 Mojave / x86_64  OK    OK    OK    OK  UNNEEDED, same version is already published
Package 5/16HostnameOS / ArchINSTALLBUILDCHECKBUILD BIN
GSVA 1.40.1  (landing page)
Justin Guinney
Last Commit: 61b842e
Last Changed Date: 2021-06-03 11:42:11 -0400
nebbiolo1Linux (Ubuntu 20.04.2 LTS) / x86_64  OK    OK    OK  UNNEEDED, same version is already published
tokay2Windows Server 2012 R2 Standard / x64  OK    OK    OK    OK  UNNEEDED, same version is already published
machv2macOS 10.14.6 Mojave / x86_64  OK    OK    OK    OK  UNNEEDED, same version is already published
Package 6/16HostnameOS / ArchINSTALLBUILDCHECKBUILD BIN
miloR 1.0.0  (landing page)
Mike Morgan
Last Commit: 6e2750a
Last Changed Date: 2021-05-19 13:02:52 -0400
nebbiolo1Linux (Ubuntu 20.04.2 LTS) / x86_64  OK    OK    OK  UNNEEDED, same version is already published
tokay2Windows Server 2012 R2 Standard / x64  OK    OK    OK    OK  UNNEEDED, same version is already published
machv2macOS 10.14.6 Mojave / x86_64  OK    OK    OK    OK  UNNEEDED, same version is already published
Package 7/16HostnameOS / ArchINSTALLBUILDCHECKBUILD BIN
mumosa 1.0.0  (landing page)
Aaron Lun
Last Commit: bd0c58c
Last Changed Date: 2021-05-19 12:58:39 -0400
nebbiolo1Linux (Ubuntu 20.04.2 LTS) / x86_64  OK    OK    OK  UNNEEDED, same version is already published
tokay2Windows Server 2012 R2 Standard / x64  OK    OK    OK    OK  UNNEEDED, same version is already published
machv2macOS 10.14.6 Mojave / x86_64  OK    OK    OK    OK  UNNEEDED, same version is already published
Package 8/16HostnameOS / ArchINSTALLBUILDCHECKBUILD BIN
NewWave 1.2.0  (landing page)
Federico Agostinis
Last Commit: 43d1601
Last Changed Date: 2021-05-19 12:57:53 -0400
nebbiolo1Linux (Ubuntu 20.04.2 LTS) / x86_64  OK    OK    OK  UNNEEDED, same version is already published
tokay2Windows Server 2012 R2 Standard / x64  OK    OK    OK    OK  UNNEEDED, same version is already published
machv2macOS 10.14.6 Mojave / x86_64  OK    OK    OK    OK  UNNEEDED, same version is already published
Package 9/16HostnameOS / ArchINSTALLBUILDCHECKBUILD BIN
PCAtools 2.4.0  (landing page)
Kevin Blighe
Last Commit: a3863ae
Last Changed Date: 2021-05-19 12:40:17 -0400
nebbiolo1Linux (Ubuntu 20.04.2 LTS) / x86_64  OK    OK    OK  UNNEEDED, same version is already published
tokay2Windows Server 2012 R2 Standard / x64  OK    ERROR  skippedskipped
machv2macOS 10.14.6 Mojave / x86_64  OK    OK    OK    OK  UNNEEDED, same version is already published
Package 10/16HostnameOS / ArchINSTALLBUILDCHECKBUILD BIN
scater 1.20.1  (landing page)
Alan O'Callaghan
Last Commit: 67e2515
Last Changed Date: 2021-05-24 13:28:58 -0400
nebbiolo1Linux (Ubuntu 20.04.2 LTS) / x86_64  OK    OK    OK  UNNEEDED, same version is already published
tokay2Windows Server 2012 R2 Standard / x64  OK    OK    OK    OK  UNNEEDED, same version is already published
machv2macOS 10.14.6 Mojave / x86_64  OK    OK    OK    OK  UNNEEDED, same version is already published
Package 11/16HostnameOS / ArchINSTALLBUILDCHECKBUILD BIN
scDblFinder 1.6.0  (landing page)
Pierre-Luc Germain
Last Commit: e5c1a83
Last Changed Date: 2021-05-19 12:47:35 -0400
nebbiolo1Linux (Ubuntu 20.04.2 LTS) / x86_64  OK    OK    WARNINGS  UNNEEDED, same version is already published
tokay2Windows Server 2012 R2 Standard / x64  OK    OK    WARNINGS    OK  UNNEEDED, same version is already published
machv2macOS 10.14.6 Mojave / x86_64  OK    OK    WARNINGS    OK  UNNEEDED, same version is already published
Package 12/16HostnameOS / ArchINSTALLBUILDCHECKBUILD BIN
scMerge 1.8.0  (landing page)
Yingxin Lin
Last Commit: b558998
Last Changed Date: 2021-05-19 12:43:22 -0400
nebbiolo1Linux (Ubuntu 20.04.2 LTS) / x86_64  OK    OK    OK  UNNEEDED, same version is already published
tokay2Windows Server 2012 R2 Standard / x64  OK    OK    OK    OK  UNNEEDED, same version is already published
machv2macOS 10.14.6 Mojave / x86_64  OK    OK    OK    OK  UNNEEDED, same version is already published
Package 13/16HostnameOS / ArchINSTALLBUILDCHECKBUILD BIN
scran 1.20.1  (landing page)
Aaron Lun
Last Commit: 5fcaf5b
Last Changed Date: 2021-05-24 12:45:47 -0400
nebbiolo1Linux (Ubuntu 20.04.2 LTS) / x86_64  OK    OK    WARNINGS  UNNEEDED, same version is already published
tokay2Windows Server 2012 R2 Standard / x64  OK    OK    WARNINGS    OK  UNNEEDED, same version is already published
machv2macOS 10.14.6 Mojave / x86_64  OK    OK    WARNINGS    OK  UNNEEDED, same version is already published
Package 14/16HostnameOS / ArchINSTALLBUILDCHECKBUILD BIN
scry 1.4.0  (landing page)
Kelly Street
Last Commit: e03f3cb
Last Changed Date: 2021-05-19 12:52:10 -0400
nebbiolo1Linux (Ubuntu 20.04.2 LTS) / x86_64  OK    OK    OK  UNNEEDED, same version is already published
tokay2Windows Server 2012 R2 Standard / x64  OK    OK    OK    OK  UNNEEDED, same version is already published
machv2macOS 10.14.6 Mojave / x86_64  OK    OK    OK    OK  UNNEEDED, same version is already published
Package 15/16HostnameOS / ArchINSTALLBUILDCHECKBUILD BIN
SingleR 1.6.1  (landing page)
Aaron Lun
Last Commit: edbe717
Last Changed Date: 2021-05-20 00:59:15 -0400
nebbiolo1Linux (Ubuntu 20.04.2 LTS) / x86_64  OK    OK    OK  UNNEEDED, same version is already published
tokay2Windows Server 2012 R2 Standard / x64  OK    OK    OK    OK  UNNEEDED, same version is already published
machv2macOS 10.14.6 Mojave / x86_64  OK    OK    OK    OK  UNNEEDED, same version is already published
Package 16/16HostnameOS / ArchINSTALLBUILDCHECKBUILD BIN
velociraptor 1.2.0  (landing page)
Kevin Rue-Albrecht
Last Commit: 3e78025
Last Changed Date: 2021-05-19 12:55:56 -0400
nebbiolo1Linux (Ubuntu 20.04.2 LTS) / x86_64  OK    OK    OK  UNNEEDED, same version is already published
tokay2Windows Server 2012 R2 Standard / x64  OK    OK    OK    OK  UNNEEDED, same version is already published
machv2macOS 10.14.6 Mojave / x86_64  OK    OK    OK    OK  UNNEEDED, same version is already published