Back to Multiple platform build/check report for BioC 3.13
A[B]CDEFGHIJKLMNOPQRSTUVWXYZ

This page was generated on 2021-09-22 15:05:09 -0400 (Wed, 22 Sep 2021).

BUILD BIN results for BiocSet on tokay2

To the developers/maintainers of the BiocSet package:
- Please allow up to 24 hours (and sometimes 48 hours) for your latest push to git@git.bioconductor.org:packages/BiocSet.git to
reflect on this report. See How and When does the builder pull? When will my changes propagate? here for more information.
- Make sure to use the following settings in order to reproduce any error or warning you see on this page.

raw results

Package 170/2041HostnameOS / ArchINSTALLBUILDCHECKBUILD BIN
BiocSet 1.6.1  (landing page)
Kayla Morrell
Snapshot Date: 2021-09-21 04:50:12 -0400 (Tue, 21 Sep 2021)
git_url: https://git.bioconductor.org/packages/BiocSet
git_branch: RELEASE_3_13
git_last_commit: 9572684
git_last_commit_date: 2021-08-05 15:24:49 -0400 (Thu, 05 Aug 2021)
nebbiolo1Linux (Ubuntu 20.04.2 LTS) / x86_64  OK    OK    OK  UNNEEDED, same version is already published
tokay2Windows Server 2012 R2 Standard / x64  OK    OK    OK    OK  UNNEEDED, same version is already published
machv2macOS 10.14.6 Mojave / x86_64  OK    OK    OK    OK  UNNEEDED, same version is already published

Summary

Package: BiocSet
Version: 1.6.1
Command: rm -rf BiocSet.buildbin-libdir && mkdir BiocSet.buildbin-libdir && C:\Users\biocbuild\bbs-3.13-bioc\R\bin\R.exe CMD INSTALL --merge-multiarch --build --library=BiocSet.buildbin-libdir BiocSet_1.6.1.tar.gz
StartedAt: 2021-09-22 07:54:54 -0400 (Wed, 22 Sep 2021)
EndedAt: 2021-09-22 07:56:18 -0400 (Wed, 22 Sep 2021)
EllapsedTime: 84.1 seconds
RetCode: 0
Status:   OK  
PackageFile: BiocSet_1.6.1.zip
PackageFileSize: 808.8 KiB

Command output

##############################################################################
##############################################################################
###
### Running command:
###
###   rm -rf BiocSet.buildbin-libdir && mkdir BiocSet.buildbin-libdir && C:\Users\biocbuild\bbs-3.13-bioc\R\bin\R.exe CMD INSTALL --merge-multiarch --build --library=BiocSet.buildbin-libdir BiocSet_1.6.1.tar.gz
###
##############################################################################
##############################################################################



install for i386

* installing *source* package 'BiocSet' ...
** using staged installation
** R
** inst
** byte-compile and prepare package for lazy loading
** help
*** installing help indices
  converting help for package 'BiocSet'
    finding HTML links ... done
    BiocSet-class                           html  
    BiocSet-methods                         html  
    OBOSet-class                            html  
    coerce                                  html  
    element_funs                            html  
    elementset_funs                         html  
    genesetcollection                       html  
    import                                  html  
    intersect_single                        html  
    mapping_element                         html  
    mapping_set                             html  
    obo_relations                           html  
    set_funs                                html  
    tblelement                              html  
    tblelementset                           html  
    tblset                                  html  
    union_single                            html  
    url_ref                                 html  
** building package indices
** installing vignettes
** testing if installed package can be loaded from temporary location
** testing if installed package can be loaded from final location
** testing if installed package keeps a record of temporary installation path

install for x64

* installing *source* package 'BiocSet' ...
** testing if installed package can be loaded
* MD5 sums
packaged installation of 'BiocSet' as BiocSet_1.6.1.zip
* DONE (BiocSet)