Back to Multiple platform build/check report for BioC 3.13
A[B]CDEFGHIJKLMNOPQRSTUVWXYZ

This page was generated on 2021-09-13 15:05:55 -0400 (Mon, 13 Sep 2021).

CHECK results for BiocSet on nebbiolo1

To the developers/maintainers of the BiocSet package:
- Please allow up to 24 hours (and sometimes 48 hours) for your latest push to git@git.bioconductor.org:packages/BiocSet.git to
reflect on this report. See How and When does the builder pull? When will my changes propagate? here for more information.
- Make sure to use the following settings in order to reproduce any error or warning you see on this page.

raw results

Package 170/2041HostnameOS / ArchINSTALLBUILDCHECKBUILD BIN
BiocSet 1.6.1  (landing page)
Kayla Morrell
Snapshot Date: 2021-09-12 04:50:10 -0400 (Sun, 12 Sep 2021)
git_url: https://git.bioconductor.org/packages/BiocSet
git_branch: RELEASE_3_13
git_last_commit: 9572684
git_last_commit_date: 2021-08-05 15:24:49 -0400 (Thu, 05 Aug 2021)
nebbiolo1Linux (Ubuntu 20.04.2 LTS) / x86_64  OK    OK    OK  UNNEEDED, same version is already published
tokay2Windows Server 2012 R2 Standard / x64  OK    OK    OK    OK  UNNEEDED, same version is already published
machv2macOS 10.14.6 Mojave / x86_64  OK    OK    OK    OK  UNNEEDED, same version is already published

Summary

Package: BiocSet
Version: 1.6.1
Command: /home/biocbuild/bbs-3.13-bioc/R/bin/R CMD check --install=check:BiocSet.install-out.txt --library=/home/biocbuild/bbs-3.13-bioc/R/library --no-vignettes --timings BiocSet_1.6.1.tar.gz
StartedAt: 2021-09-12 08:59:05 -0400 (Sun, 12 Sep 2021)
EndedAt: 2021-09-12 09:04:16 -0400 (Sun, 12 Sep 2021)
EllapsedTime: 310.5 seconds
RetCode: 0
Status:   OK  
CheckDir: BiocSet.Rcheck
Warnings: 0

Command output

##############################################################################
##############################################################################
###
### Running command:
###
###   /home/biocbuild/bbs-3.13-bioc/R/bin/R CMD check --install=check:BiocSet.install-out.txt --library=/home/biocbuild/bbs-3.13-bioc/R/library --no-vignettes --timings BiocSet_1.6.1.tar.gz
###
##############################################################################
##############################################################################


* using log directory ‘/home/biocbuild/bbs-3.13-bioc/meat/BiocSet.Rcheck’
* using R version 4.1.1 (2021-08-10)
* using platform: x86_64-pc-linux-gnu (64-bit)
* using session charset: UTF-8
* using option ‘--no-vignettes’
* checking for file ‘BiocSet/DESCRIPTION’ ... OK
* this is package ‘BiocSet’ version ‘1.6.1’
* package encoding: UTF-8
* checking package namespace information ... OK
* checking package dependencies ... OK
* checking if this is a source package ... OK
* checking if there is a namespace ... OK
* checking for hidden files and directories ... OK
* checking for portable file names ... OK
* checking for sufficient/correct file permissions ... OK
* checking whether package ‘BiocSet’ can be installed ... OK
* checking installed package size ... OK
* checking package directory ... OK
* checking ‘build’ directory ... OK
* checking DESCRIPTION meta-information ... OK
* checking top-level files ... OK
* checking for left-over files ... OK
* checking index information ... OK
* checking package subdirectories ... OK
* checking R files for non-ASCII characters ... OK
* checking R files for syntax errors ... OK
* checking whether the package can be loaded ... OK
* checking whether the package can be loaded with stated dependencies ... OK
* checking whether the package can be unloaded cleanly ... OK
* checking whether the namespace can be loaded with stated dependencies ... OK
* checking whether the namespace can be unloaded cleanly ... OK
* checking dependencies in R code ... OK
* checking S3 generic/method consistency ... OK
* checking replacement functions ... OK
* checking foreign function calls ... OK
* checking R code for possible problems ... OK
* checking Rd files ... OK
* checking Rd metadata ... OK
* checking Rd cross-references ... OK
* checking for missing documentation entries ... OK
* checking for code/documentation mismatches ... OK
* checking Rd \usage sections ... OK
* checking Rd contents ... OK
* checking for unstated dependencies in examples ... OK
* checking files in ‘vignettes’ ... OK
* checking examples ... OK
Examples with CPU (user + system) or elapsed time > 5s
                  user system elapsed
mapping_set     49.767  3.139 120.394
BiocSet-methods  8.111  0.416   8.528
* checking for unstated dependencies in ‘tests’ ... OK
* checking tests ...
  Running ‘testthat.R’
 OK
* checking for unstated dependencies in vignettes ... OK
* checking package vignettes in ‘inst/doc’ ... OK
* checking running R code from vignettes ... SKIPPED
* checking re-building of vignette outputs ... SKIPPED
* checking PDF version of manual ... OK
* DONE

Status: OK


Installation output

BiocSet.Rcheck/00install.out

##############################################################################
##############################################################################
###
### Running command:
###
###   /home/biocbuild/bbs-3.13-bioc/R/bin/R CMD INSTALL BiocSet
###
##############################################################################
##############################################################################


* installing to library ‘/home/biocbuild/bbs-3.13-bioc/R/library’
* installing *source* package ‘BiocSet’ ...
** using staged installation
** R
** inst
** byte-compile and prepare package for lazy loading
** help
*** installing help indices
** building package indices
** installing vignettes
** testing if installed package can be loaded from temporary location
** testing if installed package can be loaded from final location
** testing if installed package keeps a record of temporary installation path
* DONE (BiocSet)

Tests output

BiocSet.Rcheck/tests/testthat.Rout


R version 4.1.1 (2021-08-10) -- "Kick Things"
Copyright (C) 2021 The R Foundation for Statistical Computing
Platform: x86_64-pc-linux-gnu (64-bit)

R is free software and comes with ABSOLUTELY NO WARRANTY.
You are welcome to redistribute it under certain conditions.
Type 'license()' or 'licence()' for distribution details.

R is a collaborative project with many contributors.
Type 'contributors()' for more information and
'citation()' on how to cite R or R packages in publications.

Type 'demo()' for some demos, 'help()' for on-line help, or
'help.start()' for an HTML browser interface to help.
Type 'q()' to quit R.

> library(testthat)
> library(BiocSet)
Loading required package: dplyr

Attaching package: 'dplyr'

The following object is masked from 'package:testthat':

    matches

The following objects are masked from 'package:stats':

    filter, lag

The following objects are masked from 'package:base':

    intersect, setdiff, setequal, union

> 
> test_check("BiocSet")
[ FAIL 0 | WARN 1 | SKIP 0 | PASS 558 ]
> 
> proc.time()
   user  system elapsed 
 58.823   2.493  88.685 

Example timings

BiocSet.Rcheck/BiocSet-Ex.timings

nameusersystemelapsed
BiocSet-class0.1620.0160.177
BiocSet-methods8.1110.4168.528
OBOSet-class0.1320.0160.148
element_funs0.1950.0360.231
elementset_funs0.1680.0320.200
genesetcollection0.5850.0120.597
import0.2070.0010.207
intersect_single0.0340.0000.034
mapping_element0.9670.0120.980
mapping_set 49.767 3.139120.394
obo_relations0.2330.0280.261
set_funs0.2090.0080.217
tblelement0.0140.0000.014
tblelementset0.0030.0000.003
tblset0.0100.0030.012
union_single0.0380.0000.038
url_ref0.0880.0070.096