Index of /checkResults/release/bioc-LATEST/BiocPkgTools/raw-results/tokay2

[ICO]NameLast modifiedSizeDescription

[DIR]Parent Directory  -  
[TXT]buildbin-out.txt16-Oct-2021 04:05 2.8K 
[   ]buildbin-summary.dcf16-Oct-2021 04:05 569  
[TXT]buildsrc-out.txt16-Oct-2021 04:05 870  
[   ]buildsrc-summary.dcf16-Oct-2021 04:05 479  
[TXT]checksrc-out.txt16-Oct-2021 04:05 5.5K 
[   ]checksrc-summary.dcf16-Oct-2021 04:05 482  
[TXT]install-out.txt16-Oct-2021 04:05 3.4K 
[   ]install-summary.dcf16-Oct-2021 04:05 685