Back to Multiple platform build/check report for BioC 3.13
A[B]CDEFGHIJKLMNOPQRSTUVWXYZ

All results for package BiocParallel

This page was generated on 2021-06-11 14:05:09 -0400 (Fri, 11 Jun 2021).

Package 168/2041HostnameOS / ArchINSTALLBUILDCHECKBUILD BIN
BiocParallel 1.26.0  (landing page)
Bioconductor Package Maintainer
Snapshot Date: 2021-06-10 06:50:12 -0400 (Thu, 10 Jun 2021)
URL: https://git.bioconductor.org/packages/BiocParallel
Branch: RELEASE_3_13
Last Commit: 51150a5
Last Changed Date: 2021-05-19 11:54:44 -0400 (Wed, 19 May 2021)
nebbiolo1Linux (Ubuntu 20.04.2 LTS) / x86_64  OK    OK    OK  UNNEEDED, same version is already published
tokay2Windows Server 2012 R2 Standard / x64  OK    OK    OK    OK  UNNEEDED, same version is already published
machv2macOS 10.14.6 Mojave / x86_64  OK    OK    OK    OK  UNNEEDED, same version is already published

Results for Bioconductor software packages that depend directly on package BiocParallel

QUICK STATSOS / ArchINSTALLBUILDCHECKBUILD BIN
nebbiolo1Linux (Ubuntu 20.04.2 LTS) / x86_64
00256
03253
0340210
tokay2Windows Server 2012 R2 Standard / x64
00250
03247
7938193
00247
machv2macOS 10.14.6 Mojave / x86_64
00255
03252
0540207
00252
Package 1/256HostnameOS / ArchINSTALLBUILDCHECKBUILD BIN
abseqR 1.10.0  (landing page)
JiaHong Fong
Last Commit: 9ad3c88
Last Changed Date: 2021-05-19 12:39:19 -0400
nebbiolo1Linux (Ubuntu 20.04.2 LTS) / x86_64  OK    OK    OK  UNNEEDED, same version is already published
tokay2Windows Server 2012 R2 Standard / x64  OK    OK    OK    OK  UNNEEDED, same version is already published
machv2macOS 10.14.6 Mojave / x86_64  OK    OK    OK    OK  UNNEEDED, same version is already published
Package 2/256HostnameOS / ArchINSTALLBUILDCHECKBUILD BIN
ADImpute 1.2.0  (landing page)
Ana Carolina Leote
Last Commit: 7c93ba7
Last Changed Date: 2021-05-19 12:57:20 -0400
nebbiolo1Linux (Ubuntu 20.04.2 LTS) / x86_64  OK    OK    WARNINGS  UNNEEDED, same version is already published
tokay2Windows Server 2012 R2 Standard / x64  OK    OK    WARNINGS    OK  UNNEEDED, same version is already published
machv2macOS 10.14.6 Mojave / x86_64  OK    OK    WARNINGS    OK  UNNEEDED, same version is already published
Package 3/256HostnameOS / ArchINSTALLBUILDCHECKBUILD BIN
AffiXcan 1.10.0  (landing page)
Alessandro Lussana
Last Commit: 80665cf
Last Changed Date: 2021-05-19 12:38:25 -0400
nebbiolo1Linux (Ubuntu 20.04.2 LTS) / x86_64  OK    OK    OK  UNNEEDED, same version is already published
tokay2Windows Server 2012 R2 Standard / x64  OK    OK    OK    OK  UNNEEDED, same version is already published
machv2macOS 10.14.6 Mojave / x86_64  OK    OK    OK    OK  UNNEEDED, same version is already published
Package 4/256HostnameOS / ArchINSTALLBUILDCHECKBUILD BIN
ALDEx2 1.24.0  (landing page)
Greg Gloor
Last Commit: a41b778
Last Changed Date: 2021-05-19 12:08:00 -0400
nebbiolo1Linux (Ubuntu 20.04.2 LTS) / x86_64  OK    OK    OK  UNNEEDED, same version is already published
tokay2Windows Server 2012 R2 Standard / x64  OK    OK    OK    OK  UNNEEDED, same version is already published
machv2macOS 10.14.6 Mojave / x86_64  OK    OK    OK    OK  UNNEEDED, same version is already published
Package 5/256HostnameOS / ArchINSTALLBUILDCHECKBUILD BIN
AlphaBeta 1.6.0  (landing page)
Yadollah Shahryary Dizaji
Last Commit: 0b30919
Last Changed Date: 2021-05-19 12:45:20 -0400
nebbiolo1Linux (Ubuntu 20.04.2 LTS) / x86_64  OK    OK    OK  UNNEEDED, same version is already published
tokay2Windows Server 2012 R2 Standard / x64  OK    OK    OK    OK  UNNEEDED, same version is already published
machv2macOS 10.14.6 Mojave / x86_64  OK    OK    OK    OK  UNNEEDED, same version is already published
Package 6/256HostnameOS / ArchINSTALLBUILDCHECKBUILD BIN
ALPS 1.6.0  (landing page)
Venu Thatikonda
Last Commit: 26c0256
Last Changed Date: 2021-05-19 12:47:11 -0400
nebbiolo1Linux (Ubuntu 20.04.2 LTS) / x86_64  OK    ERROR  skipped
tokay2Windows Server 2012 R2 Standard / x64  OK    ERROR  skippedskipped
machv2macOS 10.14.6 Mojave / x86_64  OK    ERROR  skippedskipped
Package 7/256HostnameOS / ArchINSTALLBUILDCHECKBUILD BIN
AlpsNMR 3.2.0  (landing page)
Luis Fernandez
Last Commit: 042b3d3
Last Changed Date: 2021-05-19 12:57:58 -0400
nebbiolo1Linux (Ubuntu 20.04.2 LTS) / x86_64  OK    OK    ERROR  
tokay2Windows Server 2012 R2 Standard / x64  OK    OK    ERROR    OK  
machv2macOS 10.14.6 Mojave / x86_64  OK    OK    ERROR    OK  
Package 8/256HostnameOS / ArchINSTALLBUILDCHECKBUILD BIN
amplican 1.14.0  (landing page)
Eivind Valen
Last Commit: e994104
Last Changed Date: 2021-05-19 12:30:12 -0400
nebbiolo1Linux (Ubuntu 20.04.2 LTS) / x86_64  OK    OK    OK  UNNEEDED, same version is already published
tokay2Windows Server 2012 R2 Standard / x64  OK    OK    OK    OK  UNNEEDED, same version is already published
machv2macOS 10.14.6 Mojave / x86_64  OK    OK    OK    OK  UNNEEDED, same version is already published
Package 9/256HostnameOS / ArchINSTALLBUILDCHECKBUILD BIN
ASICS 2.8.0  (landing page)
Gaëlle Lefort
Last Commit: 3169aa8
Last Changed Date: 2021-05-19 12:34:32 -0400
nebbiolo1Linux (Ubuntu 20.04.2 LTS) / x86_64  OK    OK    OK  UNNEEDED, same version is already published
tokay2Windows Server 2012 R2 Standard / x64  OK    OK    OK    OK  UNNEEDED, same version is already published
machv2macOS 10.14.6 Mojave / x86_64  OK    OK    OK    OK  UNNEEDED, same version is already published
Package 10/256HostnameOS / ArchINSTALLBUILDCHECKBUILD BIN
ASpediaFI 1.6.0  (landing page)
Doyeong Yu
Last Commit: a36105f
Last Changed Date: 2021-05-19 12:47:16 -0400
nebbiolo1Linux (Ubuntu 20.04.2 LTS) / x86_64  OK    OK    OK  UNNEEDED, same version is already published
tokay2Windows Server 2012 R2 Standard / x64  OK    OK    OK    OK  UNNEEDED, same version is already published
machv2macOS 10.14.6 Mojave / x86_64  OK    OK    OK    OK  UNNEEDED, same version is already published
Package 11/256HostnameOS / ArchINSTALLBUILDCHECKBUILD BIN
atSNP 1.8.0  (landing page)
Sunyoung Shin
Last Commit: 813c1c6
Last Changed Date: 2021-05-19 12:41:05 -0400
nebbiolo1Linux (Ubuntu 20.04.2 LTS) / x86_64  OK    OK    OK  UNNEEDED, same version is already published
tokay2Windows Server 2012 R2 Standard / x64  OK    OK    OK    OK  UNNEEDED, same version is already published
machv2macOS 10.14.6 Mojave / x86_64  OK    OK    OK    OK  UNNEEDED, same version is already published
Package 12/256HostnameOS / ArchINSTALLBUILDCHECKBUILD BIN
bacon 1.20.0  (landing page)
Maarten van Iterson
Last Commit: 629e321
Last Changed Date: 2021-05-19 12:18:45 -0400
nebbiolo1Linux (Ubuntu 20.04.2 LTS) / x86_64  OK    OK    OK  UNNEEDED, same version is already published
tokay2Windows Server 2012 R2 Standard / x64  OK    OK    OK    OK  UNNEEDED, same version is already published
machv2macOS 10.14.6 Mojave / x86_64  OK    OK    OK    OK  UNNEEDED, same version is already published
Package 13/256HostnameOS / ArchINSTALLBUILDCHECKBUILD BIN
bambu 1.2.0  (landing page)
Ying Chen
Last Commit: bd9fce4
Last Changed Date: 2021-05-19 12:57:00 -0400
nebbiolo1Linux (Ubuntu 20.04.2 LTS) / x86_64  OK    OK    OK  UNNEEDED, same version is already published
tokay2Windows Server 2012 R2 Standard / x64  OK    OK    OK    OK  UNNEEDED, same version is already published
machv2macOS 10.14.6 Mojave / x86_64  OK    OK    OK    OK  UNNEEDED, same version is already published
Package 14/256HostnameOS / ArchINSTALLBUILDCHECKBUILD BIN
BANDITS 1.8.0  (landing page)
Simone Tiberi
Last Commit: a4ebc87
Last Changed Date: 2021-05-19 12:42:51 -0400
nebbiolo1Linux (Ubuntu 20.04.2 LTS) / x86_64  OK    OK    OK  UNNEEDED, same version is already published
tokay2Windows Server 2012 R2 Standard / x64  OK    OK    OK    OK  UNNEEDED, same version is already published
machv2macOS 10.14.6 Mojave / x86_64  OK    OK    OK    OK  UNNEEDED, same version is already published
Package 15/256HostnameOS / ArchINSTALLBUILDCHECKBUILD BIN
BASiCS 2.4.0  (landing page)
Alan O'Callaghan
Last Commit: 385fa3d
Last Changed Date: 2021-05-19 12:30:39 -0400
nebbiolo1Linux (Ubuntu 20.04.2 LTS) / x86_64  OK    OK    OK  UNNEEDED, same version is already published
tokay2Windows Server 2012 R2 Standard / x64  OK    OK    OK    OK  UNNEEDED, same version is already published
machv2macOS 10.14.6 Mojave / x86_64  OK    OK    OK    OK  UNNEEDED, same version is already published
Package 16/256HostnameOS / ArchINSTALLBUILDCHECKBUILD BIN
batchelor 1.8.0  (landing page)
Aaron Lun
Last Commit: 58f6f51
Last Changed Date: 2021-05-19 12:42:21 -0400
nebbiolo1Linux (Ubuntu 20.04.2 LTS) / x86_64  OK    OK    OK  UNNEEDED, same version is already published
tokay2Windows Server 2012 R2 Standard / x64  OK    OK    OK    OK  UNNEEDED, same version is already published
machv2macOS 10.14.6 Mojave / x86_64  OK    OK    OK    OK  UNNEEDED, same version is already published
Package 17/256HostnameOS / ArchINSTALLBUILDCHECKBUILD BIN
bayNorm 1.10.0  (landing page)
Wenhao Tang
Last Commit: cbf997b
Last Changed Date: 2021-05-19 12:38:44 -0400
nebbiolo1Linux (Ubuntu 20.04.2 LTS) / x86_64  OK    OK    OK  UNNEEDED, same version is already published
tokay2Windows Server 2012 R2 Standard / x64  OK    OK    OK    OK  UNNEEDED, same version is already published
machv2macOS 10.14.6 Mojave / x86_64  OK    OK    OK    OK  UNNEEDED, same version is already published
Package 18/256HostnameOS / ArchINSTALLBUILDCHECKBUILD BIN
BEclear 2.8.0  (landing page)
David Rasp
Last Commit: 820b246
Last Changed Date: 2021-05-19 12:13:44 -0400
nebbiolo1Linux (Ubuntu 20.04.2 LTS) / x86_64  OK    OK    OK  UNNEEDED, same version is already published
tokay2Windows Server 2012 R2 Standard / x64  OK    OK    OK    OK  UNNEEDED, same version is already published
machv2macOS 10.14.6 Mojave / x86_64  OK    OK    OK    OK  UNNEEDED, same version is already published
Package 19/256HostnameOS / ArchINSTALLBUILDCHECKBUILD BIN
BiocNeighbors 1.10.0  (landing page)
Aaron Lun
Last Commit: c6779d6
Last Changed Date: 2021-05-19 12:36:35 -0400
nebbiolo1Linux (Ubuntu 20.04.2 LTS) / x86_64  OK    OK    OK  UNNEEDED, same version is already published
tokay2Windows Server 2012 R2 Standard / x64  OK    OK    OK    OK  UNNEEDED, same version is already published
machv2macOS 10.14.6 Mojave / x86_64  OK    OK    OK    OK  UNNEEDED, same version is already published
Package 20/256HostnameOS / ArchINSTALLBUILDCHECKBUILD BIN
BioCor 1.16.0  (landing page)
Lluís Revilla Sancho
Last Commit: 8b830d8
Last Changed Date: 2021-05-19 12:26:34 -0400
nebbiolo1Linux (Ubuntu 20.04.2 LTS) / x86_64  OK    OK    OK  UNNEEDED, same version is already published
tokay2Windows Server 2012 R2 Standard / x64  OK    OK    OK    OK  UNNEEDED, same version is already published
machv2macOS 10.14.6 Mojave / x86_64  OK    OK    OK    OK  UNNEEDED, same version is already published
Package 21/256HostnameOS / ArchINSTALLBUILDCHECKBUILD BIN
BiocSingular 1.8.1  (landing page)
Aaron Lun
Last Commit: 860033b
Last Changed Date: 2021-06-08 02:14:49 -0400
nebbiolo1Linux (Ubuntu 20.04.2 LTS) / x86_64  OK    OK    OK  UNNEEDED, same version is already published
tokay2Windows Server 2012 R2 Standard / x64  OK    OK    OK    OK  UNNEEDED, same version is already published
machv2macOS 10.14.6 Mojave / x86_64  OK    OK    OK    OK  UNNEEDED, same version is already published
Package 22/256HostnameOS / ArchINSTALLBUILDCHECKBUILD BIN
BioMM 1.8.0  (landing page)
Junfang Chen
Last Commit: 765ffb7
Last Changed Date: 2021-05-19 12:41:03 -0400
nebbiolo1Linux (Ubuntu 20.04.2 LTS) / x86_64  OK    OK    OK  UNNEEDED, same version is already published
tokay2Windows Server 2012 R2 Standard / x64  OK    OK    OK    OK  UNNEEDED, same version is already published
machv2macOS 10.14.6 Mojave / x86_64  OK    OK    OK    OK  UNNEEDED, same version is already published
Package 23/256HostnameOS / ArchINSTALLBUILDCHECKBUILD BIN
BioNERO 1.0.0  (landing page)
Fabricio Almeida-Silva
Last Commit: a86bd8e
Last Changed Date: 2021-05-19 13:01:10 -0400
nebbiolo1Linux (Ubuntu 20.04.2 LTS) / x86_64  OK    OK    OK  UNNEEDED, same version is already published
tokay2Windows Server 2012 R2 Standard / x64  OK    OK    OK    OK  UNNEEDED, same version is already published
machv2macOS 10.14.6 Mojave / x86_64  OK    OK    OK    OK  UNNEEDED, same version is already published
Package 24/256HostnameOS / ArchINSTALLBUILDCHECKBUILD BIN
BioNetStat 1.12.0  (landing page)
Vinicius Jardim
Last Commit: 1bd4d5e
Last Changed Date: 2021-05-19 12:35:18 -0400
nebbiolo1Linux (Ubuntu 20.04.2 LTS) / x86_64  OK    OK    OK  UNNEEDED, same version is already published
tokay2Windows Server 2012 R2 Standard / x64  OK    OK    OK    OK  UNNEEDED, same version is already published
machv2macOS 10.14.6 Mojave / x86_64  OK    OK    OK    OK  UNNEEDED, same version is already published
Package 25/256HostnameOS / ArchINSTALLBUILDCHECKBUILD BIN
biotmle 1.16.0  (landing page)
Nima Hejazi
Last Commit: 64f9cfb
Last Changed Date: 2021-05-19 12:27:26 -0400
nebbiolo1Linux (Ubuntu 20.04.2 LTS) / x86_64  OK    OK    OK  UNNEEDED, same version is already published
tokay2Windows Server 2012 R2 Standard / x64  OK    OK    OK    OK  UNNEEDED, same version is already published
machv2macOS 10.14.6 Mojave / x86_64  OK    OK    OK    OK  UNNEEDED, same version is already published
Package 26/256HostnameOS / ArchINSTALLBUILDCHECKBUILD BIN
biscuiteer 1.6.0  (landing page)
"Jacob Morrison"
Last Commit: 6d86b7b
Last Changed Date: 2021-05-19 12:47:26 -0400
nebbiolo1Linux (Ubuntu 20.04.2 LTS) / x86_64  OK    OK    WARNINGS  UNNEEDED, same version is already published
tokay2Windows Server 2012 R2 Standard / x64  OK    OK    WARNINGS    OK  UNNEEDED, same version is already published
machv2macOS 10.14.6 Mojave / x86_64  OK    OK    WARNINGS    OK  UNNEEDED, same version is already published
Package 27/256HostnameOS / ArchINSTALLBUILDCHECKBUILD BIN
bluster 1.2.1  (landing page)
Aaron Lun
Last Commit: 5657043
Last Changed Date: 2021-05-26 02:25:40 -0400
nebbiolo1Linux (Ubuntu 20.04.2 LTS) / x86_64  OK    OK    OK  UNNEEDED, same version is already published
tokay2Windows Server 2012 R2 Standard / x64  OK    OK    OK    OK  UNNEEDED, same version is already published
machv2macOS 10.14.6 Mojave / x86_64  OK    OK    OK    OK  UNNEEDED, same version is already published
Package 28/256HostnameOS / ArchINSTALLBUILDCHECKBUILD BIN
brendaDb 1.6.0  (landing page)
Yi Zhou
Last Commit: afc5e0a
Last Changed Date: 2021-05-19 12:45:36 -0400
nebbiolo1Linux (Ubuntu 20.04.2 LTS) / x86_64  OK    OK    OK  UNNEEDED, same version is already published
tokay2Windows Server 2012 R2 Standard / x64  OK    OK    OK    OK  UNNEEDED, same version is already published
machv2macOS 10.14.6 Mojave / x86_64  OK    OK    OK    OK  UNNEEDED, same version is already published
Package 29/256HostnameOS / ArchINSTALLBUILDCHECKBUILD BIN
bsseq 1.28.0  (landing page)
Kasper Daniel Hansen
Last Commit: 57084fa
Last Changed Date: 2021-05-19 11:53:03 -0400
nebbiolo1Linux (Ubuntu 20.04.2 LTS) / x86_64  OK    OK    OK  UNNEEDED, same version is already published
tokay2Windows Server 2012 R2 Standard / x64  OK    OK    OK    OK  UNNEEDED, same version is already published
machv2macOS 10.14.6 Mojave / x86_64  OK    OK    OK    OK  UNNEEDED, same version is already published
Package 30/256HostnameOS / ArchINSTALLBUILDCHECKBUILD BIN
CAGEfightR 1.12.0  (landing page)
Malte Thodberg
Last Commit: f776ea4
Last Changed Date: 2021-05-19 12:35:42 -0400
nebbiolo1Linux (Ubuntu 20.04.2 LTS) / x86_64  OK    OK    OK  UNNEEDED, same version is already published
tokay2Windows Server 2012 R2 Standard / x64  OK    OK    OK    OK  UNNEEDED, same version is already published
machv2macOS 10.14.6 Mojave / x86_64  OK    OK    OK    OK  UNNEEDED, same version is already published
Package 31/256HostnameOS / ArchINSTALLBUILDCHECKBUILD BIN
CAGEr 1.34.0  (landing page)
Charles Plessy
Last Commit: 8e7ccda
Last Changed Date: 2021-05-19 11:57:42 -0400
nebbiolo1Linux (Ubuntu 20.04.2 LTS) / x86_64  OK    OK    WARNINGS  UNNEEDED, same version is already published
tokay2Windows Server 2012 R2 Standard / x64  OK    OK    WARNINGS    OK  UNNEEDED, same version is already published
machv2macOS 10.14.6 Mojave / x86_64  OK    OK    WARNINGS    OK  UNNEEDED, same version is already published
Package 32/256HostnameOS / ArchINSTALLBUILDCHECKBUILD BIN
Cardinal 2.10.0  (landing page)
Kylie A. Bemis
Last Commit: 174f14c
Last Changed Date: 2021-05-19 12:10:59 -0400
nebbiolo1Linux (Ubuntu 20.04.2 LTS) / x86_64  OK    OK    OK  UNNEEDED, same version is already published
tokay2Windows Server 2012 R2 Standard / x64  OK    OK    OK    OK  UNNEEDED, same version is already published
machv2macOS 10.14.6 Mojave / x86_64  OK    OK    OK    OK  UNNEEDED, same version is already published
Package 33/256HostnameOS / ArchINSTALLBUILDCHECKBUILD BIN
cellbaseR 1.16.0  (landing page)
Mohammed OE Abdallah
Last Commit: 3bb8377
Last Changed Date: 2021-05-19 12:27:33 -0400
nebbiolo1Linux (Ubuntu 20.04.2 LTS) / x86_64  OK    OK    OK  UNNEEDED, same version is already published
tokay2Windows Server 2012 R2 Standard / x64  OK    OK    OK    OK  UNNEEDED, same version is already published
machv2macOS 10.14.6 Mojave / x86_64  OK    OK    OK    OK  UNNEEDED, same version is already published
Package 34/256HostnameOS / ArchINSTALLBUILDCHECKBUILD BIN
CellBench 1.8.0  (landing page)
Shian Su
Last Commit: aa35afe
Last Changed Date: 2021-05-19 12:41:27 -0400
nebbiolo1Linux (Ubuntu 20.04.2 LTS) / x86_64  OK    OK    OK  UNNEEDED, same version is already published
tokay2Windows Server 2012 R2 Standard / x64  OK    OK    OK    OK  UNNEEDED, same version is already published
machv2macOS 10.14.6 Mojave / x86_64  OK    OK    OK    OK  UNNEEDED, same version is already published
Package 35/256HostnameOS / ArchINSTALLBUILDCHECKBUILD BIN
CelliD 1.0.0  (landing page)
Akira Cortal
Last Commit: 4ab073e
Last Changed Date: 2021-05-19 13:00:53 -0400
nebbiolo1Linux (Ubuntu 20.04.2 LTS) / x86_64  OK    OK    ERROR  
tokay2Windows Server 2012 R2 Standard / x64  OK    OK    ERROR    OK  
machv2macOS 10.14.6 Mojave / x86_64  OK    OK    ERROR    OK  
Package 36/256HostnameOS / ArchINSTALLBUILDCHECKBUILD BIN
CellMixS 1.8.0  (landing page)
Almut Lütge
Last Commit: bed2b5c
Last Changed Date: 2021-05-19 12:42:32 -0400
nebbiolo1Linux (Ubuntu 20.04.2 LTS) / x86_64  OK    OK    OK  UNNEEDED, same version is already published
tokay2Windows Server 2012 R2 Standard / x64  OK    OK    OK    OK  UNNEEDED, same version is already published
machv2macOS 10.14.6 Mojave / x86_64  OK    OK    OK    OK  UNNEEDED, same version is already published
Package 37/256HostnameOS / ArchINSTALLBUILDCHECKBUILD BIN
censcyt 1.0.0  (landing page)
Reto Gerber
Last Commit: 916b30f
Last Changed Date: 2021-05-19 12:58:31 -0400
nebbiolo1Linux (Ubuntu 20.04.2 LTS) / x86_64  OK    OK    OK  UNNEEDED, same version is already published
tokay2Windows Server 2012 R2 Standard / x64  OK    OK    OK    OK  UNNEEDED, same version is already published
machv2macOS 10.14.6 Mojave / x86_64  OK    OK    OK    OK  UNNEEDED, same version is already published
Package 38/256HostnameOS / ArchINSTALLBUILDCHECKBUILD BIN
ChIPexoQual 1.16.0  (landing page)
Rene Welch
Last Commit: ed02199
Last Changed Date: 2021-05-19 12:25:27 -0400
nebbiolo1Linux (Ubuntu 20.04.2 LTS) / x86_64  OK    OK    OK  UNNEEDED, same version is already published
tokay2Windows Server 2012 R2 Standard / x64  OK    OK    OK    OK  UNNEEDED, same version is already published
machv2macOS 10.14.6 Mojave / x86_64  OK    OK    OK    OK  UNNEEDED, same version is already published
Package 39/256HostnameOS / ArchINSTALLBUILDCHECKBUILD BIN
ChIPQC 1.28.0  (landing page)
Tom Carroll , Rory Stark
Last Commit: 047a9a4
Last Changed Date: 2021-05-19 12:04:03 -0400
nebbiolo1Linux (Ubuntu 20.04.2 LTS) / x86_64  OK    OK    WARNINGS  UNNEEDED, same version is already published
tokay2Windows Server 2012 R2 Standard / x64  OK    OK    WARNINGS    OK  UNNEEDED, same version is already published
machv2macOS 10.14.6 Mojave / x86_64  OK    OK    WARNINGS    OK  UNNEEDED, same version is already published
Package 40/256HostnameOS / ArchINSTALLBUILDCHECKBUILD BIN
ChromSCape 1.2.0  (landing page)
Pacome Prompsy
Last Commit: e0f2910
Last Changed Date: 2021-05-19 12:56:13 -0400
nebbiolo1Linux (Ubuntu 20.04.2 LTS) / x86_64  OK    OK    OK  UNNEEDED, same version is already published
tokay2Windows Server 2012 R2 Standard / x64  OK    OK    OK    OK  UNNEEDED, same version is already published
machv2macOS 10.14.6 Mojave / x86_64  OK    OK    OK    OK  UNNEEDED, same version is already published
Package 41/256HostnameOS / ArchINSTALLBUILDCHECKBUILD BIN
chromswitch 1.14.0  (landing page)
Selin Jessa
Last Commit: e364a04
Last Changed Date: 2021-05-19 12:31:47 -0400
nebbiolo1Linux (Ubuntu 20.04.2 LTS) / x86_64  OK    OK    OK  UNNEEDED, same version is already published
tokay2Windows Server 2012 R2 Standard / x64  OK    OK    OK    OK  UNNEEDED, same version is already published
machv2macOS 10.14.6 Mojave / x86_64  OK    OK    OK    OK  UNNEEDED, same version is already published
Package 42/256HostnameOS / ArchINSTALLBUILDCHECKBUILD BIN
chromVAR 1.14.0  (landing page)
Alicia Schep
Last Commit: 2dc5547
Last Changed Date: 2021-05-19 12:30:52 -0400
nebbiolo1Linux (Ubuntu 20.04.2 LTS) / x86_64  OK    OK    OK  UNNEEDED, same version is already published
tokay2Windows Server 2012 R2 Standard / x64  OK    OK    OK    OK  UNNEEDED, same version is already published
machv2macOS 10.14.6 Mojave / x86_64  OK    OK    OK    OK  UNNEEDED, same version is already published
Package 43/256HostnameOS / ArchINSTALLBUILDCHECKBUILD BIN
ClassifyR 2.12.0  (landing page)
Dario Strbenac
Last Commit: ede130d
Last Changed Date: 2021-05-19 12:06:37 -0400
nebbiolo1Linux (Ubuntu 20.04.2 LTS) / x86_64  OK    OK    OK  UNNEEDED, same version is already published
tokay2Windows Server 2012 R2 Standard / x64  OK    OK    OK    OK  UNNEEDED, same version is already published
machv2macOS 10.14.6 Mojave / x86_64  OK    OK    OK    OK  UNNEEDED, same version is already published
Package 44/256HostnameOS / ArchINSTALLBUILDCHECKBUILD BIN
clusterSeq 1.16.0  (landing page)
Thomas J. Hardcastle
Last Commit: 1b3a71b
Last Changed Date: 2021-05-19 12:24:56 -0400
nebbiolo1Linux (Ubuntu 20.04.2 LTS) / x86_64  OK    OK    OK  UNNEEDED, same version is already published
tokay2Windows Server 2012 R2 Standard / x64  OK    OK    OK    OK  UNNEEDED, same version is already published
machv2macOS 10.14.6 Mojave / x86_64  OK    OK    OK    OK  UNNEEDED, same version is already published
Package 45/256HostnameOS / ArchINSTALLBUILDCHECKBUILD BIN
CNVRanger 1.8.0  (landing page)
Ludwig Geistlinger
Last Commit: dfb9864
Last Changed Date: 2021-05-19 12:40:54 -0400
nebbiolo1Linux (Ubuntu 20.04.2 LTS) / x86_64  OK    OK    OK  UNNEEDED, same version is already published
tokay2Windows Server 2012 R2 Standard / x64  OK    OK    OK    OK  UNNEEDED, same version is already published
machv2macOS 10.14.6 Mojave / x86_64  OK    OK    OK    OK  UNNEEDED, same version is already published
Package 46/256HostnameOS / ArchINSTALLBUILDCHECKBUILD BIN
CoGAPS 3.12.0  (landing page)
Elana J. Fertig
Last Commit: c297d7e
Last Changed Date: 2021-05-19 11:45:58 -0400
nebbiolo1Linux (Ubuntu 20.04.2 LTS) / x86_64  OK    OK    OK  UNNEEDED, same version is already published
tokay2Windows Server 2012 R2 Standard / x64  OK    OK    OK    OK  UNNEEDED, same version is already published
machv2macOS 10.14.6 Mojave / x86_64  OK    OK    OK    OK  UNNEEDED, same version is already published
Package 47/256HostnameOS / ArchINSTALLBUILDCHECKBUILD BIN
condiments 1.0.0  (landing page)
Hector Roux de Bezieux
Last Commit: f66736c
Last Changed Date: 2021-05-19 13:01:23 -0400
nebbiolo1Linux (Ubuntu 20.04.2 LTS) / x86_64  OK    OK    OK  UNNEEDED, same version is already published
tokay2Windows Server 2012 R2 Standard / x64  OK    OK    OK    OK  UNNEEDED, same version is already published
machv2macOS 10.14.6 Mojave / x86_64  OK    OK    OK    OK  UNNEEDED, same version is already published
Package 48/256HostnameOS / ArchINSTALLBUILDCHECKBUILD BIN
consensusDE 1.10.0  (landing page)
Ashley J. Waardenberg
Last Commit: 1b434d7
Last Changed Date: 2021-05-19 12:39:09 -0400
nebbiolo1Linux (Ubuntu 20.04.2 LTS) / x86_64  OK    OK    OK  UNNEEDED, same version is already published
tokay2Windows Server 2012 R2 Standard / x64  OK    OK    OK    OK  UNNEEDED, same version is already published
machv2macOS 10.14.6 Mojave / x86_64  OK    OK    OK    OK  UNNEEDED, same version is already published
Package 49/256HostnameOS / ArchINSTALLBUILDCHECKBUILD BIN
consensusSeekeR 1.20.0  (landing page)
Astrid Deschenes
Last Commit: e7f757a
Last Changed Date: 2021-05-19 12:16:42 -0400
nebbiolo1Linux (Ubuntu 20.04.2 LTS) / x86_64  OK    OK    OK  UNNEEDED, same version is already published
tokay2Windows Server 2012 R2 Standard / x64  OK    OK    OK    OK  UNNEEDED, same version is already published
machv2macOS 10.14.6 Mojave / x86_64  OK    OK    OK    OK  UNNEEDED, same version is already published
Package 50/256HostnameOS / ArchINSTALLBUILDCHECKBUILD BIN
contiBAIT 1.20.0  (landing page)
Kieran O'Neill
Last Commit: 42094e1
Last Changed Date: 2021-05-19 12:17:59 -0400
nebbiolo1Linux (Ubuntu 20.04.2 LTS) / x86_64  OK    OK    WARNINGS  UNNEEDED, same version is already published
tokay2Windows Server 2012 R2 Standard / x64  OK    OK    WARNINGS    OK  UNNEEDED, same version is already published
machv2macOS 10.14.6 Mojave / x86_64  OK    OK    WARNINGS    OK  UNNEEDED, same version is already published
Package 51/256HostnameOS / ArchINSTALLBUILDCHECKBUILD BIN
CopywriteR 2.24.0  (landing page)
Oscar Krijgsman
Last Commit: 5957876
Last Changed Date: 2021-05-19 12:12:51 -0400
nebbiolo1Linux (Ubuntu 20.04.2 LTS) / x86_64  OK    OK    OK  UNNEEDED, same version is already published
tokay2Windows Server 2012 R2 Standard / x64  OK    OK    OK    OK  UNNEEDED, same version is already published
machv2macOS 10.14.6 Mojave / x86_64  OK    OK    OK    OK  UNNEEDED, same version is already published
Package 52/256HostnameOS / ArchINSTALLBUILDCHECKBUILD BIN
CoreGx 1.4.1  (landing page)
Benjamin Haibe-Kains
Last Commit: 1bc1d98
Last Changed Date: 2021-05-31 16:11:19 -0400
nebbiolo1Linux (Ubuntu 20.04.2 LTS) / x86_64  OK    OK    OK  UNNEEDED, same version is already published
tokay2Windows Server 2012 R2 Standard / x64  OK    OK    OK    OK  UNNEEDED, same version is already published
machv2macOS 10.14.6 Mojave / x86_64  OK    OK    OK    OK  UNNEEDED, same version is already published
Package 53/256HostnameOS / ArchINSTALLBUILDCHECKBUILD BIN
coseq 1.16.0  (landing page)
Andrea Rau
Last Commit: e1d4441
Last Changed Date: 2021-05-19 12:25:17 -0400
nebbiolo1Linux (Ubuntu 20.04.2 LTS) / x86_64  OK    OK    OK  UNNEEDED, same version is already published
tokay2Windows Server 2012 R2 Standard / x64  OK    OK    OK    OK  UNNEEDED, same version is already published
machv2macOS 10.14.6 Mojave / x86_64  OK    OK    OK    OK  UNNEEDED, same version is already published
Package 54/256HostnameOS / ArchINSTALLBUILDCHECKBUILD BIN
cpvSNP 1.24.0  (landing page)
Caitlin McHugh
Last Commit: 7b0ad2e
Last Changed Date: 2021-05-19 12:10:00 -0400
nebbiolo1Linux (Ubuntu 20.04.2 LTS) / x86_64  OK    OK    OK  UNNEEDED, same version is already published
tokay2Windows Server 2012 R2 Standard / x64  OK    OK    OK    OK  UNNEEDED, same version is already published
machv2macOS 10.14.6 Mojave / x86_64  OK    OK    OK    OK  UNNEEDED, same version is already published
Package 55/256HostnameOS / ArchINSTALLBUILDCHECKBUILD BIN
CRISPRseek 1.32.0  (landing page)
Lihua Julie Zhu
Last Commit: b64de86
Last Changed Date: 2021-05-19 12:01:57 -0400
nebbiolo1Linux (Ubuntu 20.04.2 LTS) / x86_64  OK    OK    OK  UNNEEDED, same version is already published
tokay2Windows Server 2012 R2 Standard / x64  OK    OK    OK    OK  UNNEEDED, same version is already published
machv2macOS 10.14.6 Mojave / x86_64  OK    OK    OK    OK  UNNEEDED, same version is already published
Package 56/256HostnameOS / ArchINSTALLBUILDCHECKBUILD BIN
CrispRVariants 1.20.0  (landing page)
Helen Lindsay
Last Commit: 6789cce
Last Changed Date: 2021-05-19 12:17:13 -0400
nebbiolo1Linux (Ubuntu 20.04.2 LTS) / x86_64  OK    OK    WARNINGS  UNNEEDED, same version is already published
tokay2Windows Server 2012 R2 Standard / x64  OK    OK    WARNINGS    OK  UNNEEDED, same version is already published
machv2macOS 10.14.6 Mojave / x86_64  OK    OK    WARNINGS    OK  UNNEEDED, same version is already published
Package 57/256HostnameOS / ArchINSTALLBUILDCHECKBUILD BIN
csaw 1.26.0  (landing page)
Aaron Lun
Last Commit: d3850f3
Last Changed Date: 2021-05-19 12:08:51 -0400
nebbiolo1Linux (Ubuntu 20.04.2 LTS) / x86_64  OK    OK    OK  UNNEEDED, same version is already published
tokay2Windows Server 2012 R2 Standard / x64  OK    OK    OK    OK  UNNEEDED, same version is already published
machv2macOS 10.14.6 Mojave / x86_64  OK    OK    OK    OK  UNNEEDED, same version is already published
Package 58/256HostnameOS / ArchINSTALLBUILDCHECKBUILD BIN
cydar 1.16.0  (landing page)
Aaron Lun
Last Commit: 38926f1
Last Changed Date: 2021-05-19 12:26:41 -0400
nebbiolo1Linux (Ubuntu 20.04.2 LTS) / x86_64  OK    OK    OK  UNNEEDED, same version is already published
tokay2Windows Server 2012 R2 Standard / x64  OK    OK    OK    OK  UNNEEDED, same version is already published
machv2macOS 10.14.6 Mojave / x86_64  OK    OK    OK    OK  UNNEEDED, same version is already published
Package 59/256HostnameOS / ArchINSTALLBUILDCHECKBUILD BIN
CytoGLMM 1.0.0  (landing page)
Christof Seiler
Last Commit: 6da96d2
Last Changed Date: 2021-05-19 13:01:29 -0400
nebbiolo1Linux (Ubuntu 20.04.2 LTS) / x86_64  OK    OK    OK  UNNEEDED, same version is already published
tokay2Windows Server 2012 R2 Standard / x64  OK    OK    OK    OK  UNNEEDED, same version is already published
machv2macOS 10.14.6 Mojave / x86_64  OK    OK    OK    OK  UNNEEDED, same version is already published
Package 60/256HostnameOS / ArchINSTALLBUILDCHECKBUILD BIN
cytomapper 1.4.1  (landing page)
Nils Eling
Last Commit: edd9a70
Last Changed Date: 2021-05-21 05:14:02 -0400
nebbiolo1Linux (Ubuntu 20.04.2 LTS) / x86_64  OK    OK    OK  UNNEEDED, same version is already published
tokay2Windows Server 2012 R2 Standard / x64  OK    OK    TIMEOUT    OK  
machv2macOS 10.14.6 Mojave / x86_64  OK    OK    OK    OK  UNNEEDED, same version is already published
Package 61/256HostnameOS / ArchINSTALLBUILDCHECKBUILD BIN
dasper 1.2.0  (landing page)
David Zhang
Last Commit: 9bf018b
Last Changed Date: 2021-05-19 12:57:36 -0400
nebbiolo1Linux (Ubuntu 20.04.2 LTS) / x86_64  OK    OK    OK  UNNEEDED, same version is already published
tokay2Windows Server 2012 R2 Standard / x64  OK    OK    OK    OK  UNNEEDED, same version is already published
machv2macOS 10.14.6 Mojave / x86_64  OK    OK    OK    OK  UNNEEDED, same version is already published
Package 62/256HostnameOS / ArchINSTALLBUILDCHECKBUILD BIN
dcGSA 1.20.0  (landing page)
Jiehuan sun
Last Commit: 3c660d9
Last Changed Date: 2021-05-19 12:17:01 -0400
nebbiolo1Linux (Ubuntu 20.04.2 LTS) / x86_64  OK    OK    WARNINGS  UNNEEDED, same version is already published
tokay2Windows Server 2012 R2 Standard / x64  OK    OK    WARNINGS    OK  UNNEEDED, same version is already published
machv2macOS 10.14.6 Mojave / x86_64  OK    OK    WARNINGS    OK  UNNEEDED, same version is already published
Package 63/256HostnameOS / ArchINSTALLBUILDCHECKBUILD BIN
debCAM 1.10.0  (landing page)
Lulu Chen
Last Commit: 86afedd
Last Changed Date: 2021-05-19 12:46:14 -0400
nebbiolo1Linux (Ubuntu 20.04.2 LTS) / x86_64  OK    OK    OK  UNNEEDED, same version is already published
tokay2Windows Server 2012 R2 Standard / x64  OK    OK    OK    OK  UNNEEDED, same version is already published
machv2macOS 10.14.6 Mojave / x86_64  OK    OK    OK    OK  UNNEEDED, same version is already published
Package 64/256HostnameOS / ArchINSTALLBUILDCHECKBUILD BIN
deco 1.8.0  (landing page)
Francisco Jose Campos Laborie
Last Commit: b3606bb
Last Changed Date: 2021-05-19 12:40:07 -0400
nebbiolo1Linux (Ubuntu 20.04.2 LTS) / x86_64  OK    OK    WARNINGS  UNNEEDED, same version is already published
tokay2Windows Server 2012 R2 Standard / x64  OK    OK    WARNINGS    OK  UNNEEDED, same version is already published
machv2macOS 10.14.6 Mojave / x86_64  OK    OK    WARNINGS    OK  UNNEEDED, same version is already published
Package 65/256HostnameOS / ArchINSTALLBUILDCHECKBUILD BIN
DEComplexDisease 1.12.0  (landing page)
Guofeng Meng
Last Commit: 33dd72a
Last Changed Date: 2021-05-19 12:33:11 -0400
nebbiolo1Linux (Ubuntu 20.04.2 LTS) / x86_64  OK    OK    OK  UNNEEDED, same version is already published
tokay2Windows Server 2012 R2 Standard / x64  OK    OK    OK    OK  UNNEEDED, same version is already published
machv2macOS 10.14.6 Mojave / x86_64  OK    OK    OK    OK  UNNEEDED, same version is already published
Package 66/256HostnameOS / ArchINSTALLBUILDCHECKBUILD BIN
derfinder 1.26.0  (landing page)
Leonardo Collado-Torres
Last Commit: 7fc343a
Last Changed Date: 2021-05-19 12:08:08 -0400
nebbiolo1Linux (Ubuntu 20.04.2 LTS) / x86_64  OK    ERROR  skipped
tokay2Windows Server 2012 R2 Standard / x64  OK    OK    OK    OK  UNNEEDED, same version is already published
machv2macOS 10.14.6 Mojave / x86_64  OK    OK    OK    OK  UNNEEDED, same version is already published
Package 67/256HostnameOS / ArchINSTALLBUILDCHECKBUILD BIN
DEScan2 1.12.0  (landing page)
Dario Righelli
Last Commit: 004c7f5
Last Changed Date: 2021-05-19 12:33:58 -0400
nebbiolo1Linux (Ubuntu 20.04.2 LTS) / x86_64  OK    OK    OK  UNNEEDED, same version is already published
tokay2Windows Server 2012 R2 Standard / x64  OK    OK    OK    OK  UNNEEDED, same version is already published
machv2macOS 10.14.6 Mojave / x86_64  OK    OK    OK    OK  UNNEEDED, same version is already published
Package 68/256HostnameOS / ArchINSTALLBUILDCHECKBUILD BIN
DESeq2 1.32.0  (landing page)
Michael Love
Last Commit: d2820e0
Last Changed Date: 2021-05-19 11:57:45 -0400
nebbiolo1Linux (Ubuntu 20.04.2 LTS) / x86_64  OK    OK    OK  UNNEEDED, same version is already published
tokay2Windows Server 2012 R2 Standard / x64  OK    OK    OK    OK  UNNEEDED, same version is already published
machv2macOS 10.14.6 Mojave / x86_64  OK    OK    OK    OK  UNNEEDED, same version is already published
Package 69/256HostnameOS / ArchINSTALLBUILDCHECKBUILD BIN
DEsingle 1.12.0  (landing page)
Zhun Miao
Last Commit: 48b1689
Last Changed Date: 2021-05-19 12:34:42 -0400
nebbiolo1Linux (Ubuntu 20.04.2 LTS) / x86_64  OK    OK    OK  UNNEEDED, same version is already published
tokay2Windows Server 2012 R2 Standard / x64  OK    OK    OK    OK  UNNEEDED, same version is already published
machv2macOS 10.14.6 Mojave / x86_64  OK    OK    OK    OK  UNNEEDED, same version is already published
Package 70/256HostnameOS / ArchINSTALLBUILDCHECKBUILD BIN
DEWSeq 1.6.0  (landing page)
bioinformatics team Hentze
Last Commit: 34f4829
Last Changed Date: 2021-05-19 12:47:29 -0400
nebbiolo1Linux (Ubuntu 20.04.2 LTS) / x86_64  OK    OK    OK  UNNEEDED, same version is already published
tokay2Windows Server 2012 R2 Standard / x64  OK    OK    OK    OK  UNNEEDED, same version is already published
machv2macOS 10.14.6 Mojave / x86_64  OK    OK    OK    OK  UNNEEDED, same version is already published
Package 71/256HostnameOS / ArchINSTALLBUILDCHECKBUILD BIN
DEXSeq 1.38.0  (landing page)
Alejandro Reyes
Last Commit: 62dc651
Last Changed Date: 2021-05-19 11:48:55 -0400
nebbiolo1Linux (Ubuntu 20.04.2 LTS) / x86_64  OK    OK    OK  UNNEEDED, same version is already published
tokay2Windows Server 2012 R2 Standard / x64  OK    OK    OK    OK  UNNEEDED, same version is already published
machv2macOS 10.14.6 Mojave / x86_64  OK    OK    OK    OK  UNNEEDED, same version is already published
Package 72/256HostnameOS / ArchINSTALLBUILDCHECKBUILD BIN
DiffBind 3.2.2  (landing page)
Rory Stark
Last Commit: 25d1cb0
Last Changed Date: 2021-06-03 12:11:13 -0400
nebbiolo1Linux (Ubuntu 20.04.2 LTS) / x86_64  OK    OK    OK  UNNEEDED, same version is already published
tokay2Windows Server 2012 R2 Standard / x64  OK    OK    OK    OK  UNNEEDED, same version is already published
machv2macOS 10.14.6 Mojave / x86_64  OK    OK    OK    OK  UNNEEDED, same version is already published
Package 73/256HostnameOS / ArchINSTALLBUILDCHECKBUILD BIN
DMCFB 1.6.0  (landing page)
Farhad Shokoohi
Last Commit: 802cb16
Last Changed Date: 2021-05-19 12:46:41 -0400
nebbiolo1Linux (Ubuntu 20.04.2 LTS) / x86_64  OK    OK    OK  UNNEEDED, same version is already published
tokay2Windows Server 2012 R2 Standard / x64  OK    OK    OK    OK  UNNEEDED, same version is already published
machv2macOS 10.14.6 Mojave / x86_64  OK    OK    OK    OK  UNNEEDED, same version is already published
Package 74/256HostnameOS / ArchINSTALLBUILDCHECKBUILD BIN
DMCHMM 1.14.0  (landing page)
Farhad Shokoohi
Last Commit: d913bcf
Last Changed Date: 2021-05-19 12:29:50 -0400
nebbiolo1Linux (Ubuntu 20.04.2 LTS) / x86_64  OK    OK    OK  UNNEEDED, same version is already published
tokay2Windows Server 2012 R2 Standard / x64  OK    OK    WARNINGS    OK  UNNEEDED, same version is already published
machv2macOS 10.14.6 Mojave / x86_64  OK    OK    OK    OK  UNNEEDED, same version is already published
Package 75/256HostnameOS / ArchINSTALLBUILDCHECKBUILD BIN
dmrseq 1.12.0  (landing page)
Keegan Korthauer
Last Commit: e8485f3
Last Changed Date: 2021-05-19 12:33:43 -0400
nebbiolo1Linux (Ubuntu 20.04.2 LTS) / x86_64  OK    OK    WARNINGS  UNNEEDED, same version is already published
tokay2Windows Server 2012 R2 Standard / x64  OK    OK    WARNINGS    OK  UNNEEDED, same version is already published
machv2macOS 10.14.6 Mojave / x86_64  OK    OK    WARNINGS    OK  UNNEEDED, same version is already published
Package 76/256HostnameOS / ArchINSTALLBUILDCHECKBUILD BIN
doppelgangR 1.20.0  (landing page)
Levi Waldron
Last Commit: 94fcf60
Last Changed Date: 2021-05-19 12:18:41 -0400
nebbiolo1Linux (Ubuntu 20.04.2 LTS) / x86_64  OK    OK    OK  UNNEEDED, same version is already published
tokay2Windows Server 2012 R2 Standard / x64  OK    OK    OK    OK  UNNEEDED, same version is already published
machv2macOS 10.14.6 Mojave / x86_64  OK    OK    OK    OK  UNNEEDED, same version is already published
Package 77/256HostnameOS / ArchINSTALLBUILDCHECKBUILD BIN
DOSE 3.18.0  (landing page)
Guangchuang Yu
Last Commit: db0df15
Last Changed Date: 2021-05-19 11:48:52 -0400
nebbiolo1Linux (Ubuntu 20.04.2 LTS) / x86_64  OK    OK    OK  UNNEEDED, same version is already published
tokay2Windows Server 2012 R2 Standard / x64  OK    OK    OK    OK  UNNEEDED, same version is already published
machv2macOS 10.14.6 Mojave / x86_64  OK    OK    OK    OK  UNNEEDED, same version is already published
Package 78/256HostnameOS / ArchINSTALLBUILDCHECKBUILD BIN
DRIMSeq 1.20.0  (landing page)
Malgorzata Nowicka
Last Commit: 27f2619
Last Changed Date: 2021-05-19 12:18:54 -0400
nebbiolo1Linux (Ubuntu 20.04.2 LTS) / x86_64  OK    OK    WARNINGS  UNNEEDED, same version is already published
tokay2Windows Server 2012 R2 Standard / x64  OK    OK    WARNINGS    OK  UNNEEDED, same version is already published
machv2macOS 10.14.6 Mojave / x86_64  OK    OK    WARNINGS    OK  UNNEEDED, same version is already published
Package 79/256HostnameOS / ArchINSTALLBUILDCHECKBUILD BIN
DropletUtils 1.12.1  (landing page)
Aaron Lun
Last Commit: 1327ad9
Last Changed Date: 2021-06-01 01:33:53 -0400
nebbiolo1Linux (Ubuntu 20.04.2 LTS) / x86_64  OK    OK    OK  UNNEEDED, same version is already published
tokay2Windows Server 2012 R2 Standard / x64  OK    OK    OK    OK  UNNEEDED, same version is already published
machv2macOS 10.14.6 Mojave / x86_64  OK    OK    OK    OK  UNNEEDED, same version is already published
Package 80/256HostnameOS / ArchINSTALLBUILDCHECKBUILD BIN
DSS 2.40.0  (landing page)
Hao Wu , Hao Feng
Last Commit: 7189a27
Last Changed Date: 2021-05-19 11:52:43 -0400
nebbiolo1Linux (Ubuntu 20.04.2 LTS) / x86_64  OK    OK    WARNINGS  UNNEEDED, same version is already published
tokay2Windows Server 2012 R2 Standard / x64  OK    OK    WARNINGS    OK  UNNEEDED, same version is already published
machv2macOS 10.14.6 Mojave / x86_64  OK    OK    WARNINGS    OK  UNNEEDED, same version is already published
Package 81/256HostnameOS / ArchINSTALLBUILDCHECKBUILD BIN
Dune 1.4.0  (landing page)
Hector Roux de Bezieux
Last Commit: b65b866
Last Changed Date: 2021-05-19 12:50:32 -0400
nebbiolo1Linux (Ubuntu 20.04.2 LTS) / x86_64  OK    OK    OK  UNNEEDED, same version is already published
tokay2Windows Server 2012 R2 Standard / x64  OK    OK    OK    OK  UNNEEDED, same version is already published
machv2macOS 10.14.6 Mojave / x86_64  OK    OK    OK    OK  UNNEEDED, same version is already published
Package 82/256HostnameOS / ArchINSTALLBUILDCHECKBUILD BIN
easyRNASeq 2.28.0  (landing page)
Nicolas Delhomme
Last Commit: 6d18522
Last Changed Date: 2021-05-19 11:51:10 -0400
nebbiolo1Linux (Ubuntu 20.04.2 LTS) / x86_64  OK    OK    OK  UNNEEDED, same version is already published
tokay2Windows Server 2012 R2 Standard / x64  OK    OK    OK    OK  UNNEEDED, same version is already published
machv2macOS 10.14.6 Mojave / x86_64  OK    OK    OK    OK  UNNEEDED, same version is already published
Package 83/256HostnameOS / ArchINSTALLBUILDCHECKBUILD BIN
EMDomics 2.22.0  (landing page)
Sadhika Malladi and Daniel Schmolze
Last Commit: 86b3e22
Last Changed Date: 2021-05-19 12:13:42 -0400
nebbiolo1Linux (Ubuntu 20.04.2 LTS) / x86_64  OK    OK    OK  UNNEEDED, same version is already published
tokay2Windows Server 2012 R2 Standard / x64  OK    OK    OK    OK  UNNEEDED, same version is already published
machv2macOS 10.14.6 Mojave / x86_64  OK    OK    OK    OK  UNNEEDED, same version is already published
Package 84/256HostnameOS / ArchINSTALLBUILDCHECKBUILD BIN
erma 1.8.0  (landing page)
VJ Carey
Last Commit: 6958ee9
Last Changed Date: 2021-05-19 12:14:10 -0400
nebbiolo1Linux (Ubuntu 20.04.2 LTS) / x86_64  OK    OK    OK  UNNEEDED, same version is already published
tokay2Windows Server 2012 R2 Standard / x64  OK    OK    OK    OK  UNNEEDED, same version is already published
machv2macOS 10.14.6 Mojave / x86_64  OK    OK    OK    OK  UNNEEDED, same version is already published
Package 85/256HostnameOS / ArchINSTALLBUILDCHECKBUILD BIN
ERSSA 1.10.0  (landing page)
Zixuan Shao
Last Commit: cdcef91
Last Changed Date: 2021-05-19 12:38:01 -0400
nebbiolo1Linux (Ubuntu 20.04.2 LTS) / x86_64  OK    OK    OK  UNNEEDED, same version is already published
tokay2Windows Server 2012 R2 Standard / x64  OK    OK    OK    OK  UNNEEDED, same version is already published
machv2macOS 10.14.6 Mojave / x86_64  OK    OK    OK    OK  UNNEEDED, same version is already published
Package 86/256HostnameOS / ArchINSTALLBUILDCHECKBUILD BIN
escape 1.2.0  (landing page)
Nick Borcherding
Last Commit: eac1d27
Last Changed Date: 2021-05-19 12:54:02 -0400
nebbiolo1Linux (Ubuntu 20.04.2 LTS) / x86_64  OK    ERROR  skipped
tokay2Windows Server 2012 R2 Standard / x64  OK    ERROR  skippedskipped
machv2macOS 10.14.6 Mojave / x86_64  OK    ERROR  skippedskipped
Package 87/256HostnameOS / ArchINSTALLBUILDCHECKBUILD BIN
exomePeak2 1.4.0  (landing page)
Zhen Wei
Last Commit: 9862810
Last Changed Date: 2021-05-19 12:49:57 -0400
nebbiolo1Linux (Ubuntu 20.04.2 LTS) / x86_64  OK    OK    WARNINGS  UNNEEDED, same version is already published
tokay2Windows Server 2012 R2 Standard / x64  OK    OK    WARNINGS    OK  UNNEEDED, same version is already published
machv2macOS 10.14.6 Mojave / x86_64  OK    OK    WARNINGS    OK  UNNEEDED, same version is already published
Package 88/256HostnameOS / ArchINSTALLBUILDCHECKBUILD BIN
FEAST 1.0.0  (landing page)
Kenong Su
Last Commit: f91b6e1
Last Changed Date: 2021-05-19 13:02:28 -0400
nebbiolo1Linux (Ubuntu 20.04.2 LTS) / x86_64  OK    OK    OK  UNNEEDED, same version is already published
tokay2Windows Server 2012 R2 Standard / x64  OK    OK    OK    OK  UNNEEDED, same version is already published
machv2macOS 10.14.6 Mojave / x86_64  OK    OK    OK    OK  UNNEEDED, same version is already published
Package 89/256HostnameOS / ArchINSTALLBUILDCHECKBUILD BIN
fgsea 1.18.0  (landing page)
Alexey Sergushichev
Last Commit: 9b6e7d0
Last Changed Date: 2021-05-19 12:21:26 -0400
nebbiolo1Linux (Ubuntu 20.04.2 LTS) / x86_64  OK    OK    OK  UNNEEDED, same version is already published
tokay2Windows Server 2012 R2 Standard / x64  OK    OK    OK    OK  UNNEEDED, same version is already published
machv2macOS 10.14.6 Mojave / x86_64  OK    OK    OK    OK  UNNEEDED, same version is already published
Package 90/256HostnameOS / ArchINSTALLBUILDCHECKBUILD BIN
FindMyFriends 1.22.0  (landing page)
Thomas Lin Pedersen
Last Commit: 526b1e4
Last Changed Date: 2021-05-19 12:15:44 -0400
nebbiolo1Linux (Ubuntu 20.04.2 LTS) / x86_64  OK    OK    WARNINGS  UNNEEDED, same version is already published
tokay2Windows Server 2012 R2 Standard / x64  OK    ERROR  skippedskipped
machv2macOS 10.14.6 Mojave / x86_64  OK    OK    WARNINGS    OK  UNNEEDED, same version is already published
Package 91/256HostnameOS / ArchINSTALLBUILDCHECKBUILD BIN
flowcatchR 1.26.0  (landing page)
Federico Marini
Last Commit: 33b6f14
Last Changed Date: 2021-05-19 12:08:37 -0400
nebbiolo1Linux (Ubuntu 20.04.2 LTS) / x86_64  OK    OK    OK  UNNEEDED, same version is already published
tokay2Windows Server 2012 R2 Standard / x64  OK    OK    OK    OK  UNNEEDED, same version is already published
machv2macOS 10.14.6 Mojave / x86_64  OK    OK    OK    OK  UNNEEDED, same version is already published
Package 92/256HostnameOS / ArchINSTALLBUILDCHECKBUILD BIN
flowSpecs 1.6.0  (landing page)
Jakob Theorell
Last Commit: e8a3b4e
Last Changed Date: 2021-05-19 12:46:22 -0400
nebbiolo1Linux (Ubuntu 20.04.2 LTS) / x86_64  OK    OK    OK  UNNEEDED, same version is already published
tokay2Windows Server 2012 R2 Standard / x64  OK    OK    OK    OK  UNNEEDED, same version is already published
machv2macOS 10.14.6 Mojave / x86_64  OK    OK    OK    OK  UNNEEDED, same version is already published
Package 93/256HostnameOS / ArchINSTALLBUILDCHECKBUILD BIN
FRASER 1.4.0  (landing page)
Christian Mertes
Last Commit: 926f313
Last Changed Date: 2021-05-19 12:51:54 -0400
nebbiolo1Linux (Ubuntu 20.04.2 LTS) / x86_64  OK    OK    OK  UNNEEDED, same version is already published
tokay2Windows Server 2012 R2 Standard / x64  OK    OK    OK    OK  UNNEEDED, same version is already published
machv2macOS 10.14.6 Mojave / x86_64  OK    OK    OK    OK  UNNEEDED, same version is already published
Package 94/256HostnameOS / ArchINSTALLBUILDCHECKBUILD BIN
GDCRNATools 1.12.0  (landing page)
Ruidong Li
Last Commit: 6663dea
Last Changed Date: 2021-05-19 12:32:48 -0400
nebbiolo1Linux (Ubuntu 20.04.2 LTS) / x86_64  OK    OK    OK  UNNEEDED, same version is already published
tokay2Windows Server 2012 R2 Standard / x64  OK    OK    OK    OK  UNNEEDED, same version is already published
machv2macOS 10.14.6 Mojave / x86_64  OK    OK    OK    OK  UNNEEDED, same version is already published
Package 95/256HostnameOS / ArchINSTALLBUILDCHECKBUILD BIN
GenoGAM 2.10.0  (landing page)
Georg Stricker
Last Commit: 3b86b0c
Last Changed Date: 2021-05-19 12:19:19 -0400
nebbiolo1Linux (Ubuntu 20.04.2 LTS) / x86_64  OK    OK    WARNINGS  UNNEEDED, same version is already published
tokay2Windows Server 2012 R2 Standard / x64  OK    OK    WARNINGS    OK  UNNEEDED, same version is already published
machv2macOS 10.14.6 Mojave / x86_64  OK    OK    WARNINGS    OK  UNNEEDED, same version is already published
Package 96/256HostnameOS / ArchINSTALLBUILDCHECKBUILD BIN
GenomicAlignments 1.28.0  (landing page)
Bioconductor Package Maintainer
Last Commit: e755dc1
Last Changed Date: 2021-05-19 12:01:53 -0400
nebbiolo1Linux (Ubuntu 20.04.2 LTS) / x86_64  OK    OK    OK  UNNEEDED, same version is already published
tokay2Windows Server 2012 R2 Standard / x64  OK    OK    OK    OK  UNNEEDED, same version is already published
machv2macOS 10.14.6 Mojave / x86_64  OK    OK    OK    OK  UNNEEDED, same version is already published
Package 97/256HostnameOS / ArchINSTALLBUILDCHECKBUILD BIN
GenomicFiles 1.28.0  (landing page)
Bioconductor Package Maintainer
Last Commit: b7b64cb
Last Changed Date: 2021-05-19 12:04:46 -0400
nebbiolo1Linux (Ubuntu 20.04.2 LTS) / x86_64  OK    OK    OK  UNNEEDED, same version is already published
tokay2Windows Server 2012 R2 Standard / x64  OK    OK    OK    OK  UNNEEDED, same version is already published
machv2macOS 10.14.6 Mojave / x86_64  OK    OK    OK    OK  UNNEEDED, same version is already published
Package 98/256HostnameOS / ArchINSTALLBUILDCHECKBUILD BIN
genotypeeval 1.24.0  (landing page)
Jennifer Tom
Last Commit: ddb6801
Last Changed Date: 2021-05-19 12:14:37 -0400
nebbiolo1Linux (Ubuntu 20.04.2 LTS) / x86_64  OK    OK    WARNINGS  UNNEEDED, same version is already published
tokay2Windows Server 2012 R2 Standard / x64  OK    OK    WARNINGS    OK  UNNEEDED, same version is already published
machv2macOS 10.14.6 Mojave / x86_64  OK    OK    WARNINGS    OK  UNNEEDED, same version is already published
Package 99/256HostnameOS / ArchINSTALLBUILDCHECKBUILD BIN
gmapR 1.34.0  (landing page)
Michael Lawrence
Last Commit: 3262a4e
Last Changed Date: 2021-05-19 11:53:08 -0400
nebbiolo1Linux (Ubuntu 20.04.2 LTS) / x86_64  OK    OK    WARNINGS  UNNEEDED, same version is already published
tokay2Windows Server 2012 R2 Standard / x64... NOT SUPPORTED ...
machv2macOS 10.14.6 Mojave / x86_64  OK    OK    WARNINGS    OK  UNNEEDED, same version is already published
Package 100/256HostnameOS / ArchINSTALLBUILDCHECKBUILD BIN
gscreend 1.6.0  (landing page)
Katharina Imkeller
Last Commit: eaa4f18
Last Changed Date: 2021-05-19 12:46:56 -0400
nebbiolo1Linux (Ubuntu 20.04.2 LTS) / x86_64  OK    OK    OK  UNNEEDED, same version is already published
tokay2Windows Server 2012 R2 Standard / x64  OK    OK    OK    OK  UNNEEDED, same version is already published
machv2macOS 10.14.6 Mojave / x86_64  OK    OK    OK    OK  UNNEEDED, same version is already published
Package 101/256HostnameOS / ArchINSTALLBUILDCHECKBUILD BIN
GSEABenchmarkeR 1.12.0  (landing page)
Ludwig Geistlinger
Last Commit: c2b5c21
Last Changed Date: 2021-05-19 12:34:22 -0400
nebbiolo1Linux (Ubuntu 20.04.2 LTS) / x86_64  OK    OK    OK  UNNEEDED, same version is already published
tokay2Windows Server 2012 R2 Standard / x64  OK    OK    ERROR    OK  
machv2macOS 10.14.6 Mojave / x86_64  OK    OK    ERROR    OK  
Package 102/256HostnameOS / ArchINSTALLBUILDCHECKBUILD BIN
GSVA 1.40.1  (landing page)
Justin Guinney
Last Commit: 61b842e
Last Changed Date: 2021-06-03 11:42:11 -0400
nebbiolo1Linux (Ubuntu 20.04.2 LTS) / x86_64  OK    OK    OK  UNNEEDED, same version is already published
tokay2Windows Server 2012 R2 Standard / x64  OK    OK    OK    OK  UNNEEDED, same version is already published
machv2macOS 10.14.6 Mojave / x86_64  OK    OK    OK    OK  UNNEEDED, same version is already published
Package 103/256HostnameOS / ArchINSTALLBUILDCHECKBUILD BIN
GUIDEseq 1.22.0  (landing page)
Lihua Julie Zhu
Last Commit: d6c83e7
Last Changed Date: 2021-05-19 12:16:19 -0400
nebbiolo1Linux (Ubuntu 20.04.2 LTS) / x86_64  OK    OK    OK  UNNEEDED, same version is already published
tokay2Windows Server 2012 R2 Standard / x64  OK    OK    OK    OK  UNNEEDED, same version is already published
machv2macOS 10.14.6 Mojave / x86_64  OK    OK    OK    OK  UNNEEDED, same version is already published
Package 104/256HostnameOS / ArchINSTALLBUILDCHECKBUILD BIN
h5vc 2.26.1  (landing page)
Paul Theodor Pyl
Last Commit: 95d3f8b
Last Changed Date: 2021-05-21 16:31:59 -0400
nebbiolo1Linux (Ubuntu 20.04.2 LTS) / x86_64  OK    OK    WARNINGS  UNNEEDED, same version is already published
tokay2Windows Server 2012 R2 Standard / x64  OK    OK    WARNINGS    OK  UNNEEDED, same version is already published
machv2macOS 10.14.6 Mojave / x86_64  OK    OK    WARNINGS    OK  UNNEEDED, same version is already published
Package 105/256HostnameOS / ArchINSTALLBUILDCHECKBUILD BIN
HiCBricks 1.10.0  (landing page)
Koustav Pal
Last Commit: f242bbd
Last Changed Date: 2021-05-19 12:38:53 -0400
nebbiolo1Linux (Ubuntu 20.04.2 LTS) / x86_64  OK    OK    OK  UNNEEDED, same version is already published
tokay2Windows Server 2012 R2 Standard / x64  OK    OK    OK    OK  UNNEEDED, same version is already published
machv2macOS 10.14.6 Mojave / x86_64  OK    OK    OK    OK  UNNEEDED, same version is already published
Package 106/256HostnameOS / ArchINSTALLBUILDCHECKBUILD BIN
HiCcompare 1.14.0  (landing page)
John Stansfield , Mikhail Dozmorov
Last Commit: e1b41c3
Last Changed Date: 2021-05-19 12:29:06 -0400
nebbiolo1Linux (Ubuntu 20.04.2 LTS) / x86_64  OK    OK    WARNINGS  UNNEEDED, same version is already published
tokay2Windows Server 2012 R2 Standard / x64  OK    OK    WARNINGS    OK  UNNEEDED, same version is already published
machv2macOS 10.14.6 Mojave / x86_64  OK    OK    WARNINGS    OK  UNNEEDED, same version is already published
Package 107/256HostnameOS / ArchINSTALLBUILDCHECKBUILD BIN
hiReadsProcessor 1.28.0  (landing page)
Nirav V Malani
Last Commit: daa41a6
Last Changed Date: 2021-05-19 12:07:00 -0400
nebbiolo1Linux (Ubuntu 20.04.2 LTS) / x86_64  OK    OK    OK  UNNEEDED, same version is already published
tokay2Windows Server 2012 R2 Standard / x64... NOT SUPPORTED ...
machv2macOS 10.14.6 Mojave / x86_64  OK    OK    OK    OK  UNNEEDED, same version is already published
Package 108/256HostnameOS / ArchINSTALLBUILDCHECKBUILD BIN
HTSeqGenie 4.22.0  (landing page)
Jens Reeder
Last Commit: ddd1eb5
Last Changed Date: 2021-05-19 11:54:22 -0400
nebbiolo1Linux (Ubuntu 20.04.2 LTS) / x86_64  OK    OK    OK  UNNEEDED, same version is already published
tokay2Windows Server 2012 R2 Standard / x64... NOT SUPPORTED ...
machv2macOS 10.14.6 Mojave / x86_64... NOT SUPPORTED ...
Package 109/256HostnameOS / ArchINSTALLBUILDCHECKBUILD BIN
HTSFilter 1.32.0  (landing page)
Andrea Rau
Last Commit: bd32ecf
Last Changed Date: 2021-05-19 11:57:25 -0400
nebbiolo1Linux (Ubuntu 20.04.2 LTS) / x86_64  OK    OK    OK  UNNEEDED, same version is already published
tokay2Windows Server 2012 R2 Standard / x64  OK    OK    OK    OK  UNNEEDED, same version is already published
machv2macOS 10.14.6 Mojave / x86_64  OK    OK    OK    OK  UNNEEDED, same version is already published
Package 110/256HostnameOS / ArchINSTALLBUILDCHECKBUILD BIN
iasva 1.10.0  (landing page)
Donghyung Lee , Anthony Cheng
Last Commit: 1fe32a3
Last Changed Date: 2021-05-19 12:36:01 -0400
nebbiolo1Linux (Ubuntu 20.04.2 LTS) / x86_64  OK    OK    OK  UNNEEDED, same version is already published
tokay2Windows Server 2012 R2 Standard / x64  OK    OK    OK    OK  UNNEEDED, same version is already published
machv2macOS 10.14.6 Mojave / x86_64  OK    OK    OK    OK  UNNEEDED, same version is already published
Package 111/256HostnameOS / ArchINSTALLBUILDCHECKBUILD BIN
icetea 1.10.0  (landing page)
Vivek Bhardwaj
Last Commit: b536bec
Last Changed Date: 2021-05-19 12:36:20 -0400
nebbiolo1Linux (Ubuntu 20.04.2 LTS) / x86_64  OK    OK    OK  UNNEEDED, same version is already published
tokay2Windows Server 2012 R2 Standard / x64  OK    OK    OK    OK  UNNEEDED, same version is already published
machv2macOS 10.14.6 Mojave / x86_64  OK    OK    OK    OK  UNNEEDED, same version is already published
Package 112/256HostnameOS / ArchINSTALLBUILDCHECKBUILD BIN
ideal 1.16.0  (landing page)
Federico Marini
Last Commit: bbbffd1
Last Changed Date: 2021-05-19 12:27:38 -0400
nebbiolo1Linux (Ubuntu 20.04.2 LTS) / x86_64  OK    OK    OK  UNNEEDED, same version is already published
tokay2Windows Server 2012 R2 Standard / x64  OK    OK    OK    OK  UNNEEDED, same version is already published
machv2macOS 10.14.6 Mojave / x86_64  OK    OK    OK    OK  UNNEEDED, same version is already published
Package 113/256HostnameOS / ArchINSTALLBUILDCHECKBUILD BIN
IMAS 1.16.0  (landing page)
Seonggyun Han
Last Commit: b45a2cb
Last Changed Date: 2021-05-19 12:27:18 -0400
nebbiolo1Linux (Ubuntu 20.04.2 LTS) / x86_64  OK    OK    OK  UNNEEDED, same version is already published
tokay2Windows Server 2012 R2 Standard / x64  OK    OK    OK    OK  UNNEEDED, same version is already published
machv2macOS 10.14.6 Mojave / x86_64  OK    OK    OK    OK  UNNEEDED, same version is already published
Package 114/256HostnameOS / ArchINSTALLBUILDCHECKBUILD BIN
InPAS 2.0.0  (landing page)
Jianhong Ou
Last Commit: d402f5c
Last Changed Date: 2021-05-19 12:12:03 -0400
nebbiolo1Linux (Ubuntu 20.04.2 LTS) / x86_64  OK    OK    OK  UNNEEDED, same version is already published
tokay2Windows Server 2012 R2 Standard / x64  OK    OK    OK    OK  UNNEEDED, same version is already published
machv2macOS 10.14.6 Mojave / x86_64  OK    OK    OK    OK  UNNEEDED, same version is already published
Package 115/256HostnameOS / ArchINSTALLBUILDCHECKBUILD BIN
INSPEcT 1.22.0  (landing page)
Stefano de Pretis
Last Commit: b877791
Last Changed Date: 2021-05-19 12:14:25 -0400
nebbiolo1Linux (Ubuntu 20.04.2 LTS) / x86_64  OK    OK    OK  UNNEEDED, same version is already published
tokay2Windows Server 2012 R2 Standard / x64  OK    OK    OK    OK  UNNEEDED, same version is already published
machv2macOS 10.14.6 Mojave / x86_64  OK    OK    OK    OK  UNNEEDED, same version is already published
Package 116/256HostnameOS / ArchINSTALLBUILDCHECKBUILD BIN
IntEREst 1.16.0  (landing page)
Ali Oghabian , Mikko Frilander
Last Commit: 4d75a7c
Last Changed Date: 2021-05-19 12:26:24 -0400
nebbiolo1Linux (Ubuntu 20.04.2 LTS) / x86_64  OK    OK    OK  UNNEEDED, same version is already published
tokay2Windows Server 2012 R2 Standard / x64  OK    OK    OK    OK  UNNEEDED, same version is already published
machv2macOS 10.14.6 Mojave / x86_64  OK    OK    OK    OK  UNNEEDED, same version is already published
Package 117/256HostnameOS / ArchINSTALLBUILDCHECKBUILD BIN
IONiseR 2.16.0  (landing page)
Mike Smith
Last Commit: e9be4a9
Last Changed Date: 2021-05-19 12:14:13 -0400
nebbiolo1Linux (Ubuntu 20.04.2 LTS) / x86_64  OK    OK    OK  UNNEEDED, same version is already published
tokay2Windows Server 2012 R2 Standard / x64  OK    OK    OK    OK  UNNEEDED, same version is already published
machv2macOS 10.14.6 Mojave / x86_64  OK    OK    OK    OK  UNNEEDED, same version is already published
Package 118/256HostnameOS / ArchINSTALLBUILDCHECKBUILD BIN
IPO 1.18.0  (landing page)
Thomas Riebenbauer
Last Commit: f29adc9
Last Changed Date: 2021-05-19 12:22:15 -0400
nebbiolo1Linux (Ubuntu 20.04.2 LTS) / x86_64  OK    OK    OK  UNNEEDED, same version is already published
tokay2Windows Server 2012 R2 Standard / x64  OK    OK    OK    OK  UNNEEDED, same version is already published
machv2macOS 10.14.6 Mojave / x86_64  OK    OK    OK    OK  UNNEEDED, same version is already published
Package 119/256HostnameOS / ArchINSTALLBUILDCHECKBUILD BIN
ISAnalytics 1.2.1  (landing page)
Andrea Calabria
Last Commit: ab38e96
Last Changed Date: 2021-06-08 09:53:49 -0400
nebbiolo1Linux (Ubuntu 20.04.2 LTS) / x86_64  OK    OK    OK  YES
tokay2Windows Server 2012 R2 Standard / x64  OK    OK    OK    OK  YES
machv2macOS 10.14.6 Mojave / x86_64  OK    OK    OK    OK  YES
Package 120/256HostnameOS / ArchINSTALLBUILDCHECKBUILD BIN
IVAS 2.12.0  (landing page)
Seonggyun Han
Last Commit: 72bbdb6
Last Changed Date: 2021-05-19 12:10:52 -0400
nebbiolo1Linux (Ubuntu 20.04.2 LTS) / x86_64  OK    OK    WARNINGS  UNNEEDED, same version is already published
tokay2Windows Server 2012 R2 Standard / x64  OK    OK    WARNINGS    OK  UNNEEDED, same version is already published
machv2macOS 10.14.6 Mojave / x86_64  OK    OK    WARNINGS    OK  UNNEEDED, same version is already published
Package 121/256HostnameOS / ArchINSTALLBUILDCHECKBUILD BIN
KinSwingR 1.10.0  (landing page)
Ashley J. Waardenberg
Last Commit: d2364b7
Last Changed Date: 2021-05-19 12:38:41 -0400
nebbiolo1Linux (Ubuntu 20.04.2 LTS) / x86_64  OK    OK    OK  UNNEEDED, same version is already published
tokay2Windows Server 2012 R2 Standard / x64  OK    OK    OK    OK  UNNEEDED, same version is already published
machv2macOS 10.14.6 Mojave / x86_64  OK    OK    OK    OK  UNNEEDED, same version is already published
Package 122/256HostnameOS / ArchINSTALLBUILDCHECKBUILD BIN
LineagePulse 1.12.0  (landing page)
David S Fischer
Last Commit: 6b86f9a
Last Changed Date: 2021-05-19 12:32:15 -0400
nebbiolo1Linux (Ubuntu 20.04.2 LTS) / x86_64  OK    OK    WARNINGS  UNNEEDED, same version is already published
tokay2Windows Server 2012 R2 Standard / x64  OK    OK    WARNINGS    OK  UNNEEDED, same version is already published
machv2macOS 10.14.6 Mojave / x86_64  OK    OK    WARNINGS    OK  UNNEEDED, same version is already published
Package 123/256HostnameOS / ArchINSTALLBUILDCHECKBUILD BIN
lisaClust 1.0.0  (landing page)
Ellis Patrick
Last Commit: 1e46ec3
Last Changed Date: 2021-05-19 13:00:42 -0400
nebbiolo1Linux (Ubuntu 20.04.2 LTS) / x86_64  OK    OK    OK  UNNEEDED, same version is already published
tokay2Windows Server 2012 R2 Standard / x64  OK    OK    OK    OK  UNNEEDED, same version is already published
machv2macOS 10.14.6 Mojave / x86_64  OK    OK    OK    OK  UNNEEDED, same version is already published
Package 124/256HostnameOS / ArchINSTALLBUILDCHECKBUILD BIN
loci2path 1.12.0  (landing page)
Tianlei Xu
Last Commit: fd21ec3
Last Changed Date: 2021-05-19 12:32:10 -0400
nebbiolo1Linux (Ubuntu 20.04.2 LTS) / x86_64  OK    OK    OK  UNNEEDED, same version is already published
tokay2Windows Server 2012 R2 Standard / x64  OK    OK    OK    OK  UNNEEDED, same version is already published
machv2macOS 10.14.6 Mojave / x86_64  OK    OK    OK    OK  UNNEEDED, same version is already published
Package 125/256HostnameOS / ArchINSTALLBUILDCHECKBUILD BIN
LowMACA 1.22.0  (landing page)
Stefano de Pretis , Giorgio Melloni
Last Commit: b9b4a18
Last Changed Date: 2021-05-19 12:12:19 -0400
nebbiolo1Linux (Ubuntu 20.04.2 LTS) / x86_64  OK    OK    OK  UNNEEDED, same version is already published
tokay2Windows Server 2012 R2 Standard / x64  OK    OK    OK    OK  UNNEEDED, same version is already published
machv2macOS 10.14.6 Mojave / x86_64  OK    OK    OK    OK  UNNEEDED, same version is already published
Package 126/256HostnameOS / ArchINSTALLBUILDCHECKBUILD BIN
LRcell 1.0.0  (landing page)
Wenjing Ma
Last Commit: 85370d4
Last Changed Date: 2021-05-19 13:01:32 -0400
nebbiolo1Linux (Ubuntu 20.04.2 LTS) / x86_64  OK    OK    OK  UNNEEDED, same version is already published
tokay2Windows Server 2012 R2 Standard / x64  OK    OK    OK    OK  UNNEEDED, same version is already published
machv2macOS 10.14.6 Mojave / x86_64  OK    OK    OK    OK  UNNEEDED, same version is already published
Package 127/256HostnameOS / ArchINSTALLBUILDCHECKBUILD BIN
MACPET 1.12.0  (landing page)
Ioannis Vardaxis
Last Commit: 2e34842
Last Changed Date: 2021-05-19 12:33:30 -0400
nebbiolo1Linux (Ubuntu 20.04.2 LTS) / x86_64  OK    OK    OK  UNNEEDED, same version is already published
tokay2Windows Server 2012 R2 Standard / x64  OK    OK    OK    OK  UNNEEDED, same version is already published
machv2macOS 10.14.6 Mojave / x86_64  OK    OK    OK    OK  UNNEEDED, same version is already published
Package 128/256HostnameOS / ArchINSTALLBUILDCHECKBUILD BIN
matter 1.18.0  (landing page)
Kylie A. Bemis
Last Commit: dbca756
Last Changed Date: 2021-05-19 12:23:45 -0400
nebbiolo1Linux (Ubuntu 20.04.2 LTS) / x86_64  OK    OK    OK  UNNEEDED, same version is already published
tokay2Windows Server 2012 R2 Standard / x64  OK    OK    OK    OK  UNNEEDED, same version is already published
machv2macOS 10.14.6 Mojave / x86_64  OK    OK    OK    OK  UNNEEDED, same version is already published
Package 129/256HostnameOS / ArchINSTALLBUILDCHECKBUILD BIN
MBASED 1.26.0  (landing page)
Oleg Mayba
Last Commit: 8b51d18
Last Changed Date: 2021-05-19 12:07:02 -0400
nebbiolo1Linux (Ubuntu 20.04.2 LTS) / x86_64  OK    OK    OK  UNNEEDED, same version is already published
tokay2Windows Server 2012 R2 Standard / x64  OK    OK    OK    OK  UNNEEDED, same version is already published
machv2macOS 10.14.6 Mojave / x86_64  OK    OK    OK    OK  UNNEEDED, same version is already published
Package 130/256HostnameOS / ArchINSTALLBUILDCHECKBUILD BIN
mbkmeans 1.8.0  (landing page)
Davide Risso
Last Commit: 2d2b03a
Last Changed Date: 2021-05-19 12:42:35 -0400
nebbiolo1Linux (Ubuntu 20.04.2 LTS) / x86_64  OK    OK    OK  UNNEEDED, same version is already published
tokay2Windows Server 2012 R2 Standard / x64  OK    OK    OK    OK  UNNEEDED, same version is already published
machv2macOS 10.14.6 Mojave / x86_64  OK    OK    OK    OK  UNNEEDED, same version is already published
Package 131/256HostnameOS / ArchINSTALLBUILDCHECKBUILD BIN
MCbiclust 1.16.0  (landing page)
Robert Bentham
Last Commit: b0ffc3e
Last Changed Date: 2021-05-19 12:25:43 -0400
nebbiolo1Linux (Ubuntu 20.04.2 LTS) / x86_64  OK    OK    OK  UNNEEDED, same version is already published
tokay2Windows Server 2012 R2 Standard / x64  OK    OK    OK    OK  UNNEEDED, same version is already published
machv2macOS 10.14.6 Mojave / x86_64  OK    OK    OK    OK  UNNEEDED, same version is already published
Package 132/256HostnameOS / ArchINSTALLBUILDCHECKBUILD BIN
metabomxtr 1.26.0  (landing page)
Michael Nodzenski
Last Commit: 3cc8a48
Last Changed Date: 2021-05-19 12:06:31 -0400
nebbiolo1Linux (Ubuntu 20.04.2 LTS) / x86_64  OK    OK    OK  UNNEEDED, same version is already published
tokay2Windows Server 2012 R2 Standard / x64  OK    OK    OK    OK  UNNEEDED, same version is already published
machv2macOS 10.14.6 Mojave / x86_64  OK    OK    OK    OK  UNNEEDED, same version is already published
Package 133/256HostnameOS / ArchINSTALLBUILDCHECKBUILD BIN
metagene 2.24.0  (landing page)
Charles Joly Beauparlant
Last Commit: f85b3d4
Last Changed Date: 2021-05-19 12:06:34 -0400
nebbiolo1Linux (Ubuntu 20.04.2 LTS) / x86_64  OK    OK    OK  UNNEEDED, same version is already published
tokay2Windows Server 2012 R2 Standard / x64  OK    OK    OK    OK  UNNEEDED, same version is already published
machv2macOS 10.14.6 Mojave / x86_64  OK    OK    OK    OK  UNNEEDED, same version is already published
Package 134/256HostnameOS / ArchINSTALLBUILDCHECKBUILD BIN
metagene2 1.8.0  (landing page)
Eric Fournier
Last Commit: d29879c
Last Changed Date: 2021-05-19 12:43:35 -0400
nebbiolo1Linux (Ubuntu 20.04.2 LTS) / x86_64  OK    OK    OK  UNNEEDED, same version is already published
tokay2Windows Server 2012 R2 Standard / x64  OK    OK    OK    OK  UNNEEDED, same version is already published
machv2macOS 10.14.6 Mojave / x86_64  OK    OK    OK    OK  UNNEEDED, same version is already published
Package 135/256HostnameOS / ArchINSTALLBUILDCHECKBUILD BIN
metaseqR2 1.4.0  (landing page)
Panagiotis Moulos
Last Commit: c9bb1dc
Last Changed Date: 2021-05-19 12:52:20 -0400
nebbiolo1Linux (Ubuntu 20.04.2 LTS) / x86_64  OK    OK    OK  UNNEEDED, same version is already published
tokay2Windows Server 2012 R2 Standard / x64  OK    OK    OK    OK  UNNEEDED, same version is already published
machv2macOS 10.14.6 Mojave / x86_64  OK    OK    OK    OK  UNNEEDED, same version is already published
Package 136/256HostnameOS / ArchINSTALLBUILDCHECKBUILD BIN
MethCP 1.6.0  (landing page)
Boying Gong
Last Commit: 4b722d1
Last Changed Date: 2021-05-19 12:47:24 -0400
nebbiolo1Linux (Ubuntu 20.04.2 LTS) / x86_64  OK    OK    OK  UNNEEDED, same version is already published
tokay2Windows Server 2012 R2 Standard / x64  OK    OK    OK    OK  UNNEEDED, same version is already published
machv2macOS 10.14.6 Mojave / x86_64  OK    OK    OK    OK  UNNEEDED, same version is already published
Package 137/256HostnameOS / ArchINSTALLBUILDCHECKBUILD BIN
MethylAid 1.26.0  (landing page)
L.J.Sinke
Last Commit: 877d41a
Last Changed Date: 2021-05-19 12:05:17 -0400
nebbiolo1Linux (Ubuntu 20.04.2 LTS) / x86_64  OK    OK    OK  UNNEEDED, same version is already published
tokay2Windows Server 2012 R2 Standard / x64  OK    OK    OK    OK  UNNEEDED, same version is already published
machv2macOS 10.14.6 Mojave / x86_64  OK    OK    OK    OK  UNNEEDED, same version is already published
Package 138/256HostnameOS / ArchINSTALLBUILDCHECKBUILD BIN
methylGSA 1.10.0  (landing page)
Xu Ren
Last Commit: 935072a
Last Changed Date: 2021-05-19 12:36:39 -0400
nebbiolo1Linux (Ubuntu 20.04.2 LTS) / x86_64  OK    OK    OK  UNNEEDED, same version is already published
tokay2Windows Server 2012 R2 Standard / x64  OK    OK    OK    OK  UNNEEDED, same version is already published
machv2macOS 10.14.6 Mojave / x86_64  OK    OK    OK    OK  UNNEEDED, same version is already published
Package 139/256HostnameOS / ArchINSTALLBUILDCHECKBUILD BIN
methylInheritance 1.16.0  (landing page)
Astrid Deschênes
Last Commit: 0c4894a
Last Changed Date: 2021-05-19 12:27:23 -0400
nebbiolo1Linux (Ubuntu 20.04.2 LTS) / x86_64  OK    OK    OK  UNNEEDED, same version is already published
tokay2Windows Server 2012 R2 Standard / x64  OK    OK    OK    OK  UNNEEDED, same version is already published
machv2macOS 10.14.6 Mojave / x86_64  OK    OK    OK    OK  UNNEEDED, same version is already published
Package 140/256HostnameOS / ArchINSTALLBUILDCHECKBUILD BIN
methylscaper 1.0.0  (landing page)
Bacher Rhonda
Last Commit: de134ea
Last Changed Date: 2021-05-19 13:00:56 -0400
nebbiolo1Linux (Ubuntu 20.04.2 LTS) / x86_64  OK    OK    OK  UNNEEDED, same version is already published
tokay2Windows Server 2012 R2 Standard / x64  OK    OK    OK    OK  UNNEEDED, same version is already published
machv2macOS 10.14.6 Mojave / x86_64  OK    OK    OK    OK  UNNEEDED, same version is already published
Package 141/256HostnameOS / ArchINSTALLBUILDCHECKBUILD BIN
MetNet 1.10.0  (landing page)
Thomas Naake
Last Commit: 7e3eee4
Last Changed Date: 2021-05-19 12:37:25 -0400
nebbiolo1Linux (Ubuntu 20.04.2 LTS) / x86_64  OK    OK    OK  UNNEEDED, same version is already published
tokay2Windows Server 2012 R2 Standard / x64  OK    OK    OK    OK  UNNEEDED, same version is already published
machv2macOS 10.14.6 Mojave / x86_64  OK    OK    OK    OK  UNNEEDED, same version is already published
Package 142/256HostnameOS / ArchINSTALLBUILDCHECKBUILD BIN
mia 1.0.2  (landing page)
Felix G.M. Ernst
Last Commit: 37f5f79
Last Changed Date: 2021-05-27 14:42:03 -0400
nebbiolo1Linux (Ubuntu 20.04.2 LTS) / x86_64  OK    OK    OK  UNNEEDED, same version is already published
tokay2Windows Server 2012 R2 Standard / x64  OK    OK    OK    OK  UNNEEDED, same version is already published
machv2macOS 10.14.6 Mojave / x86_64  OK    OK    OK    OK  UNNEEDED, same version is already published
Package 143/256HostnameOS / ArchINSTALLBUILDCHECKBUILD BIN
miaViz 1.0.0  (landing page)
Felix G.M. Ernst
Last Commit: 771af7a
Last Changed Date: 2021-05-19 13:01:18 -0400
nebbiolo1Linux (Ubuntu 20.04.2 LTS) / x86_64  OK    OK    OK  UNNEEDED, same version is already published
tokay2Windows Server 2012 R2 Standard / x64  OK    OK    OK    OK  UNNEEDED, same version is already published
machv2macOS 10.14.6 Mojave / x86_64  OK    OK    OK    OK  UNNEEDED, same version is already published
Package 144/256HostnameOS / ArchINSTALLBUILDCHECKBUILD BIN
MIGSA 1.16.0  (landing page)
Juan C. Rodriguez
Last Commit: 021bffb
Last Changed Date: 2021-05-19 12:26:14 -0400
nebbiolo1Linux (Ubuntu 20.04.2 LTS) / x86_64  OK    OK    OK  UNNEEDED, same version is already published
tokay2Windows Server 2012 R2 Standard / x64  OK    OK    ERROR    OK  
machv2macOS 10.14.6 Mojave / x86_64  OK    OK    OK    OK  UNNEEDED, same version is already published
Package 145/256HostnameOS / ArchINSTALLBUILDCHECKBUILD BIN
miloR 1.0.0  (landing page)
Mike Morgan
Last Commit: 6e2750a
Last Changed Date: 2021-05-19 13:02:52 -0400
nebbiolo1Linux (Ubuntu 20.04.2 LTS) / x86_64  OK    OK    OK  UNNEEDED, same version is already published
tokay2Windows Server 2012 R2 Standard / x64  OK    OK    OK    OK  UNNEEDED, same version is already published
machv2macOS 10.14.6 Mojave / x86_64  OK    ERROR  skippedskipped
Package 146/256HostnameOS / ArchINSTALLBUILDCHECKBUILD BIN
minfi 1.38.0  (landing page)
Kasper Daniel Hansen
Last Commit: ff3bf4a
Last Changed Date: 2021-05-19 11:50:18 -0400
nebbiolo1Linux (Ubuntu 20.04.2 LTS) / x86_64  OK    OK    OK  UNNEEDED, same version is already published
tokay2Windows Server 2012 R2 Standard / x64  OK    OK    OK    OK  UNNEEDED, same version is already published
machv2macOS 10.14.6 Mojave / x86_64  OK    OK    OK    OK  UNNEEDED, same version is already published
Package 147/256HostnameOS / ArchINSTALLBUILDCHECKBUILD BIN
miQC 1.0.0  (landing page)
Ariel Hippen
Last Commit: d69caf1
Last Changed Date: 2021-05-19 13:00:31 -0400
nebbiolo1Linux (Ubuntu 20.04.2 LTS) / x86_64  OK    OK    WARNINGS  UNNEEDED, same version is already published
tokay2Windows Server 2012 R2 Standard / x64  OK    OK    WARNINGS    OK  UNNEEDED, same version is already published
machv2macOS 10.14.6 Mojave / x86_64  OK    OK    WARNINGS    OK  UNNEEDED, same version is already published
Package 148/256HostnameOS / ArchINSTALLBUILDCHECKBUILD BIN
mixOmics 6.16.0  (landing page)
Kim-Anh Le Cao
Last Commit: 01fa801
Last Changed Date: 2021-05-19 12:39:21 -0400
nebbiolo1Linux (Ubuntu 20.04.2 LTS) / x86_64  OK    OK    OK  UNNEEDED, same version is already published
tokay2Windows Server 2012 R2 Standard / x64  OK    OK    OK    OK  UNNEEDED, same version is already published
machv2macOS 10.14.6 Mojave / x86_64  OK    OK    OK    OK  UNNEEDED, same version is already published
Package 149/256HostnameOS / ArchINSTALLBUILDCHECKBUILD BIN
MMAPPR2 1.6.0  (landing page)
Jonathon Hill
Last Commit: 7c16b5e
Last Changed Date: 2021-05-19 12:44:29 -0400
nebbiolo1Linux (Ubuntu 20.04.2 LTS) / x86_64  OK    OK    OK  UNNEEDED, same version is already published
tokay2Windows Server 2012 R2 Standard / x64... NOT SUPPORTED ...
machv2macOS 10.14.6 Mojave / x86_64  OK    OK    OK    OK  UNNEEDED, same version is already published
Package 150/256HostnameOS / ArchINSTALLBUILDCHECKBUILD BIN
MOGAMUN 1.2.0  (landing page)
Elva-María Novoa-del-Toro
Last Commit: e5f3abc
Last Changed Date: 2021-05-19 12:56:58 -0400
nebbiolo1Linux (Ubuntu 20.04.2 LTS) / x86_64  OK    OK    OK  UNNEEDED, same version is already published
tokay2Windows Server 2012 R2 Standard / x64  OK    OK    OK    OK  UNNEEDED, same version is already published
machv2macOS 10.14.6 Mojave / x86_64  OK    OK    OK    OK  UNNEEDED, same version is already published
Package 151/256HostnameOS / ArchINSTALLBUILDCHECKBUILD BIN
motifbreakR 2.6.0  (landing page)
Simon Gert Coetzee
Last Commit: 01e3195
Last Changed Date: 2021-05-19 12:15:28 -0400
nebbiolo1Linux (Ubuntu 20.04.2 LTS) / x86_64  OK    OK    WARNINGS  UNNEEDED, same version is already published
tokay2Windows Server 2012 R2 Standard / x64  OK    OK    WARNINGS    OK  UNNEEDED, same version is already published
machv2macOS 10.14.6 Mojave / x86_64  OK    OK    WARNINGS    OK  UNNEEDED, same version is already published
Package 152/256HostnameOS / ArchINSTALLBUILDCHECKBUILD BIN
MPRAnalyze 1.10.0  (landing page)
Tal Ashuach
Last Commit: a4175d2
Last Changed Date: 2021-05-19 12:38:28 -0400
nebbiolo1Linux (Ubuntu 20.04.2 LTS) / x86_64  OK    OK    OK  UNNEEDED, same version is already published
tokay2Windows Server 2012 R2 Standard / x64  OK    OK    OK    OK  UNNEEDED, same version is already published
machv2macOS 10.14.6 Mojave / x86_64  OK    OK    OK    OK  UNNEEDED, same version is already published
Package 153/256HostnameOS / ArchINSTALLBUILDCHECKBUILD BIN
MsBackendMassbank 1.0.0  (landing page)
RforMassSpectrometry Package Maintainer
Last Commit: 4d24e2c
Last Changed Date: 2021-05-19 13:00:06 -0400
nebbiolo1Linux (Ubuntu 20.04.2 LTS) / x86_64  OK    OK    OK  UNNEEDED, same version is already published
tokay2Windows Server 2012 R2 Standard / x64  OK    OK    OK    OK  UNNEEDED, same version is already published
machv2macOS 10.14.6 Mojave / x86_64  OK    OK    OK    OK  UNNEEDED, same version is already published
Package 154/256HostnameOS / ArchINSTALLBUILDCHECKBUILD BIN
MsBackendMgf 1.0.0  (landing page)
RforMassSpectrometry Package Maintainer
Last Commit: 291d8e9
Last Changed Date: 2021-05-19 13:00:39 -0400
nebbiolo1Linux (Ubuntu 20.04.2 LTS) / x86_64  OK    OK    OK  UNNEEDED, same version is already published
tokay2Windows Server 2012 R2 Standard / x64  OK    OK    OK    OK  UNNEEDED, same version is already published
machv2macOS 10.14.6 Mojave / x86_64  OK    OK    OK    OK  UNNEEDED, same version is already published
Package 155/256HostnameOS / ArchINSTALLBUILDCHECKBUILD BIN
MSnbase 2.18.0  (landing page)
Laurent Gatto
Last Commit: 8653c08
Last Changed Date: 2021-05-19 11:47:43 -0400
nebbiolo1Linux (Ubuntu 20.04.2 LTS) / x86_64  OK    OK    OK  UNNEEDED, same version is already published
tokay2Windows Server 2012 R2 Standard / x64  OK    OK    TIMEOUT    OK  
machv2macOS 10.14.6 Mojave / x86_64  OK    OK    OK    OK  UNNEEDED, same version is already published
Package 156/256HostnameOS / ArchINSTALLBUILDCHECKBUILD BIN
msqrob2 1.0.0  (landing page)
Lieven Clement
Last Commit: 7f5bee4
Last Changed Date: 2021-05-19 13:03:40 -0400
nebbiolo1Linux (Ubuntu 20.04.2 LTS) / x86_64  OK    OK    OK  UNNEEDED, same version is already published
tokay2Windows Server 2012 R2 Standard / x64  OK    OK    OK    OK  UNNEEDED, same version is already published
machv2macOS 10.14.6 Mojave / x86_64  OK    OK    OK    OK  UNNEEDED, same version is already published
Package 157/256HostnameOS / ArchINSTALLBUILDCHECKBUILD BIN
MSstatsSampleSize 1.6.0  (landing page)
Ting Huang
Last Commit: 0e335a0
Last Changed Date: 2021-05-19 12:46:46 -0400
nebbiolo1Linux (Ubuntu 20.04.2 LTS) / x86_64  OK    OK    WARNINGS  UNNEEDED, same version is already published
tokay2Windows Server 2012 R2 Standard / x64  OK    OK    WARNINGS    OK  UNNEEDED, same version is already published
machv2macOS 10.14.6 Mojave / x86_64  OK    OK    WARNINGS    OK  UNNEEDED, same version is already published
Package 158/256HostnameOS / ArchINSTALLBUILDCHECKBUILD BIN
multiHiCcompare 1.10.0  (landing page)
John Stansfield , Mikhail Dozmorov
Last Commit: 7780e80
Last Changed Date: 2021-05-19 12:37:18 -0400
nebbiolo1Linux (Ubuntu 20.04.2 LTS) / x86_64  OK    OK    OK  UNNEEDED, same version is already published
tokay2Windows Server 2012 R2 Standard / x64  OK    OK    OK    OK  UNNEEDED, same version is already published
machv2macOS 10.14.6 Mojave / x86_64  OK    OK    OK    OK  UNNEEDED, same version is already published
Package 159/256HostnameOS / ArchINSTALLBUILDCHECKBUILD BIN
mumosa 1.0.0  (landing page)
Aaron Lun
Last Commit: bd0c58c
Last Changed Date: 2021-05-19 12:58:39 -0400
nebbiolo1Linux (Ubuntu 20.04.2 LTS) / x86_64  OK    OK    OK  UNNEEDED, same version is already published
tokay2Windows Server 2012 R2 Standard / x64  OK    OK    OK    OK  UNNEEDED, same version is already published
machv2macOS 10.14.6 Mojave / x86_64  OK    OK    OK    OK  UNNEEDED, same version is already published
Package 160/256HostnameOS / ArchINSTALLBUILDCHECKBUILD BIN
muscat 1.6.0  (landing page)
Helena L. Crowell
Last Commit: d05998b
Last Changed Date: 2021-05-19 12:45:46 -0400
nebbiolo1Linux (Ubuntu 20.04.2 LTS) / x86_64  OK    OK    OK  UNNEEDED, same version is already published
tokay2Windows Server 2012 R2 Standard / x64  OK    OK    ERROR    OK  
machv2macOS 10.14.6 Mojave / x86_64  OK    OK    OK    OK  UNNEEDED, same version is already published
Package 161/256HostnameOS / ArchINSTALLBUILDCHECKBUILD BIN
NBAMSeq 1.8.0  (landing page)
Xu Ren
Last Commit: c51aa12
Last Changed Date: 2021-05-19 12:42:43 -0400
nebbiolo1Linux (Ubuntu 20.04.2 LTS) / x86_64  OK    OK    OK  UNNEEDED, same version is already published
tokay2Windows Server 2012 R2 Standard / x64  OK    OK    OK    OK  UNNEEDED, same version is already published
machv2macOS 10.14.6 Mojave / x86_64  OK    OK    OK    OK  UNNEEDED, same version is already published
Package 162/256HostnameOS / ArchINSTALLBUILDCHECKBUILD BIN
NBSplice 1.10.0  (landing page)
Gabriela Merino
Last Commit: 58b6cb9
Last Changed Date: 2021-05-19 12:36:47 -0400
nebbiolo1Linux (Ubuntu 20.04.2 LTS) / x86_64  OK    OK    OK  UNNEEDED, same version is already published
tokay2Windows Server 2012 R2 Standard / x64  OK    OK    OK    OK  UNNEEDED, same version is already published
machv2macOS 10.14.6 Mojave / x86_64  OK    OK    OK    OK  UNNEEDED, same version is already published
Package 163/256HostnameOS / ArchINSTALLBUILDCHECKBUILD BIN
ncGTW 1.6.0  (landing page)
Chiung-Ting Wu
Last Commit: cf40068
Last Changed Date: 2021-05-19 12:45:08 -0400
nebbiolo1Linux (Ubuntu 20.04.2 LTS) / x86_64  OK    OK    OK  UNNEEDED, same version is already published
tokay2Windows Server 2012 R2 Standard / x64  OK    OK    OK    OK  UNNEEDED, same version is already published
machv2macOS 10.14.6 Mojave / x86_64  OK    OK    OK    OK  UNNEEDED, same version is already published
Package 164/256HostnameOS / ArchINSTALLBUILDCHECKBUILD BIN
NPARC 1.4.0  (landing page)
Nils Kurzawa
Last Commit: 12d4ac2
Last Changed Date: 2021-05-19 12:48:29 -0400
nebbiolo1Linux (Ubuntu 20.04.2 LTS) / x86_64  OK    OK    OK  UNNEEDED, same version is already published
tokay2Windows Server 2012 R2 Standard / x64  OK    OK    OK    OK  UNNEEDED, same version is already published
machv2macOS 10.14.6 Mojave / x86_64  OK    OK    OK    OK  UNNEEDED, same version is already published
Package 165/256HostnameOS / ArchINSTALLBUILDCHECKBUILD BIN
OmicsLonDA 1.8.0  (landing page)
Ahmed A. Metwally
Last Commit: edcb4b5
Last Changed Date: 2021-05-19 12:43:09 -0400
nebbiolo1Linux (Ubuntu 20.04.2 LTS) / x86_64  OK    OK    OK  UNNEEDED, same version is already published
tokay2Windows Server 2012 R2 Standard / x64  OK    OK    OK    OK  UNNEEDED, same version is already published
machv2macOS 10.14.6 Mojave / x86_64  OK    OK    OK    OK  UNNEEDED, same version is already published
Package 166/256HostnameOS / ArchINSTALLBUILDCHECKBUILD BIN
ORFik 1.12.3  (landing page)
Haakon Tjeldnes
Last Commit: 4f79df1
Last Changed Date: 2021-06-10 05:46:37 -0400
nebbiolo1Linux (Ubuntu 20.04.2 LTS) / x86_64  OK    OK    OK  YES
tokay2Windows Server 2012 R2 Standard / x64  OK    OK    OK    OK  YES
machv2macOS 10.14.6 Mojave / x86_64  OK    OK    OK    OK  YES
Package 167/256HostnameOS / ArchINSTALLBUILDCHECKBUILD BIN
Oscope 1.22.0  (landing page)
Ning Leng
Last Commit: 6dc2f86
Last Changed Date: 2021-05-19 12:14:54 -0400
nebbiolo1Linux (Ubuntu 20.04.2 LTS) / x86_64  OK    OK    OK  UNNEEDED, same version is already published
tokay2Windows Server 2012 R2 Standard / x64  OK    OK    OK    OK  UNNEEDED, same version is already published
machv2macOS 10.14.6 Mojave / x86_64  OK    OK    OK    OK  UNNEEDED, same version is already published
Package 168/256HostnameOS / ArchINSTALLBUILDCHECKBUILD BIN
OUTRIDER 1.10.0  (landing page)
Christian Mertes
Last Commit: c9c57ae
Last Changed Date: 2021-05-19 12:36:45 -0400
nebbiolo1Linux (Ubuntu 20.04.2 LTS) / x86_64  OK    OK    OK  UNNEEDED, same version is already published
tokay2Windows Server 2012 R2 Standard / x64  OK    OK    OK    OK  UNNEEDED, same version is already published
machv2macOS 10.14.6 Mojave / x86_64  OK    OK    OK    OK  UNNEEDED, same version is already published
Package 169/256HostnameOS / ArchINSTALLBUILDCHECKBUILD BIN
OVESEG 1.8.0  (landing page)
Lulu Chen
Last Commit: b69abfe
Last Changed Date: 2021-05-19 12:40:22 -0400
nebbiolo1Linux (Ubuntu 20.04.2 LTS) / x86_64  OK    OK    OK  UNNEEDED, same version is already published
tokay2Windows Server 2012 R2 Standard / x64  OK    OK    OK    OK  UNNEEDED, same version is already published
machv2macOS 10.14.6 Mojave / x86_64  OK    OK    OK    OK  UNNEEDED, same version is already published
Package 170/256HostnameOS / ArchINSTALLBUILDCHECKBUILD BIN
PAIRADISE 1.8.0  (landing page)
Qiang Hu , Levon Demirdjian
Last Commit: 90a8c7b
Last Changed Date: 2021-05-19 12:40:20 -0400
nebbiolo1Linux (Ubuntu 20.04.2 LTS) / x86_64  OK    OK    OK  UNNEEDED, same version is already published
tokay2Windows Server 2012 R2 Standard / x64  OK    OK    OK    OK  UNNEEDED, same version is already published
machv2macOS 10.14.6 Mojave / x86_64  OK    OK    OK    OK  UNNEEDED, same version is already published
Package 171/256HostnameOS / ArchINSTALLBUILDCHECKBUILD BIN
PCAN 1.20.0  (landing page)
Matthew Page and Patrice Godard
Last Commit: c07417b
Last Changed Date: 2021-05-19 12:18:43 -0400
nebbiolo1Linux (Ubuntu 20.04.2 LTS) / x86_64  OK    OK    OK  UNNEEDED, same version is already published
tokay2Windows Server 2012 R2 Standard / x64  OK    OK    TIMEOUT    OK  
machv2macOS 10.14.6 Mojave / x86_64  OK    OK    OK    OK  UNNEEDED, same version is already published
Package 172/256HostnameOS / ArchINSTALLBUILDCHECKBUILD BIN
PCAtools 2.4.0  (landing page)
Kevin Blighe
Last Commit: a3863ae
Last Changed Date: 2021-05-19 12:40:17 -0400
nebbiolo1Linux (Ubuntu 20.04.2 LTS) / x86_64  OK    OK    OK  UNNEEDED, same version is already published
tokay2Windows Server 2012 R2 Standard / x64  OK    OK    OK    OK  UNNEEDED, same version is already published
machv2macOS 10.14.6 Mojave / x86_64  OK    OK    OK    OK  UNNEEDED, same version is already published
Package 173/256HostnameOS / ArchINSTALLBUILDCHECKBUILD BIN
PDATK 1.0.0  (landing page)
Benjamin Haibe-Kains
Last Commit: c2b4494
Last Changed Date: 2021-05-19 13:00:12 -0400
nebbiolo1Linux (Ubuntu 20.04.2 LTS) / x86_64  OK    OK    OK  UNNEEDED, same version is already published
tokay2Windows Server 2012 R2 Standard / x64  OK    OK    OK    OK  UNNEEDED, same version is already published
machv2macOS 10.14.6 Mojave / x86_64  OK    OK    OK    OK  UNNEEDED, same version is already published
Package 174/256HostnameOS / ArchINSTALLBUILDCHECKBUILD BIN
periodicDNA 1.2.0  (landing page)
Jacques Serizay
Last Commit: 0a265ed
Last Changed Date: 2021-05-19 12:55:16 -0400
nebbiolo1Linux (Ubuntu 20.04.2 LTS) / x86_64  OK    OK    OK  UNNEEDED, same version is already published
tokay2Windows Server 2012 R2 Standard / x64  OK    OK    OK    OK  UNNEEDED, same version is already published
machv2macOS 10.14.6 Mojave / x86_64  OK    OK    OK    OK  UNNEEDED, same version is already published
Package 175/256HostnameOS / ArchINSTALLBUILDCHECKBUILD BIN
PharmacoGx 2.4.0  (landing page)
Benjamin Haibe-Kains
Last Commit: 1565ba6
Last Changed Date: 2021-05-19 12:22:31 -0400
nebbiolo1Linux (Ubuntu 20.04.2 LTS) / x86_64  OK    OK    OK  UNNEEDED, same version is already published
tokay2Windows Server 2012 R2 Standard / x64  OK    OK    OK    OK  UNNEEDED, same version is already published
machv2macOS 10.14.6 Mojave / x86_64  OK    OK    OK    OK  UNNEEDED, same version is already published
Package 176/256HostnameOS / ArchINSTALLBUILDCHECKBUILD BIN
pipeComp 1.2.0  (landing page)
Pierre-Luc Germain
Last Commit: b8a4bed
Last Changed Date: 2021-05-19 12:53:31 -0400
nebbiolo1Linux (Ubuntu 20.04.2 LTS) / x86_64  OK    OK    OK  UNNEEDED, same version is already published
tokay2Windows Server 2012 R2 Standard / x64  OK    OK    OK    OK  UNNEEDED, same version is already published
machv2macOS 10.14.6 Mojave / x86_64  OK    OK    OK    OK  UNNEEDED, same version is already published
Package 177/256HostnameOS / ArchINSTALLBUILDCHECKBUILD BIN
pram 1.8.0  (landing page)
Peng Liu
Last Commit: 3e967c2
Last Changed Date: 2021-05-19 12:41:41 -0400
nebbiolo1Linux (Ubuntu 20.04.2 LTS) / x86_64  OK    OK    OK  UNNEEDED, same version is already published
tokay2Windows Server 2012 R2 Standard / x64  OK    OK    OK    OK  UNNEEDED, same version is already published
machv2macOS 10.14.6 Mojave / x86_64  OK    OK    OK    OK  UNNEEDED, same version is already published
Package 178/256HostnameOS / ArchINSTALLBUILDCHECKBUILD BIN
PrecisionTrialDrawer 1.8.0  (landing page)
Giorgio Melloni
Last Commit: 8690c66
Last Changed Date: 2021-05-19 12:39:54 -0400
nebbiolo1Linux (Ubuntu 20.04.2 LTS) / x86_64  OK    OK    OK  UNNEEDED, same version is already published
tokay2Windows Server 2012 R2 Standard / x64  OK    OK    OK    OK  UNNEEDED, same version is already published
machv2macOS 10.14.6 Mojave / x86_64  OK    OK    OK    OK  UNNEEDED, same version is already published
Package 179/256HostnameOS / ArchINSTALLBUILDCHECKBUILD BIN
proActiv 1.2.0  (landing page)
Joseph Lee
Last Commit: 0a66788
Last Changed Date: 2021-05-19 12:55:29 -0400
nebbiolo1Linux (Ubuntu 20.04.2 LTS) / x86_64  OK    OK    OK  UNNEEDED, same version is already published
tokay2Windows Server 2012 R2 Standard / x64  OK    OK    OK    OK  UNNEEDED, same version is already published
machv2macOS 10.14.6 Mojave / x86_64  OK    OK    OK    OK  UNNEEDED, same version is already published
Package 180/256HostnameOS / ArchINSTALLBUILDCHECKBUILD BIN
proFIA 1.18.0  (landing page)
Alexis Delabriere
Last Commit: ce749bb
Last Changed Date: 2021-05-19 12:24:19 -0400
nebbiolo1Linux (Ubuntu 20.04.2 LTS) / x86_64  OK    OK    WARNINGS  UNNEEDED, same version is already published
tokay2Windows Server 2012 R2 Standard / x64  OK    OK    WARNINGS    OK  UNNEEDED, same version is already published
machv2macOS 10.14.6 Mojave / x86_64  OK    OK    WARNINGS    OK  UNNEEDED, same version is already published
Package 181/256HostnameOS / ArchINSTALLBUILDCHECKBUILD BIN
profileplyr 1.8.0  (landing page)
Tom Carroll , Doug Barrows
Last Commit: db083b3
Last Changed Date: 2021-05-19 12:42:46 -0400
nebbiolo1Linux (Ubuntu 20.04.2 LTS) / x86_64  OK    OK    OK  UNNEEDED, same version is already published
tokay2Windows Server 2012 R2 Standard / x64  OK    OK    OK    OK  UNNEEDED, same version is already published
machv2macOS 10.14.6 Mojave / x86_64  OK    OK    OK    OK  UNNEEDED, same version is already published
Package 182/256HostnameOS / ArchINSTALLBUILDCHECKBUILD BIN
pRoloc 1.32.0  (landing page)
Laurent Gatto
Last Commit: 637f4c7
Last Changed Date: 2021-05-19 11:54:49 -0400
nebbiolo1Linux (Ubuntu 20.04.2 LTS) / x86_64  OK    OK    OK  UNNEEDED, same version is already published
tokay2Windows Server 2012 R2 Standard / x64  OK    OK    OK    OK  UNNEEDED, same version is already published
machv2macOS 10.14.6 Mojave / x86_64  OK    OK    OK    OK  UNNEEDED, same version is already published
Package 183/256HostnameOS / ArchINSTALLBUILDCHECKBUILD BIN
qpgraph 2.26.0  (landing page)
Robert Castelo
Last Commit: 80062b5
Last Changed Date: 2021-05-19 11:42:31 -0400
nebbiolo1Linux (Ubuntu 20.04.2 LTS) / x86_64  OK    OK    WARNINGS  UNNEEDED, same version is already published
tokay2Windows Server 2012 R2 Standard / x64  OK    OK    WARNINGS    OK  UNNEEDED, same version is already published
machv2macOS 10.14.6 Mojave / x86_64  OK    OK    WARNINGS    OK  UNNEEDED, same version is already published
Package 184/256HostnameOS / ArchINSTALLBUILDCHECKBUILD BIN
qsea 1.18.0  (landing page)
Matthias Lienhard
Last Commit: f23006b
Last Changed Date: 2021-05-19 12:21:24 -0400
nebbiolo1Linux (Ubuntu 20.04.2 LTS) / x86_64  OK    OK    OK  UNNEEDED, same version is already published
tokay2Windows Server 2012 R2 Standard / x64  OK    OK    OK    OK  UNNEEDED, same version is already published
machv2macOS 10.14.6 Mojave / x86_64  OK    OK    OK    OK  UNNEEDED, same version is already published
Package 185/256HostnameOS / ArchINSTALLBUILDCHECKBUILD BIN
QuasR 1.32.0  (landing page)
Michael Stadler
Last Commit: b24d275
Last Changed Date: 2021-05-19 11:55:11 -0400
nebbiolo1Linux (Ubuntu 20.04.2 LTS) / x86_64  OK    OK    OK  UNNEEDED, same version is already published
tokay2Windows Server 2012 R2 Standard / x64  OK    OK    OK    OK  UNNEEDED, same version is already published
machv2macOS 10.14.6 Mojave / x86_64  OK    OK    OK    OK  UNNEEDED, same version is already published
Package 186/256HostnameOS / ArchINSTALLBUILDCHECKBUILD BIN
RadioGx 1.2.0  (landing page)
Benjamin Haibe-Kains
Last Commit: fdb4a45
Last Changed Date: 2021-05-19 12:53:17 -0400
nebbiolo1Linux (Ubuntu 20.04.2 LTS) / x86_64  OK    OK    OK  UNNEEDED, same version is already published
tokay2Windows Server 2012 R2 Standard / x64  OK    OK    OK    OK  UNNEEDED, same version is already published
machv2macOS 10.14.6 Mojave / x86_64  OK    OK    OK    OK  UNNEEDED, same version is already published
Package 187/256HostnameOS / ArchINSTALLBUILDCHECKBUILD BIN
Rcwl 1.8.0  (landing page)
Qiang Hu
Last Commit: 457ff58
Last Changed Date: 2021-05-19 12:41:00 -0400
nebbiolo1Linux (Ubuntu 20.04.2 LTS) / x86_64  OK    OK    OK  UNNEEDED, same version is already published
tokay2Windows Server 2012 R2 Standard / x64... NOT SUPPORTED ...
machv2macOS 10.14.6 Mojave / x86_64  OK    OK    OK    OK  UNNEEDED, same version is already published
Package 188/256HostnameOS / ArchINSTALLBUILDCHECKBUILD BIN
recount 1.18.0  (landing page)
Leonardo Collado-Torres
Last Commit: 7a89a26
Last Changed Date: 2021-05-19 12:22:09 -0400
nebbiolo1Linux (Ubuntu 20.04.2 LTS) / x86_64  OK    OK    OK  UNNEEDED, same version is already published
tokay2Windows Server 2012 R2 Standard / x64  OK    OK    ERROR    OK  
machv2macOS 10.14.6 Mojave / x86_64  OK    OK    OK    OK  UNNEEDED, same version is already published
Package 189/256HostnameOS / ArchINSTALLBUILDCHECKBUILD BIN
RegEnrich 1.2.0  (landing page)
Weiyang Tao
Last Commit: 65372ae
Last Changed Date: 2021-05-19 12:53:09 -0400
nebbiolo1Linux (Ubuntu 20.04.2 LTS) / x86_64  OK    OK    OK  UNNEEDED, same version is already published
tokay2Windows Server 2012 R2 Standard / x64  OK    OK    OK    OK  UNNEEDED, same version is already published
machv2macOS 10.14.6 Mojave / x86_64  OK    OK    OK    OK  UNNEEDED, same version is already published
Package 190/256HostnameOS / ArchINSTALLBUILDCHECKBUILD BIN
REMP 1.16.0  (landing page)
Yinan Zheng
Last Commit: 9be0aa3
Last Changed Date: 2021-05-19 12:25:51 -0400
nebbiolo1Linux (Ubuntu 20.04.2 LTS) / x86_64  OK    OK    OK  UNNEEDED, same version is already published
tokay2Windows Server 2012 R2 Standard / x64  OK    OK    OK    OK  UNNEEDED, same version is already published
machv2macOS 10.14.6 Mojave / x86_64  OK    OK    OK    OK  UNNEEDED, same version is already published
Package 191/256HostnameOS / ArchINSTALLBUILDCHECKBUILD BIN
RJMCMCNucleosomes 1.16.0  (landing page)
Astrid Deschênes
Last Commit: ff26964
Last Changed Date: 2021-05-19 12:25:12 -0400
nebbiolo1Linux (Ubuntu 20.04.2 LTS) / x86_64  OK    OK    OK  UNNEEDED, same version is already published
tokay2Windows Server 2012 R2 Standard / x64  OK    OK    OK    OK  UNNEEDED, same version is already published
machv2macOS 10.14.6 Mojave / x86_64  OK    OK    OK    OK  UNNEEDED, same version is already published
Package 192/256HostnameOS / ArchINSTALLBUILDCHECKBUILD BIN
RNAmodR 1.6.0  (landing page)
Felix G.M. Ernst
Last Commit: c7b25bf
Last Changed Date: 2021-05-19 12:44:18 -0400
nebbiolo1Linux (Ubuntu 20.04.2 LTS) / x86_64  OK    OK    OK  UNNEEDED, same version is already published
tokay2Windows Server 2012 R2 Standard / x64  OK    OK    OK    OK  UNNEEDED, same version is already published
machv2macOS 10.14.6 Mojave / x86_64  OK    OK    OK    OK  UNNEEDED, same version is already published
Package 193/256HostnameOS / ArchINSTALLBUILDCHECKBUILD BIN
Rqc 1.26.0  (landing page)
Welliton Souza
Last Commit: 1c1c91a
Last Changed Date: 2021-05-19 12:09:26 -0400
nebbiolo1Linux (Ubuntu 20.04.2 LTS) / x86_64  OK    OK    OK  UNNEEDED, same version is already published
tokay2Windows Server 2012 R2 Standard / x64  OK    OK    TIMEOUT    OK  
machv2macOS 10.14.6 Mojave / x86_64  OK    OK    OK    OK  UNNEEDED, same version is already published
Package 194/256HostnameOS / ArchINSTALLBUILDCHECKBUILD BIN
Rsamtools 2.8.0  (landing page)
Bioconductor Package Maintainer
Last Commit: 45d46ab
Last Changed Date: 2021-05-19 11:45:07 -0400
nebbiolo1Linux (Ubuntu 20.04.2 LTS) / x86_64  OK    OK    WARNINGS  UNNEEDED, same version is already published
tokay2Windows Server 2012 R2 Standard / x64  OK    OK    WARNINGS    OK  UNNEEDED, same version is already published
machv2macOS 10.14.6 Mojave / x86_64  OK    OK    WARNINGS    OK  UNNEEDED, same version is already published
Package 195/256HostnameOS / ArchINSTALLBUILDCHECKBUILD BIN
RUVcorr 1.24.0  (landing page)
Saskia Freytag
Last Commit: 2673612
Last Changed Date: 2021-05-19 12:12:45 -0400
nebbiolo1Linux (Ubuntu 20.04.2 LTS) / x86_64  OK    OK    WARNINGS  UNNEEDED, same version is already published
tokay2Windows Server 2012 R2 Standard / x64  OK    OK    WARNINGS    OK  UNNEEDED, same version is already published
machv2macOS 10.14.6 Mojave / x86_64  OK    OK    WARNINGS    OK  UNNEEDED, same version is already published
Package 196/256HostnameOS / ArchINSTALLBUILDCHECKBUILD BIN
satuRn 1.0.0  (landing page)
Jeroen Gilis
Last Commit: d3fe0b2
Last Changed Date: 2021-05-19 12:59:54 -0400
nebbiolo1Linux (Ubuntu 20.04.2 LTS) / x86_64  OK    OK    OK  UNNEEDED, same version is already published
tokay2Windows Server 2012 R2 Standard / x64  OK    OK    OK    OK  UNNEEDED, same version is already published
machv2macOS 10.14.6 Mojave / x86_64  OK    OK    OK    OK  UNNEEDED, same version is already published
Package 197/256HostnameOS / ArchINSTALLBUILDCHECKBUILD BIN
scater 1.20.0  (landing page)
Alan O'Callaghan
Last Commit: 6ff9103
Last Changed Date: 2021-05-19 12:18:03 -0400
nebbiolo1Linux (Ubuntu 20.04.2 LTS) / x86_64  OK    OK    OK  UNNEEDED, same version is already published
tokay2Windows Server 2012 R2 Standard / x64  OK    OK    OK    OK  UNNEEDED, same version is already published
machv2macOS 10.14.6 Mojave / x86_64  OK    OK    OK    OK  UNNEEDED, same version is already published
Package 198/256HostnameOS / ArchINSTALLBUILDCHECKBUILD BIN
scClassify 1.4.0  (landing page)
Yingxin Lin
Last Commit: 11b64e3
Last Changed Date: 2021-05-19 12:51:48 -0400
nebbiolo1Linux (Ubuntu 20.04.2 LTS) / x86_64  OK    OK    OK  UNNEEDED, same version is already published
tokay2Windows Server 2012 R2 Standard / x64  OK    OK    OK    OK  UNNEEDED, same version is already published
machv2macOS 10.14.6 Mojave / x86_64  OK    OK    OK    OK  UNNEEDED, same version is already published
Package 199/256HostnameOS / ArchINSTALLBUILDCHECKBUILD BIN
scDblFinder 1.6.0  (landing page)
Pierre-Luc Germain
Last Commit: e5c1a83
Last Changed Date: 2021-05-19 12:47:35 -0400
nebbiolo1Linux (Ubuntu 20.04.2 LTS) / x86_64  OK    OK    WARNINGS  UNNEEDED, same version is already published
tokay2Windows Server 2012 R2 Standard / x64  OK    OK    WARNINGS    OK  UNNEEDED, same version is already published
machv2macOS 10.14.6 Mojave / x86_64  OK    OK    WARNINGS    OK  UNNEEDED, same version is already published
Package 200/256HostnameOS / ArchINSTALLBUILDCHECKBUILD BIN
scDD 1.16.0  (landing page)
Keegan Korthauer
Last Commit: 05c6b7b
Last Changed Date: 2021-05-19 12:25:01 -0400
nebbiolo1Linux (Ubuntu 20.04.2 LTS) / x86_64  OK    OK    OK  UNNEEDED, same version is already published
tokay2Windows Server 2012 R2 Standard / x64  OK    OK    OK    OK  UNNEEDED, same version is already published
machv2macOS 10.14.6 Mojave / x86_64  OK    OK    OK    OK  UNNEEDED, same version is already published
Package 201/256HostnameOS / ArchINSTALLBUILDCHECKBUILD BIN
scde 2.20.0  (landing page)
Jean Fan
Last Commit: d19d2a0
Last Changed Date: 2021-05-19 12:16:38 -0400
nebbiolo1Linux (Ubuntu 20.04.2 LTS) / x86_64  OK    OK    WARNINGS  UNNEEDED, same version is already published
tokay2Windows Server 2012 R2 Standard / x64  OK    OK    WARNINGS    OK  UNNEEDED, same version is already published
machv2macOS 10.14.6 Mojave / x86_64  OK    OK    WARNINGS    OK  UNNEEDED, same version is already published
Package 202/256HostnameOS / ArchINSTALLBUILDCHECKBUILD BIN
SCFA 1.2.0  (landing page)
Duc Tran
Last Commit: 9619dda
Last Changed Date: 2021-05-19 12:57:03 -0400
nebbiolo1Linux (Ubuntu 20.04.2 LTS) / x86_64  OK    OK    OK  UNNEEDED, same version is already published
tokay2Windows Server 2012 R2 Standard / x64  OK    OK    OK    OK  UNNEEDED, same version is already published
machv2macOS 10.14.6 Mojave / x86_64  OK    OK    OK    OK  UNNEEDED, same version is already published
Package 203/256HostnameOS / ArchINSTALLBUILDCHECKBUILD BIN
scHOT 1.4.0  (landing page)
Shila Ghazanfar
Last Commit: 55a2ef4
Last Changed Date: 2021-05-19 12:51:20 -0400
nebbiolo1Linux (Ubuntu 20.04.2 LTS) / x86_64  OK    OK    OK  UNNEEDED, same version is already published
tokay2Windows Server 2012 R2 Standard / x64  OK    OK    OK    OK  UNNEEDED, same version is already published
machv2macOS 10.14.6 Mojave / x86_64  OK    OK    OK    OK  UNNEEDED, same version is already published
Package 204/256HostnameOS / ArchINSTALLBUILDCHECKBUILD BIN
scMerge 1.8.0  (landing page)
Yingxin Lin
Last Commit: b558998
Last Changed Date: 2021-05-19 12:43:22 -0400
nebbiolo1Linux (Ubuntu 20.04.2 LTS) / x86_64  OK    OK    OK  UNNEEDED, same version is already published
tokay2Windows Server 2012 R2 Standard / x64  OK    OK    OK    OK  UNNEEDED, same version is already published
machv2macOS 10.14.6 Mojave / x86_64  OK    OK    OK    OK  UNNEEDED, same version is already published
Package 205/256HostnameOS / ArchINSTALLBUILDCHECKBUILD BIN
SCnorm 1.14.0  (landing page)
Rhonda Bacher
Last Commit: b6a7f61
Last Changed Date: 2021-05-19 12:29:09 -0400
nebbiolo1Linux (Ubuntu 20.04.2 LTS) / x86_64  OK    OK    OK  UNNEEDED, same version is already published
tokay2Windows Server 2012 R2 Standard / x64  OK    OK    OK    OK  UNNEEDED, same version is already published
machv2macOS 10.14.6 Mojave / x86_64  OK    OK    OK    OK  UNNEEDED, same version is already published
Package 206/256HostnameOS / ArchINSTALLBUILDCHECKBUILD BIN
scone 1.16.0  (landing page)
Davide Risso
Last Commit: ad9c08b
Last Changed Date: 2021-05-19 12:25:07 -0400
nebbiolo1Linux (Ubuntu 20.04.2 LTS) / x86_64  OK    OK    OK  UNNEEDED, same version is already published
tokay2Windows Server 2012 R2 Standard / x64  OK    OK    OK    OK  UNNEEDED, same version is already published
machv2macOS 10.14.6 Mojave / x86_64  OK    OK    OK    OK  UNNEEDED, same version is already published
Package 207/256HostnameOS / ArchINSTALLBUILDCHECKBUILD BIN
scoreInvHap 1.14.0  (landing page)
Dolors Pelegri-Siso
Last Commit: 484fe25
Last Changed Date: 2021-05-19 12:28:35 -0400
nebbiolo1Linux (Ubuntu 20.04.2 LTS) / x86_64  OK    OK    OK  UNNEEDED, same version is already published
tokay2Windows Server 2012 R2 Standard / x64  OK    OK    OK    OK  UNNEEDED, same version is already published
machv2macOS 10.14.6 Mojave / x86_64  OK    OK    OK    OK  UNNEEDED, same version is already published
Package 208/256HostnameOS / ArchINSTALLBUILDCHECK