Back to Multiple platform build/check report for BioC 3.13
A[B]CDEFGHIJKLMNOPQRSTUVWXYZ

This page was generated on 2021-07-30 15:06:17 -0400 (Fri, 30 Jul 2021).

BUILD results for BiocOncoTK on machv2

To the developers/maintainers of the BiocOncoTK package:
- Please allow up to 24 hours (and sometimes 48 hours) for your latest push to git@git.bioconductor.org:packages/BiocOncoTK.git to
reflect on this report. See How and When does the builder pull? When will my changes propagate? here for more information.
- Make sure to use the following settings in order to reproduce any error or warning you see on this page.

raw results

Package 166/2041HostnameOS / ArchINSTALLBUILDCHECKBUILD BIN
BiocOncoTK 1.12.1  (landing page)
VJ Carey
Snapshot Date: 2021-07-29 04:50:02 -0400 (Thu, 29 Jul 2021)
URL: https://git.bioconductor.org/packages/BiocOncoTK
Branch: RELEASE_3_13
Last Commit: 5b4a389
Last Changed Date: 2021-06-28 15:44:05 -0400 (Mon, 28 Jun 2021)
nebbiolo1Linux (Ubuntu 20.04.2 LTS) / x86_64  OK    OK    OK  UNNEEDED, same version is already published
tokay2Windows Server 2012 R2 Standard / x64  OK    OK    OK    OK  UNNEEDED, same version is already published
machv2macOS 10.14.6 Mojave / x86_64  OK    OK    OK    OK  UNNEEDED, same version is already published

Summary

Package: BiocOncoTK
Version: 1.12.1
Command: /Library/Frameworks/R.framework/Versions/Current/Resources/bin/R CMD build --keep-empty-dirs --no-resave-data BiocOncoTK
StartedAt: 2021-07-29 10:33:05 -0400 (Thu, 29 Jul 2021)
EndedAt: 2021-07-29 10:35:07 -0400 (Thu, 29 Jul 2021)
EllapsedTime: 121.8 seconds
RetCode: 0
Status:   OK  
PackageFile: BiocOncoTK_1.12.1.tar.gz
PackageFileSize: 9.391 MiB

Command output

##############################################################################
##############################################################################
###
### Running command:
###
###   /Library/Frameworks/R.framework/Versions/Current/Resources/bin/R CMD build --keep-empty-dirs --no-resave-data BiocOncoTK
###
##############################################################################
##############################################################################


* checking for file ‘BiocOncoTK/DESCRIPTION’ ... OK
* preparing ‘BiocOncoTK’:
* checking DESCRIPTION meta-information ... OK
* installing the package to build vignettes
* creating vignettes ... OK
* checking for LF line-endings in source and make files and shell scripts
* checking for empty or unneeded directories
* building ‘BiocOncoTK_1.12.1.tar.gz’