Back to Multiple platform build/check report for BioC 3.13
A[B]CDEFGHIJKLMNOPQRSTUVWXYZ

This page was generated on 2021-09-20 15:04:44 -0400 (Mon, 20 Sep 2021).

BUILD results for BiocNeighbors on nebbiolo1

To the developers/maintainers of the BiocNeighbors package:
- Please allow up to 24 hours (and sometimes 48 hours) for your latest push to git@git.bioconductor.org:packages/BiocNeighbors.git to
reflect on this report. See How and When does the builder pull? When will my changes propagate? here for more information.
- Make sure to use the following settings in order to reproduce any error or warning you see on this page.

raw results

Package 165/2041HostnameOS / ArchINSTALLBUILDCHECKBUILD BIN
BiocNeighbors 1.10.0  (landing page)
Aaron Lun
Snapshot Date: 2021-09-19 04:50:10 -0400 (Sun, 19 Sep 2021)
git_url: https://git.bioconductor.org/packages/BiocNeighbors
git_branch: RELEASE_3_13
git_last_commit: c6779d6
git_last_commit_date: 2021-05-19 12:36:35 -0400 (Wed, 19 May 2021)
nebbiolo1Linux (Ubuntu 20.04.2 LTS) / x86_64  OK    OK    OK  UNNEEDED, same version is already published
tokay2Windows Server 2012 R2 Standard / x64  OK    OK    OK    OK  UNNEEDED, same version is already published
machv2macOS 10.14.6 Mojave / x86_64  OK    OK    OK    OK  UNNEEDED, same version is already published

Summary

Package: BiocNeighbors
Version: 1.10.0
Command: /home/biocbuild/bbs-3.13-bioc/R/bin/R CMD build --keep-empty-dirs --no-resave-data BiocNeighbors
StartedAt: 2021-09-19 06:46:08 -0400 (Sun, 19 Sep 2021)
EndedAt: 2021-09-19 06:49:07 -0400 (Sun, 19 Sep 2021)
EllapsedTime: 178.8 seconds
RetCode: 0
Status:   OK  
PackageFile: BiocNeighbors_1.10.0.tar.gz
PackageFileSize: 914.4 KiB

Command output

##############################################################################
##############################################################################
###
### Running command:
###
###   /home/biocbuild/bbs-3.13-bioc/R/bin/R CMD build --keep-empty-dirs --no-resave-data BiocNeighbors
###
##############################################################################
##############################################################################


* checking for file ‘BiocNeighbors/DESCRIPTION’ ... OK
* preparing ‘BiocNeighbors’:
* checking DESCRIPTION meta-information ... OK
* cleaning src
* installing the package to build vignettes
* creating vignettes ... OK
* cleaning src
* checking for LF line-endings in source and make files and shell scripts
* checking for empty or unneeded directories
* building ‘BiocNeighbors_1.10.0.tar.gz’