Back to Multiple platform build/check report for BioC 3.13
A[B]CDEFGHIJKLMNOPQRSTUVWXYZ

This page was generated on 2021-09-24 15:06:03 -0400 (Fri, 24 Sep 2021).

INSTALL results for BiocIO on tokay2

To the developers/maintainers of the BiocIO package:
- Please allow up to 24 hours (and sometimes 48 hours) for your latest push to git@git.bioconductor.org:packages/BiocIO.git to
reflect on this report. See How and When does the builder pull? When will my changes propagate? here for more information.
- Make sure to use the following settings in order to reproduce any error or warning you see on this page.

raw results

Package 164/2041HostnameOS / ArchINSTALLBUILDCHECKBUILD BIN
BiocIO 1.2.0  (landing page)
Bioconductor Package Maintainer
Snapshot Date: 2021-09-23 04:50:12 -0400 (Thu, 23 Sep 2021)
git_url: https://git.bioconductor.org/packages/BiocIO
git_branch: RELEASE_3_13
git_last_commit: fef4c1c
git_last_commit_date: 2021-05-19 12:54:48 -0400 (Wed, 19 May 2021)
nebbiolo1Linux (Ubuntu 20.04.2 LTS) / x86_64  OK    OK    OK  UNNEEDED, same version is already published
tokay2Windows Server 2012 R2 Standard / x64  OK    OK    OK    OK  UNNEEDED, same version is already published
machv2macOS 10.14.6 Mojave / x86_64  OK    OK    OK    OK  UNNEEDED, same version is already published

Summary

Package: BiocIO
Version: 1.2.0
Command: C:\cygwin\bin\curl.exe -O http://155.52.207.165/BBS/3.13/bioc/src/contrib/BiocIO_1.2.0.tar.gz && rm -rf BiocIO.buildbin-libdir && mkdir BiocIO.buildbin-libdir && C:\Users\biocbuild\bbs-3.13-bioc\R\bin\R.exe CMD INSTALL --merge-multiarch --build --library=BiocIO.buildbin-libdir BiocIO_1.2.0.tar.gz && C:\Users\biocbuild\bbs-3.13-bioc\R\bin\R.exe CMD INSTALL BiocIO_1.2.0.zip && rm BiocIO_1.2.0.tar.gz BiocIO_1.2.0.zip
StartedAt: 2021-09-23 09:13:23 -0400 (Thu, 23 Sep 2021)
EndedAt: 2021-09-23 09:14:31 -0400 (Thu, 23 Sep 2021)
EllapsedTime: 67.8 seconds
RetCode: 0
Status:   OK  

Command output

##############################################################################
##############################################################################
###
### Running command:
###
###   C:\cygwin\bin\curl.exe -O http://155.52.207.165/BBS/3.13/bioc/src/contrib/BiocIO_1.2.0.tar.gz && rm -rf BiocIO.buildbin-libdir && mkdir BiocIO.buildbin-libdir && C:\Users\biocbuild\bbs-3.13-bioc\R\bin\R.exe CMD INSTALL --merge-multiarch --build --library=BiocIO.buildbin-libdir BiocIO_1.2.0.tar.gz && C:\Users\biocbuild\bbs-3.13-bioc\R\bin\R.exe CMD INSTALL BiocIO_1.2.0.zip && rm BiocIO_1.2.0.tar.gz BiocIO_1.2.0.zip
###
##############################################################################
##############################################################################


  % Total    % Received % Xferd  Average Speed   Time    Time     Time  Current
                                 Dload  Upload   Total   Spent    Left  Speed

  0     0    0     0    0     0      0      0 --:--:-- --:--:-- --:--:--     0
100  8713  100  8713    0     0   104k      0 --:--:-- --:--:-- --:--:--  105k

install for i386

* installing *source* package 'BiocIO' ...
** using staged installation
** R
** byte-compile and prepare package for lazy loading
** help
*** installing help indices
  converting help for package 'BiocIO'
    finding HTML links ... done
    BiocFile-class                          html  
    export                                  html  
** building package indices
** installing vignettes
** testing if installed package can be loaded from temporary location
** testing if installed package can be loaded from final location
** testing if installed package keeps a record of temporary installation path

install for x64

* installing *source* package 'BiocIO' ...
** testing if installed package can be loaded
* MD5 sums
packaged installation of 'BiocIO' as BiocIO_1.2.0.zip
* DONE (BiocIO)
* installing to library 'C:/Users/biocbuild/bbs-3.13-bioc/R/library'
package 'BiocIO' successfully unpacked and MD5 sums checked