Back to Multiple platform build/check report for BioC 3.13
A[B]CDEFGHIJKLMNOPQRSTUVWXYZ

This page was generated on 2021-10-13 15:04:55 -0400 (Wed, 13 Oct 2021).

BUILD results for BiocIO on nebbiolo1

To the developers/maintainers of the BiocIO package:
- Please allow up to 24 hours (and sometimes 48 hours) for your latest push to git@git.bioconductor.org:packages/BiocIO.git to
reflect on this report. See How and When does the builder pull? When will my changes propagate? here for more information.
- Make sure to use the following settings in order to reproduce any error or warning you see on this page.

raw results

Package 164/2041HostnameOS / ArchINSTALLBUILDCHECKBUILD BIN
BiocIO 1.2.0  (landing page)
Bioconductor Package Maintainer
Snapshot Date: 2021-10-12 04:50:13 -0400 (Tue, 12 Oct 2021)
git_url: https://git.bioconductor.org/packages/BiocIO
git_branch: RELEASE_3_13
git_last_commit: fef4c1c
git_last_commit_date: 2021-05-19 12:54:48 -0400 (Wed, 19 May 2021)
nebbiolo1Linux (Ubuntu 20.04.2 LTS) / x86_64  OK    OK    OK  UNNEEDED, same version is already published
tokay2Windows Server 2012 R2 Standard / x64  OK    OK    OK    OK  UNNEEDED, same version is already published
machv2macOS 10.14.6 Mojave / x86_64  OK    OK    OK    OK  UNNEEDED, same version is already published

Summary

Package: BiocIO
Version: 1.2.0
Command: /home/biocbuild/bbs-3.13-bioc/R/bin/R CMD build --keep-empty-dirs --no-resave-data BiocIO
StartedAt: 2021-10-12 06:52:10 -0400 (Tue, 12 Oct 2021)
EndedAt: 2021-10-12 06:52:16 -0400 (Tue, 12 Oct 2021)
EllapsedTime: 6.7 seconds
RetCode: 0
Status:   OK  
PackageFile: BiocIO_1.2.0.tar.gz
PackageFileSize: 223.6 KiB

Command output

##############################################################################
##############################################################################
###
### Running command:
###
###   /home/biocbuild/bbs-3.13-bioc/R/bin/R CMD build --keep-empty-dirs --no-resave-data BiocIO
###
##############################################################################
##############################################################################


* checking for file ‘BiocIO/DESCRIPTION’ ... OK
* preparing ‘BiocIO’:
* checking DESCRIPTION meta-information ... OK
* installing the package to build vignettes
* creating vignettes ... OK
* checking for LF line-endings in source and make files and shell scripts
* checking for empty or unneeded directories
Omitted ‘LazyData’ from DESCRIPTION
* building ‘BiocIO_1.2.0.tar.gz’