Back to Multiple platform build/check report for BioC 3.18:   simplified   long
A[B]CDEFGHIJKLMNOPQRSTUVWXYZ

This page was generated on 2024-03-29 11:34:48 -0400 (Fri, 29 Mar 2024).

HostnameOSArch (*)R versionInstalled pkgs
nebbiolo2Linux (Ubuntu 22.04.3 LTS)x86_644.3.3 (2024-02-29) -- "Angel Food Cake" 4669
palomino4Windows Server 2022 Datacenterx644.3.3 (2024-02-29 ucrt) -- "Angel Food Cake" 4404
merida1macOS 12.7.1 Montereyx86_644.3.3 (2024-02-29) -- "Angel Food Cake" 4427
Click on any hostname to see more info about the system (e.g. compilers)      (*) as reported by 'uname -p', except on Windows and Mac OS X

All results for package BiocGenerics


To the developers/maintainers of the BiocGenerics package:
- Allow up to 24 hours (and sometimes 48 hours) for your latest push to git@git.bioconductor.org:packages/BiocGenerics.git to reflect on this report. See Troubleshooting Build Report for more information.
- Use the following Renviron settings to reproduce errors and warnings.
- If 'R CMD check' started to fail recently on the Linux builder(s) over a missing dependency, add the missing dependency to 'Suggests:' in your DESCRIPTION file. See Renviron.bioc for more information.

raw results

Package 177/2266HostnameOS / ArchINSTALLBUILDCHECKBUILD BIN
BiocGenerics 0.48.1  (landing page)
Hervé Pagès
Snapshot Date: 2024-03-27 14:05:05 -0400 (Wed, 27 Mar 2024)
git_url: https://git.bioconductor.org/packages/BiocGenerics
git_branch: RELEASE_3_18
git_last_commit: 5fd6dfe
git_last_commit_date: 2023-10-31 17:44:47 -0400 (Tue, 31 Oct 2023)
nebbiolo2Linux (Ubuntu 22.04.3 LTS) / x86_64  OK    OK    WARNINGS  UNNEEDED, same version is already published
palomino4Windows Server 2022 Datacenter / x64  OK    OK    WARNINGS    OK  UNNEEDED, same version is already published
merida1macOS 12.7.1 Monterey / x86_64  OK    OK    WARNINGS    OK  UNNEEDED, same version is already published
kjohnson1macOS 13.6.1 Ventura / arm64see weekly results here

Results for Bioconductor software packages that depend directly on package BiocGenerics

QUICK STATSOS / ArchINSTALLBUILDCHECKBUILD BIN
nebbiolo2Linux (Ubuntu 22.04.3 LTS) / x86_64
07477
014470
37120340
palomino4Windows Server 2022 Datacenter / x64
07467
012462
112105344
00462
merida1macOS 12.7.1 Monterey / x86_64
09470
018461
37111340
00461
Package 1/484HostnameOS / ArchINSTALLBUILDCHECKBUILD BIN
a4Preproc 1.50.0  (landing page)
Laure Cougnaud
git_last_commit: 7f02ff9
git_last_commit_date: 2023-10-24 09:46:31 -0400
nebbiolo2Linux (Ubuntu 22.04.3 LTS) / x86_64  OK    OK    OK  UNNEEDED, same version is already published
palomino4Windows Server 2022 Datacenter / x64  OK    OK    OK    OK  UNNEEDED, same version is already published
merida1macOS 12.7.1 Monterey / x86_64  OK    OK    OK    OK  UNNEEDED, same version is already published
kjohnson1macOS 13.6.1 Ventura / arm64see weekly results here
Package 2/484HostnameOS / ArchINSTALLBUILDCHECKBUILD BIN
ACME 2.58.0  (landing page)
Sean Davis
git_last_commit: 1b192d9
git_last_commit_date: 2023-10-24 09:38:13 -0400
nebbiolo2Linux (Ubuntu 22.04.3 LTS) / x86_64  OK    OK    WARNINGS  UNNEEDED, same version is already published
palomino4Windows Server 2022 Datacenter / x64  OK    OK    WARNINGS    OK  UNNEEDED, same version is already published
merida1macOS 12.7.1 Monterey / x86_64  OK    OK    OK    OK  UNNEEDED, same version is already published
kjohnson1macOS 13.6.1 Ventura / arm64see weekly results here
Package 3/484HostnameOS / ArchINSTALLBUILDCHECKBUILD BIN
affy 1.80.0  (landing page)
Robert D. Shear
git_last_commit: a0d64df
git_last_commit_date: 2023-10-24 09:31:50 -0400
nebbiolo2Linux (Ubuntu 22.04.3 LTS) / x86_64  OK    OK    WARNINGS  UNNEEDED, same version is already published
palomino4Windows Server 2022 Datacenter / x64  OK    OK    WARNINGS    OK  UNNEEDED, same version is already published
merida1macOS 12.7.1 Monterey / x86_64  OK    OK    WARNINGS    OK  UNNEEDED, same version is already published
kjohnson1macOS 13.6.1 Ventura / arm64see weekly results here
Package 4/484HostnameOS / ArchINSTALLBUILDCHECKBUILD BIN
affycoretools 1.74.0  (landing page)
James W. MacDonald
git_last_commit: c04ad6f
git_last_commit_date: 2023-10-24 09:35:49 -0400
nebbiolo2Linux (Ubuntu 22.04.3 LTS) / x86_64  OK    OK    OK  UNNEEDED, same version is already published
palomino4Windows Server 2022 Datacenter / x64  OK    OK    OK    OK  UNNEEDED, same version is already published
merida1macOS 12.7.1 Monterey / x86_64  OK    OK    OK    OK  UNNEEDED, same version is already published
kjohnson1macOS 13.6.1 Ventura / arm64see weekly results here
Package 5/484HostnameOS / ArchINSTALLBUILDCHECKBUILD BIN
affylmGUI 1.76.0  (landing page)
Gordon Smyth
git_last_commit: d6a5c35
git_last_commit_date: 2023-10-24 09:33:21 -0400
nebbiolo2Linux (Ubuntu 22.04.3 LTS) / x86_64  OK    OK    OK  UNNEEDED, same version is already published
palomino4Windows Server 2022 Datacenter / x64  OK    OK    OK    OK  UNNEEDED, same version is already published
merida1macOS 12.7.1 Monterey / x86_64  OK    OK    OK    OK  UNNEEDED, same version is already published
kjohnson1macOS 13.6.1 Ventura / arm64see weekly results here
Package 6/484HostnameOS / ArchINSTALLBUILDCHECKBUILD BIN
affyPLM 1.78.0  (landing page)
Ben Bolstad
git_last_commit: 1fa54e2
git_last_commit_date: 2023-10-24 09:32:34 -0400
nebbiolo2Linux (Ubuntu 22.04.3 LTS) / x86_64  OK    OK    WARNINGS  UNNEEDED, same version is already published
palomino4Windows Server 2022 Datacenter / x64  OK    OK    WARNINGS    OK  UNNEEDED, same version is already published
merida1macOS 12.7.1 Monterey / x86_64  OK    OK    OK    OK  UNNEEDED, same version is already published
kjohnson1macOS 13.6.1 Ventura / arm64see weekly results here
Package 7/484HostnameOS / ArchINSTALLBUILDCHECKBUILD BIN
alabaster.bumpy 1.2.0  (landing page)
Aaron Lun
git_last_commit: 6e7d873
git_last_commit_date: 2023-10-24 11:47:08 -0400
nebbiolo2Linux (Ubuntu 22.04.3 LTS) / x86_64  OK    OK    OK  UNNEEDED, same version is already published
palomino4Windows Server 2022 Datacenter / x64  OK    OK    OK    OK  UNNEEDED, same version is already published
merida1macOS 12.7.1 Monterey / x86_64  OK    OK    OK    OK  UNNEEDED, same version is already published
kjohnson1macOS 13.6.1 Ventura / arm64see weekly results here
Package 8/484HostnameOS / ArchINSTALLBUILDCHECKBUILD BIN
alabaster.files 1.0.0  (landing page)
Aaron Lun
git_last_commit: 7ed9441
git_last_commit_date: 2023-10-24 11:49:55 -0400
nebbiolo2Linux (Ubuntu 22.04.3 LTS) / x86_64  OK    OK    OK  UNNEEDED, same version is already published
palomino4Windows Server 2022 Datacenter / x64  OK    OK    OK    OK  UNNEEDED, same version is already published
merida1macOS 12.7.1 Monterey / x86_64  OK    OK    OK    OK  UNNEEDED, same version is already published
kjohnson1macOS 13.6.1 Ventura / arm64see weekly results here
Package 9/484HostnameOS / ArchINSTALLBUILDCHECKBUILD BIN
alabaster.matrix 1.2.0  (landing page)
Aaron Lun
git_last_commit: 7c9f381
git_last_commit_date: 2023-10-24 11:46:57 -0400
nebbiolo2Linux (Ubuntu 22.04.3 LTS) / x86_64  OK    OK    OK  UNNEEDED, same version is already published
palomino4Windows Server 2022 Datacenter / x64  OK    OK    OK    OK  UNNEEDED, same version is already published
merida1macOS 12.7.1 Monterey / x86_64  OK    OK    OK    OK  UNNEEDED, same version is already published
kjohnson1macOS 13.6.1 Ventura / arm64see weekly results here
Package 10/484HostnameOS / ArchINSTALLBUILDCHECKBUILD BIN
alabaster.ranges 1.2.0  (landing page)
Aaron Lun
git_last_commit: c7a063d
git_last_commit_date: 2023-10-24 11:46:54 -0400
nebbiolo2Linux (Ubuntu 22.04.3 LTS) / x86_64  OK    OK    OK  UNNEEDED, same version is already published
palomino4Windows Server 2022 Datacenter / x64  OK    OK    OK    OK  UNNEEDED, same version is already published
merida1macOS 12.7.1 Monterey / x86_64  OK    OK    OK    OK  UNNEEDED, same version is already published
kjohnson1macOS 13.6.1 Ventura / arm64see weekly results here
Package 11/484HostnameOS / ArchINSTALLBUILDCHECKBUILD BIN
alabaster.se 1.2.0  (landing page)
Aaron Lun
git_last_commit: d1222d4
git_last_commit_date: 2023-10-24 11:47:00 -0400
nebbiolo2Linux (Ubuntu 22.04.3 LTS) / x86_64  OK    OK    OK  UNNEEDED, same version is already published
palomino4Windows Server 2022 Datacenter / x64  OK    OK    OK    OK  UNNEEDED, same version is already published
merida1macOS 12.7.1 Monterey / x86_64  OK    OK    OK    OK  UNNEEDED, same version is already published
kjohnson1macOS 13.6.1 Ventura / arm64see weekly results here
Package 12/484HostnameOS / ArchINSTALLBUILDCHECKBUILD BIN
AllelicImbalance 1.40.0  (landing page)
Jesper R Gadin
git_last_commit: e3fc911
git_last_commit_date: 2023-10-24 09:56:05 -0400
nebbiolo2Linux (Ubuntu 22.04.3 LTS) / x86_64  OK    OK    OK  UNNEEDED, same version is already published
palomino4Windows Server 2022 Datacenter / x64  OK    OK    OK    OK  UNNEEDED, same version is already published
merida1macOS 12.7.1 Monterey / x86_64  OK    OK    OK    OK  UNNEEDED, same version is already published
kjohnson1macOS 13.6.1 Ventura / arm64see weekly results here
Package 13/484HostnameOS / ArchINSTALLBUILDCHECKBUILD BIN
altcdfenvs 2.64.0  (landing page)
Laurent Gautier
git_last_commit: 86cec42
git_last_commit_date: 2023-10-24 09:33:12 -0400
nebbiolo2Linux (Ubuntu 22.04.3 LTS) / x86_64  OK    OK    OK  UNNEEDED, same version is already published
palomino4Windows Server 2022 Datacenter / x64  OK    OK    OK    OK  UNNEEDED, same version is already published
merida1macOS 12.7.1 Monterey / x86_64  OK    OK    OK    OK  UNNEEDED, same version is already published
kjohnson1macOS 13.6.1 Ventura / arm64see weekly results here
Package 14/484HostnameOS / ArchINSTALLBUILDCHECKBUILD BIN
amplican 1.24.0  (landing page)
Eivind Valen
git_last_commit: 265b7ec
git_last_commit_date: 2023-10-24 10:59:34 -0400
nebbiolo2Linux (Ubuntu 22.04.3 LTS) / x86_64  OK    OK    OK  UNNEEDED, same version is already published
palomino4Windows Server 2022 Datacenter / x64  OK    OK    OK    OK  UNNEEDED, same version is already published
merida1macOS 12.7.1 Monterey / x86_64  OK    OK    OK    OK  UNNEEDED, same version is already published
kjohnson1macOS 13.6.1 Ventura / arm64see weekly results here
Package 15/484HostnameOS / ArchINSTALLBUILDCHECKBUILD BIN
AneuFinder 1.30.0  (landing page)
Aaron Taudt
git_last_commit: f0c9ccf
git_last_commit_date: 2023-10-24 10:48:50 -0400
nebbiolo2Linux (Ubuntu 22.04.3 LTS) / x86_64  OK    OK    OK  UNNEEDED, same version is already published
palomino4Windows Server 2022 Datacenter / x64  OK    OK    OK    OK  UNNEEDED, same version is already published
merida1macOS 12.7.1 Monterey / x86_64  OK    OK    OK    OK  UNNEEDED, same version is already published
kjohnson1macOS 13.6.1 Ventura / arm64see weekly results here
Package 16/484HostnameOS / ArchINSTALLBUILDCHECKBUILD BIN
annmap 1.44.0  (landing page)
Chris Wirth
git_last_commit: 039a9a2
git_last_commit_date: 2023-10-24 09:50:21 -0400
nebbiolo2Linux (Ubuntu 22.04.3 LTS) / x86_64  OK    OK    WARNINGS  UNNEEDED, same version is already published
palomino4Windows Server 2022 Datacenter / x64... NOT SUPPORTED ...
merida1macOS 12.7.1 Monterey / x86_64  OK    OK    WARNINGS    OK  UNNEEDED, same version is already published
kjohnson1macOS 13.6.1 Ventura / arm64see weekly results here
Package 17/484HostnameOS / ArchINSTALLBUILDCHECKBUILD BIN
annotate 1.80.0  (landing page)
Bioconductor Package Maintainer
git_last_commit: 45a42c3
git_last_commit_date: 2023-10-24 09:31:23 -0400
nebbiolo2Linux (Ubuntu 22.04.3 LTS) / x86_64  OK    OK    OK  UNNEEDED, same version is already published
palomino4Windows Server 2022 Datacenter / x64  OK    OK    ERROR    OK  
merida1macOS 12.7.1 Monterey / x86_64  OK    OK    OK    OK  UNNEEDED, same version is already published
kjohnson1macOS 13.6.1 Ventura / arm64see weekly results here
Package 18/484HostnameOS / ArchINSTALLBUILDCHECKBUILD BIN
AnnotationDbi 1.64.1  (landing page)
Bioconductor Package Maintainer
git_last_commit: e5b997e
git_last_commit_date: 2023-11-01 17:02:57 -0400
nebbiolo2Linux (Ubuntu 22.04.3 LTS) / x86_64  OK    OK    WARNINGS  UNNEEDED, same version is already published
palomino4Windows Server 2022 Datacenter / x64  OK    OK    WARNINGS    OK  UNNEEDED, same version is already published
merida1macOS 12.7.1 Monterey / x86_64  OK    OK    WARNINGS    OK  UNNEEDED, same version is already published
kjohnson1macOS 13.6.1 Ventura / arm64see weekly results here
Package 19/484HostnameOS / ArchINSTALLBUILDCHECKBUILD BIN
AnnotationForge 1.44.0  (landing page)
Bioconductor Package Maintainer
git_last_commit: 1a9bb5f
git_last_commit_date: 2023-10-24 09:50:31 -0400
nebbiolo2Linux (Ubuntu 22.04.3 LTS) / x86_64  OK    OK    OK  UNNEEDED, same version is already published
palomino4Windows Server 2022 Datacenter / x64  OK    OK    OK    OK  UNNEEDED, same version is already published
merida1macOS 12.7.1 Monterey / x86_64  OK    OK    OK    OK  UNNEEDED, same version is already published
kjohnson1macOS 13.6.1 Ventura / arm64see weekly results here
Package 20/484HostnameOS / ArchINSTALLBUILDCHECKBUILD BIN
AnnotationHub 3.10.0  (landing page)
Bioconductor Package Maintainer
git_last_commit: 76efb99
git_last_commit_date: 2023-10-24 09:53:34 -0400
nebbiolo2Linux (Ubuntu 22.04.3 LTS) / x86_64  OK    OK    WARNINGS  UNNEEDED, same version is already published
palomino4Windows Server 2022 Datacenter / x64  OK    OK    WARNINGS    OK  UNNEEDED, same version is already published
merida1macOS 12.7.1 Monterey / x86_64  OK    OK    WARNINGS    OK  UNNEEDED, same version is already published
kjohnson1macOS 13.6.1 Ventura / arm64see weekly results here
Package 21/484HostnameOS / ArchINSTALLBUILDCHECKBUILD BIN
AnnotationHubData 1.32.1  (landing page)
Bioconductor Package Maintainer
git_last_commit: 938caa2
git_last_commit_date: 2024-02-12 13:07:50 -0400
nebbiolo2Linux (Ubuntu 22.04.3 LTS) / x86_64  OK    OK    WARNINGS  UNNEEDED, same version is already published
palomino4Windows Server 2022 Datacenter / x64  OK    OK    WARNINGS    OK  UNNEEDED, same version is already published
merida1macOS 12.7.1 Monterey / x86_64  OK    OK    WARNINGS    OK  UNNEEDED, same version is already published
kjohnson1macOS 13.6.1 Ventura / arm64see weekly results here
Package 22/484HostnameOS / ArchINSTALLBUILDCHECKBUILD BIN
ASpli 2.12.0  (landing page)
Ariel Chernomoretz
git_last_commit: bf94d05
git_last_commit_date: 2023-10-24 10:51:51 -0400
nebbiolo2Linux (Ubuntu 22.04.3 LTS) / x86_64  OK    OK    WARNINGS  UNNEEDED, same version is already published
palomino4Windows Server 2022 Datacenter / x64  OK    OK    WARNINGS    OK  UNNEEDED, same version is already published
merida1macOS 12.7.1 Monterey / x86_64  OK    OK    WARNINGS    OK  UNNEEDED, same version is already published
kjohnson1macOS 13.6.1 Ventura / arm64see weekly results here
Package 23/484HostnameOS / ArchINSTALLBUILDCHECKBUILD BIN
ATACseqQC 1.26.0  (landing page)
Jianhong Ou
git_last_commit: 415dbcb
git_last_commit_date: 2023-10-24 10:57:16 -0400
nebbiolo2Linux (Ubuntu 22.04.3 LTS) / x86_64  OK    OK    OK  UNNEEDED, same version is already published
palomino4Windows Server 2022 Datacenter / x64  OK    OK    OK    OK  UNNEEDED, same version is already published
merida1macOS 12.7.1 Monterey / x86_64  OK    OK    OK    OK  UNNEEDED, same version is already published
kjohnson1macOS 13.6.1 Ventura / arm64see weekly results here
Package 24/484HostnameOS / ArchINSTALLBUILDCHECKBUILD BIN
ATACseqTFEA 1.4.0  (landing page)
Jianhong Ou
git_last_commit: a8b0929
git_last_commit_date: 2023-10-24 11:43:31 -0400
nebbiolo2Linux (Ubuntu 22.04.3 LTS) / x86_64  OK    OK    OK  UNNEEDED, same version is already published
palomino4Windows Server 2022 Datacenter / x64  OK    OK    OK    OK  UNNEEDED, same version is already published
merida1macOS 12.7.1 Monterey / x86_64  OK    OK    OK    OK  UNNEEDED, same version is already published
kjohnson1macOS 13.6.1 Ventura / arm64see weekly results here
Package 25/484HostnameOS / ArchINSTALLBUILDCHECKBUILD BIN
atena 1.8.0  (landing page)
Beatriz Calvo-Serra
git_last_commit: 634a469
git_last_commit_date: 2023-10-24 11:36:26 -0400
nebbiolo2Linux (Ubuntu 22.04.3 LTS) / x86_64  OK    OK    OK  UNNEEDED, same version is already published
palomino4Windows Server 2022 Datacenter / x64  OK    OK    OK    OK  UNNEEDED, same version is already published
merida1macOS 12.7.1 Monterey / x86_64  OK    OK    OK    OK  UNNEEDED, same version is already published
kjohnson1macOS 13.6.1 Ventura / arm64see weekly results here
Package 26/484HostnameOS / ArchINSTALLBUILDCHECKBUILD BIN
AUCell 1.24.0  (landing page)
Sara Aibar
git_last_commit: 8c22389
git_last_commit_date: 2023-10-24 10:59:42 -0400
nebbiolo2Linux (Ubuntu 22.04.3 LTS) / x86_64  OK    OK    ERROR  
palomino4Windows Server 2022 Datacenter / x64  OK    OK    ERROR    OK  
merida1macOS 12.7.1 Monterey / x86_64  OK    OK    ERROR    OK  
kjohnson1macOS 13.6.1 Ventura / arm64see weekly results here
Package 27/484HostnameOS / ArchINSTALLBUILDCHECKBUILD BIN
autonomics 1.10.2  (landing page)
Aditya Bhagwat
git_last_commit: 230045c
git_last_commit_date: 2023-11-08 04:08:57 -0400
nebbiolo2Linux (Ubuntu 22.04.3 LTS) / x86_64  OK    ERROR  skipped
palomino4Windows Server 2022 Datacenter / x64  OK    OK    OK    OK  UNNEEDED, same version is already published
merida1macOS 12.7.1 Monterey / x86_64  OK    ERROR  skippedskipped
kjohnson1macOS 13.6.1 Ventura / arm64see weekly results here
Package 28/484HostnameOS / ArchINSTALLBUILDCHECKBUILD BIN
bambu 3.4.0  (landing page)
Ying Chen
git_last_commit: bf38f6d
git_last_commit_date: 2023-10-24 11:27:04 -0400
nebbiolo2Linux (Ubuntu 22.04.3 LTS) / x86_64  OK    OK    TIMEOUT  
palomino4Windows Server 2022 Datacenter / x64  OK    OK    OK    OK  UNNEEDED, same version is already published
merida1macOS 12.7.1 Monterey / x86_64  OK    OK    OK    OK  UNNEEDED, same version is already published
kjohnson1macOS 13.6.1 Ventura / arm64see weekly results here
Package 29/484HostnameOS / ArchINSTALLBUILDCHECKBUILD BIN
bamsignals 1.34.0  (landing page)
Johannes Helmuth
git_last_commit: 58fa17f
git_last_commit_date: 2023-10-24 10:42:09 -0400
nebbiolo2Linux (Ubuntu 22.04.3 LTS) / x86_64  OK    OK    WARNINGS  UNNEEDED, same version is already published
palomino4Windows Server 2022 Datacenter / x64  OK    OK    OK    OK  UNNEEDED, same version is already published
merida1macOS 12.7.1 Monterey / x86_64  OK    OK    WARNINGS    OK  UNNEEDED, same version is already published
kjohnson1macOS 13.6.1 Ventura / arm64see weekly results here
Package 30/484HostnameOS / ArchINSTALLBUILDCHECKBUILD BIN
BASiCS 2.14.0  (landing page)
Catalina Vallejos
git_last_commit: 7b60c29
git_last_commit_date: 2024-03-11 13:42:52 -0400
nebbiolo2Linux (Ubuntu 22.04.3 LTS) / x86_64  OK    OK    TIMEOUT  
palomino4Windows Server 2022 Datacenter / x64  OK    OK    OK    OK  UNNEEDED, same version is already published
merida1macOS 12.7.1 Monterey / x86_64  OK    OK    OK    OK  UNNEEDED, same version is already published
kjohnson1macOS 13.6.1 Ventura / arm64see weekly results here
Package 31/484HostnameOS / ArchINSTALLBUILDCHECKBUILD BIN
batchelor 1.18.1  (landing page)
Aaron Lun
git_last_commit: c427893
git_last_commit_date: 2023-12-27 13:57:13 -0400
nebbiolo2Linux (Ubuntu 22.04.3 LTS) / x86_64  OK    OK    TIMEOUT  
palomino4Windows Server 2022 Datacenter / x64  OK    OK    OK    OK  UNNEEDED, same version is already published
merida1macOS 12.7.1 Monterey / x86_64  OK    OK    OK    OK  UNNEEDED, same version is already published
kjohnson1macOS 13.6.1 Ventura / arm64see weekly results here
Package 32/484HostnameOS / ArchINSTALLBUILDCHECKBUILD BIN
beachmat 2.18.1  (landing page)
Aaron Lun
git_last_commit: 39ef12f
git_last_commit_date: 2024-01-22 13:40:03 -0400
nebbiolo2Linux (Ubuntu 22.04.3 LTS) / x86_64  OK    OK    OK  UNNEEDED, same version is already published
palomino4Windows Server 2022 Datacenter / x64  OK    OK    OK    OK  UNNEEDED, same version is already published
merida1macOS 12.7.1 Monterey / x86_64  OK    OK    OK    OK  UNNEEDED, same version is already published
kjohnson1macOS 13.6.1 Ventura / arm64see weekly results here
Package 33/484HostnameOS / ArchINSTALLBUILDCHECKBUILD BIN
beadarray 2.52.0  (landing page)
Mark Dunning
git_last_commit: 3a4da33
git_last_commit_date: 2023-10-24 09:36:14 -0400
nebbiolo2Linux (Ubuntu 22.04.3 LTS) / x86_64  OK    OK    OK  UNNEEDED, same version is already published
palomino4Windows Server 2022 Datacenter / x64  OK    OK    OK    OK  UNNEEDED, same version is already published
merida1macOS 12.7.1 Monterey / x86_64  OK    OK    OK    OK  UNNEEDED, same version is already published
kjohnson1macOS 13.6.1 Ventura / arm64see weekly results here
Package 34/484HostnameOS / ArchINSTALLBUILDCHECKBUILD BIN
bigmelon 1.28.0  (landing page)
Leonard C. Schalkwyk
git_last_commit: 80fe6d4
git_last_commit_date: 2023-10-24 10:52:46 -0400
nebbiolo2Linux (Ubuntu 22.04.3 LTS) / x86_64  OK    OK    WARNINGS  UNNEEDED, same version is already published
palomino4Windows Server 2022 Datacenter / x64  OK    OK    WARNINGS    OK  UNNEEDED, same version is already published
merida1macOS 12.7.1 Monterey / x86_64  OK    OK    WARNINGS    OK  UNNEEDED, same version is already published
kjohnson1macOS 13.6.1 Ventura / arm64see weekly results here
Package 35/484HostnameOS / ArchINSTALLBUILDCHECKBUILD BIN
bioassayR 1.40.0  (landing page)
Daniela Cassol
git_last_commit: 817e51d
git_last_commit_date: 2023-10-24 09:56:08 -0400
nebbiolo2Linux (Ubuntu 22.04.3 LTS) / x86_64  OK    OK    OK  UNNEEDED, same version is already published
palomino4Windows Server 2022 Datacenter / x64  OK    OK    OK    OK  UNNEEDED, same version is already published
merida1macOS 12.7.1 Monterey / x86_64  OK    OK    OK    OK  UNNEEDED, same version is already published
kjohnson1macOS 13.6.1 Ventura / arm64see weekly results here
Package 36/484HostnameOS / ArchINSTALLBUILDCHECKBUILD BIN
Biobase 2.62.0  (landing page)
Bioconductor Package Maintainer
git_last_commit: 8201fbb
git_last_commit_date: 2023-10-24 09:31:17 -0400
nebbiolo2Linux (Ubuntu 22.04.3 LTS) / x86_64  OK    OK    WARNINGS  UNNEEDED, same version is already published
palomino4Windows Server 2022 Datacenter / x64  OK    OK    OK    OK  UNNEEDED, same version is already published
merida1macOS 12.7.1 Monterey / x86_64  OK    OK    OK    OK  UNNEEDED, same version is already published
kjohnson1macOS 13.6.1 Ventura / arm64see weekly results here
Package 37/484HostnameOS / ArchINSTALLBUILDCHECKBUILD BIN
BiocBook 1.0.0  (landing page)
Jacques Serizay
git_last_commit: 4b76fd2
git_last_commit_date: 2023-10-24 11:51:47 -0400
nebbiolo2Linux (Ubuntu 22.04.3 LTS) / x86_64  OK    OK    OK  UNNEEDED, same version is already published
palomino4Windows Server 2022 Datacenter / x64  OK    OK    ERROR    OK  
merida1macOS 12.7.1 Monterey / x86_64  OK    OK    OK    OK  UNNEEDED, same version is already published
kjohnson1macOS 13.6.1 Ventura / arm64see weekly results here
Package 38/484HostnameOS / ArchINSTALLBUILDCHECKBUILD BIN
biocGraph 1.64.0  (landing page)
Florian Hahne
git_last_commit: 5928a24
git_last_commit_date: 2023-10-24 09:38:39 -0400
nebbiolo2Linux (Ubuntu 22.04.3 LTS) / x86_64  OK    OK    OK  UNNEEDED, same version is already published
palomino4Windows Server 2022 Datacenter / x64  OK    OK    OK    OK  UNNEEDED, same version is already published
merida1macOS 12.7.1 Monterey / x86_64  OK    OK    OK    OK  UNNEEDED, same version is already published
kjohnson1macOS 13.6.1 Ventura / arm64see weekly results here
Package 39/484HostnameOS / ArchINSTALLBUILDCHECKBUILD BIN
BiocHail 1.2.0  (landing page)
Vincent Carey
git_last_commit: 791b180
git_last_commit_date: 2023-10-24 11:48:54 -0400
nebbiolo2Linux (Ubuntu 22.04.3 LTS) / x86_64  OK    OK    OK  UNNEEDED, same version is already published
palomino4Windows Server 2022 Datacenter / x64... NOT SUPPORTED ...
merida1macOS 12.7.1 Monterey / x86_64... NOT SUPPORTED ...
kjohnson1macOS 13.6.1 Ventura / arm64see weekly results here
Package 40/484HostnameOS / ArchINSTALLBUILDCHECKBUILD BIN
BiocIO 1.12.0  (landing page)
Marcel Ramos
git_last_commit: 893a6eb
git_last_commit_date: 2023-10-24 11:24:52 -0400
nebbiolo2Linux (Ubuntu 22.04.3 LTS) / x86_64  OK    OK    OK  UNNEEDED, same version is already published
palomino4Windows Server 2022 Datacenter / x64  OK    OK    OK    OK  UNNEEDED, same version is already published
merida1macOS 12.7.1 Monterey / x86_64  OK    OK    OK    OK  UNNEEDED, same version is already published
kjohnson1macOS 13.6.1 Ventura / arm64see weekly results here
Package 41/484HostnameOS / ArchINSTALLBUILDCHECKBUILD BIN
BiocSingular 1.18.0  (landing page)
Aaron Lun
git_last_commit: 53deff4
git_last_commit_date: 2023-10-24 11:11:06 -0400
nebbiolo2Linux (Ubuntu 22.04.3 LTS) / x86_64  OK    OK    OK  UNNEEDED, same version is already published
palomino4Windows Server 2022 Datacenter / x64  OK    OK    OK    OK  UNNEEDED, same version is already published
merida1macOS 12.7.1 Monterey / x86_64  OK    OK    OK    OK  UNNEEDED, same version is already published
kjohnson1macOS 13.6.1 Ventura / arm64see weekly results here
Package 42/484HostnameOS / ArchINSTALLBUILDCHECKBUILD BIN
Biostrings 2.70.3  (landing page)
Hervé Pagès
git_last_commit: c213e35
git_last_commit_date: 2024-03-12 13:21:34 -0400
nebbiolo2Linux (Ubuntu 22.04.3 LTS) / x86_64  OK    OK    WARNINGS  UNNEEDED, same version is already published
palomino4Windows Server 2022 Datacenter / x64  OK    OK    WARNINGS    OK  UNNEEDED, same version is already published
merida1macOS 12.7.1 Monterey / x86_64  OK    OK    WARNINGS    OK  UNNEEDED, same version is already published
kjohnson1macOS 13.6.1 Ventura / arm64see weekly results here
Package 43/484HostnameOS / ArchINSTALLBUILDCHECKBUILD BIN
biotmle 1.26.0  (landing page)
Nima Hejazi
git_last_commit: e95f9b0
git_last_commit_date: 2023-10-24 10:56:59 -0400
nebbiolo2Linux (Ubuntu 22.04.3 LTS) / x86_64  OK    OK    OK  UNNEEDED, same version is already published
palomino4Windows Server 2022 Datacenter / x64  OK    OK    OK    OK  UNNEEDED, same version is already published
merida1macOS 12.7.1 Monterey / x86_64  OK    OK    OK    OK  UNNEEDED, same version is already published
kjohnson1macOS 13.6.1 Ventura / arm64see weekly results here
Package 44/484HostnameOS / ArchINSTALLBUILDCHECKBUILD BIN
biovizBase 1.50.0  (landing page)
Michael Lawrence
git_last_commit: c961633
git_last_commit_date: 2023-10-24 09:48:08 -0400
nebbiolo2Linux (Ubuntu 22.04.3 LTS) / x86_64  OK    OK    WARNINGS  UNNEEDED, same version is already published
palomino4Windows Server 2022 Datacenter / x64  OK    OK    WARNINGS    OK  UNNEEDED, same version is already published
merida1macOS 12.7.1 Monterey / x86_64  OK    OK    WARNINGS    OK  UNNEEDED, same version is already published
kjohnson1macOS 13.6.1 Ventura / arm64see weekly results here
Package 45/484HostnameOS / ArchINSTALLBUILDCHECKBUILD BIN
biscuiteer 1.16.0  (landing page)
Jacob Morrison
git_last_commit: ebfa0bf
git_last_commit_date: 2023-10-24 11:17:31 -0400
nebbiolo2Linux (Ubuntu 22.04.3 LTS) / x86_64  OK    OK    WARNINGS  UNNEEDED, same version is already published
palomino4Windows Server 2022 Datacenter / x64  OK    OK    WARNINGS    OK  UNNEEDED, same version is already published
merida1macOS 12.7.1 Monterey / x86_64  OK    OK    WARNINGS    OK  UNNEEDED, same version is already published
kjohnson1macOS 13.6.1 Ventura / arm64see weekly results here
Package 46/484HostnameOS / ArchINSTALLBUILDCHECKBUILD BIN
BiSeq 1.42.0  (landing page)
Katja Hebestreit
git_last_commit: 7dce55a
git_last_commit_date: 2023-10-24 09:53:54 -0400
nebbiolo2Linux (Ubuntu 22.04.3 LTS) / x86_64  OK    OK    OK  UNNEEDED, same version is already published
palomino4Windows Server 2022 Datacenter / x64  OK    OK    OK    OK  UNNEEDED, same version is already published
merida1macOS 12.7.1 Monterey / x86_64  OK    OK    OK    OK  UNNEEDED, same version is already published
kjohnson1macOS 13.6.1 Ventura / arm64see weekly results here
Package 47/484HostnameOS / ArchINSTALLBUILDCHECKBUILD BIN
blima 1.36.0  (landing page)
Vojtěch Kulvait
git_last_commit: 21da661
git_last_commit_date: 2023-10-24 09:59:06 -0400
nebbiolo2Linux (Ubuntu 22.04.3 LTS) / x86_64  OK    OK    WARNINGS  UNNEEDED, same version is already published
palomino4Windows Server 2022 Datacenter / x64  OK    OK    WARNINGS    OK  UNNEEDED, same version is already published
merida1macOS 12.7.1 Monterey / x86_64  OK    OK    WARNINGS    OK  UNNEEDED, same version is already published
kjohnson1macOS 13.6.1 Ventura / arm64see weekly results here
Package 48/484HostnameOS / ArchINSTALLBUILDCHECKBUILD BIN
bnbc 1.24.2  (landing page)
Kipper Fletez-Brant
git_last_commit: c80ab47
git_last_commit_date: 2024-01-26 13:19:18 -0400
nebbiolo2Linux (Ubuntu 22.04.3 LTS) / x86_64  OK    OK    OK  UNNEEDED, same version is already published
palomino4Windows Server 2022 Datacenter / x64  OK    OK    OK    OK  UNNEEDED, same version is already published
merida1macOS 12.7.1 Monterey / x86_64  OK    OK    OK    OK  UNNEEDED, same version is already published
kjohnson1macOS 13.6.1 Ventura / arm64see weekly results here
Package 49/484HostnameOS / ArchINSTALLBUILDCHECKBUILD BIN
breakpointR 1.20.0  (landing page)
David Porubsky
git_last_commit: eef3f27
git_last_commit_date: 2023-10-24 11:08:00 -0400
nebbiolo2Linux (Ubuntu 22.04.3 LTS) / x86_64  OK    OK    OK  UNNEEDED, same version is already published
palomino4Windows Server 2022 Datacenter / x64  OK    OK    OK    OK  UNNEEDED, same version is already published
merida1macOS 12.7.1 Monterey / x86_64  OK    OK    OK    OK  UNNEEDED, same version is already published
kjohnson1macOS 13.6.1 Ventura / arm64see weekly results here
Package 50/484HostnameOS / ArchINSTALLBUILDCHECKBUILD BIN
BrowserViz 2.24.0  (landing page)
Arkadiusz Gladki
git_last_commit: e825c98
git_last_commit_date: 2023-10-24 10:41:49 -0400
nebbiolo2Linux (Ubuntu 22.04.3 LTS) / x86_64  OK    OK    OK  UNNEEDED, same version is already published
palomino4Windows Server 2022 Datacenter / x64  OK    OK    OK    OK  UNNEEDED, same version is already published
merida1macOS 12.7.1 Monterey / x86_64  OK    OK    OK    OK  UNNEEDED, same version is already published
kjohnson1macOS 13.6.1 Ventura / arm64see weekly results here
Package 51/484HostnameOS / ArchINSTALLBUILDCHECKBUILD BIN
BSgenome 1.70.2  (landing page)
Hervé Pagès
git_last_commit: 77b80d5
git_last_commit_date: 2024-02-07 18:38:59 -0400
nebbiolo2Linux (Ubuntu 22.04.3 LTS) / x86_64  OK    OK    WARNINGS  UNNEEDED, same version is already published
palomino4Windows Server 2022 Datacenter / x64  OK    OK    WARNINGS    OK  UNNEEDED, same version is already published
merida1macOS 12.7.1 Monterey / x86_64  OK    OK    WARNINGS    OK  UNNEEDED, same version is already published
kjohnson1macOS 13.6.1 Ventura / arm64see weekly results here
Package 52/484HostnameOS / ArchINSTALLBUILDCHECKBUILD BIN
BSgenomeForge 1.2.3  (landing page)
Hervé Pagès
git_last_commit: f3664ad
git_last_commit_date: 2024-03-25 13:24:00 -0400
nebbiolo2Linux (Ubuntu 22.04.3 LTS) / x86_64  OK    OK    OK  UNNEEDED, same version is already published
palomino4Windows Server 2022 Datacenter / x64  OK    OK    ERROR    OK  
merida1macOS 12.7.1 Monterey / x86_64  OK    OK    OK    OK  UNNEEDED, same version is already published
kjohnson1macOS 13.6.1 Ventura / arm64see weekly results here
Package 53/484HostnameOS / ArchINSTALLBUILDCHECKBUILD BIN
bsseq 1.38.0  (landing page)
Kasper Daniel Hansen
git_last_commit: 392e22c
git_last_commit_date: 2023-10-24 09:50:39 -0400
nebbiolo2Linux (Ubuntu 22.04.3 LTS) / x86_64  OK    OK    OK  UNNEEDED, same version is already published
palomino4Windows Server 2022 Datacenter / x64  OK    OK    OK    OK  UNNEEDED, same version is already published
merida1macOS 12.7.1 Monterey / x86_64  OK    OK    OK    OK  UNNEEDED, same version is already published
kjohnson1macOS 13.6.1 Ventura / arm64see weekly results here
Package 54/484HostnameOS / ArchINSTALLBUILDCHECKBUILD BIN
BubbleTree 2.32.0  (landing page)
Todd Creasy , Wei Zhu
git_last_commit: eea5b5e
git_last_commit_date: 2023-10-24 10:41:33 -0400
nebbiolo2Linux (Ubuntu 22.04.3 LTS) / x86_64  OK    OK    OK  UNNEEDED, same version is already published
palomino4Windows Server 2022 Datacenter / x64  OK    OK    OK    OK  UNNEEDED, same version is already published
merida1macOS 12.7.1 Monterey / x86_64  OK    OK    OK    OK  UNNEEDED, same version is already published
kjohnson1macOS 13.6.1 Ventura / arm64see weekly results here
Package 55/484HostnameOS / ArchINSTALLBUILDCHECKBUILD BIN
bumphunter 1.44.0  (landing page)
Tamilselvi Guharaj
git_last_commit: 084be68
git_last_commit_date: 2023-10-24 09:52:09 -0400
nebbiolo2Linux (Ubuntu 22.04.3 LTS) / x86_64  OK    OK    OK  UNNEEDED, same version is already published
palomino4Windows Server 2022 Datacenter / x64  OK    OK    OK    OK  UNNEEDED, same version is already published
merida1macOS 12.7.1 Monterey / x86_64  OK    OK    OK    OK  UNNEEDED, same version is already published
kjohnson1macOS 13.6.1 Ventura / arm64see weekly results here
Package 56/484HostnameOS / ArchINSTALLBUILDCHECKBUILD BIN
BUSpaRse 1.16.1  (landing page)
Lambda Moses
git_last_commit: c1a1ce5
git_last_commit_date: 2024-02-27 19:42:38 -0400
nebbiolo2Linux (Ubuntu 22.04.3 LTS) / x86_64  OK    OK    OK  UNNEEDED, same version is already published
palomino4Windows Server 2022 Datacenter / x64  OK    OK    OK    OK  UNNEEDED, same version is already published
merida1macOS 12.7.1 Monterey / x86_64  OK    OK    OK    OK  UNNEEDED, same version is already published
kjohnson1macOS 13.6.1 Ventura / arm64see weekly results here
Package 57/484HostnameOS / ArchINSTALLBUILDCHECKBUILD BIN
CAGEfightR 1.22.0  (landing page)
Malte Thodberg
git_last_commit: 8a75f42
git_last_commit_date: 2023-10-24 11:05:23 -0400
nebbiolo2Linux (Ubuntu 22.04.3 LTS) / x86_64  OK    OK    OK  UNNEEDED, same version is already published
palomino4Windows Server 2022 Datacenter / x64  OK    OK    OK    OK  UNNEEDED, same version is already published
merida1macOS 12.7.1 Monterey / x86_64  OK    OK    OK    OK  UNNEEDED, same version is already published
kjohnson1macOS 13.6.1 Ventura / arm64see weekly results here
Package 58/484HostnameOS / ArchINSTALLBUILDCHECKBUILD BIN
CAGEr 2.8.0  (landing page)
Charles Plessy
git_last_commit: 6ad953b
git_last_commit_date: 2023-10-24 09:52:59 -0400
nebbiolo2Linux (Ubuntu 22.04.3 LTS) / x86_64  OK    OK    OK  UNNEEDED, same version is already published
palomino4Windows Server 2022 Datacenter / x64  OK    OK    OK    OK  UNNEEDED, same version is already published
merida1macOS 12.7.1 Monterey / x86_64  OK    OK    OK    OK  UNNEEDED, same version is already published
kjohnson1macOS 13.6.1 Ventura / arm64see weekly results here
Package 59/484HostnameOS / ArchINSTALLBUILDCHECKBUILD BIN
Cardinal 3.4.3  (landing page)
Kylie A. Bemis
git_last_commit: eacb164
git_last_commit_date: 2023-11-22 14:25:11 -0400
nebbiolo2Linux (Ubuntu 22.04.3 LTS) / x86_64  OK    OK    OK  UNNEEDED, same version is already published
palomino4Windows Server 2022 Datacenter / x64  OK    OK    OK    OK  UNNEEDED, same version is already published
merida1macOS 12.7.1 Monterey / x86_64  OK    OK    OK    OK  UNNEEDED, same version is already published
kjohnson1macOS 13.6.1 Ventura / arm64see weekly results here
Package 60/484HostnameOS / ArchINSTALLBUILDCHECKBUILD BIN
casper 2.36.0  (landing page)
David Rossell
git_last_commit: 10bb585
git_last_commit_date: 2023-10-24 09:52:32 -0400
nebbiolo2Linux (Ubuntu 22.04.3 LTS) / x86_64  OK    OK    OK  UNNEEDED, same version is already published
palomino4Windows Server 2022 Datacenter / x64  OK    OK    WARNINGS    OK  UNNEEDED, same version is already published
merida1macOS 12.7.1 Monterey / x86_64  OK    ERROR  skippedskipped
kjohnson1macOS 13.6.1 Ventura / arm64see weekly results here
Package 61/484HostnameOS / ArchINSTALLBUILDCHECKBUILD BIN
Category 2.68.0  (landing page)
Bioconductor Package Maintainer
git_last_commit: 17a23f8
git_last_commit_date: 2023-10-24 09:35:14 -0400
nebbiolo2Linux (Ubuntu 22.04.3 LTS) / x86_64  OK    OK    OK  UNNEEDED, same version is already published
palomino4Windows Server 2022 Datacenter / x64  OK    OK    OK    OK  UNNEEDED, same version is already published
merida1macOS 12.7.1 Monterey / x86_64  OK    OK    OK    OK  UNNEEDED, same version is already published
kjohnson1macOS 13.6.1 Ventura / arm64see weekly results here
Package 62/484HostnameOS / ArchINSTALLBUILDCHECKBUILD BIN
categoryCompare 1.46.0  (landing page)
Robert M. Flight
git_last_commit: 8d64d13
git_last_commit_date: 2023-10-24 09:50:05 -0400
nebbiolo2Linux (Ubuntu 22.04.3 LTS) / x86_64  OK    OK    OK  UNNEEDED, same version is already published
palomino4Windows Server 2022 Datacenter / x64  OK    OK    OK    OK  UNNEEDED, same version is already published
merida1macOS 12.7.1 Monterey / x86_64  OK    OK    OK    OK  UNNEEDED, same version is already published
kjohnson1macOS 13.6.1 Ventura / arm64see weekly results here
Package 63/484HostnameOS / ArchINSTALLBUILDCHECKBUILD BIN
celaref 1.20.0  (landing page)
Sarah Williams
git_last_commit: 54fc418
git_last_commit_date: 2023-10-24 11:07:01 -0400
nebbiolo2Linux (Ubuntu 22.04.3 LTS) / x86_64  OK    OK    OK  UNNEEDED, same version is already published
palomino4Windows Server 2022 Datacenter / x64  OK    OK    OK    OK  UNNEEDED, same version is already published
merida1macOS 12.7.1 Monterey / x86_64  OK    OK    OK    OK  UNNEEDED, same version is already published
kjohnson1macOS 13.6.1 Ventura / arm64see weekly results here
Package 64/484HostnameOS / ArchINSTALLBUILDCHECKBUILD BIN
CellaRepertorium 1.12.0  (landing page)
Andrew McDavid
git_last_commit: eccffbf
git_last_commit_date: 2023-10-24 11:27:39 -0400
nebbiolo2Linux (Ubuntu 22.04.3 LTS) / x86_64  OK    OK    WARNINGS  UNNEEDED, same version is already published
palomino4Windows Server 2022 Datacenter / x64  OK    OK    OK    OK  UNNEEDED, same version is already published
merida1macOS 12.7.1 Monterey / x86_64  OK    OK    WARNINGS    OK  UNNEEDED, same version is already published
kjohnson1macOS 13.6.1 Ventura / arm64see weekly results here
Package 65/484HostnameOS / ArchINSTALLBUILDCHECKBUILD BIN
CellBench 1.18.0  (landing page)
Shian Su
git_last_commit: 4f073b8
git_last_commit_date: 2023-10-24 11:11:30 -0400
nebbiolo2Linux (Ubuntu 22.04.3 LTS) / x86_64  OK    OK    OK  UNNEEDED, same version is already published
palomino4Windows Server 2022 Datacenter / x64  OK    OK    OK    OK  UNNEEDED, same version is already published
merida1macOS 12.7.1 Monterey / x86_64  OK    OK    OK    OK  UNNEEDED, same version is already published
kjohnson1macOS 13.6.1 Ventura / arm64see weekly results here
Package 66/484HostnameOS / ArchINSTALLBUILDCHECKBUILD BIN
cellHTS2 2.66.0  (landing page)
Joseph Barry
git_last_commit: 3fe8e7d
git_last_commit_date: 2023-10-24 09:38:36 -0400
nebbiolo2Linux (Ubuntu 22.04.3 LTS) / x86_64  OK    OK    WARNINGS  UNNEEDED, same version is already published
palomino4Windows Server 2022 Datacenter / x64  OK    OK    OK    OK  UNNEEDED, same version is already published
merida1macOS 12.7.1 Monterey / x86_64  OK    OK    OK    OK  UNNEEDED, same version is already published
kjohnson1macOS 13.6.1 Ventura / arm64see weekly results here
Package 67/484HostnameOS / ArchINSTALLBUILDCHECKBUILD BIN
CellMixS 1.18.0  (landing page)
Almut Lütge
git_last_commit: f781a7c
git_last_commit_date: 2023-10-24 11:12:36 -0400
nebbiolo2Linux (Ubuntu 22.04.3 LTS) / x86_64  OK    OK    OK  UNNEEDED, same version is already published
palomino4Windows Server 2022 Datacenter / x64  OK    OK    OK    OK  UNNEEDED, same version is already published
merida1macOS 12.7.1 Monterey / x86_64  OK    OK    OK    OK  UNNEEDED, same version is already published
kjohnson1macOS 13.6.1 Ventura / arm64see weekly results here
Package 68/484HostnameOS / ArchINSTALLBUILDCHECKBUILD BIN
CellTrails 1.20.0  (landing page)
Daniel Ellwanger
git_last_commit: 3e1f87c
git_last_commit_date: 2023-10-24 11:06:14 -0400
nebbiolo2Linux (Ubuntu 22.04.3 LTS) / x86_64  OK    OK    OK  UNNEEDED, same version is already published
palomino4Windows Server 2022 Datacenter / x64  OK    OK    OK    OK  UNNEEDED, same version is already published
merida1macOS 12.7.1 Monterey / x86_64  OK    OK    OK    OK  UNNEEDED, same version is already published
kjohnson1macOS 13.6.1 Ventura / arm64see weekly results here
Package 69/484HostnameOS / ArchINSTALLBUILDCHECKBUILD BIN
cfDNAPro 1.8.0  (landing page)
Haichao Wang
git_last_commit: 01178b8
git_last_commit_date: 2023-10-24 11:35:16 -0400
nebbiolo2Linux (Ubuntu 22.04.3 LTS) / x86_64  OK    OK    WARNINGS  UNNEEDED, same version is already published
palomino4Windows Server 2022 Datacenter / x64  OK    OK    WARNINGS    OK  UNNEEDED, same version is already published
merida1macOS 12.7.1 Monterey / x86_64  OK    OK    WARNINGS    OK  UNNEEDED, same version is already published
kjohnson1macOS 13.6.1 Ventura / arm64see weekly results here
Package 70/484HostnameOS / ArchINSTALLBUILDCHECKBUILD BIN
cghMCR 1.60.0  (landing page)
J. Zhang
git_last_commit: f965259
git_last_commit_date: 2023-10-24 09:36:40 -0400
nebbiolo2Linux (Ubuntu 22.04.3 LTS) / x86_64  OK    OK    WARNINGS  UNNEEDED, same version is already published
palomino4Windows Server 2022 Datacenter / x64  OK    OK    WARNINGS    OK  UNNEEDED, same version is already published
merida1macOS 12.7.1 Monterey / x86_64  OK    OK    WARNINGS    OK  UNNEEDED, same version is already published
kjohnson1macOS 13.6.1 Ventura / arm64see weekly results here
Package 71/484HostnameOS / ArchINSTALLBUILDCHECKBUILD BIN
ChemmineOB 1.40.0  (landing page)
Thomas Girke
git_last_commit: 56dd1da
git_last_commit_date: 2023-10-24 09:55:32 -0400
nebbiolo2Linux (Ubuntu 22.04.3 LTS) / x86_64  OK    OK    WARNINGS  UNNEEDED, same version is already published
palomino4Windows Server 2022 Datacenter / x64  OK    OK    WARNINGS    OK  UNNEEDED, same version is already published
merida1macOS 12.7.1 Monterey / x86_64  OK    OK    WARNINGS    OK  UNNEEDED, same version is already published
kjohnson1macOS 13.6.1 Ventura / arm64see weekly results here
Package 72/484HostnameOS / ArchINSTALLBUILDCHECKBUILD BIN
ChemmineR 3.54.0  (landing page)
Thomas Girke
git_last_commit: 19385e6
git_last_commit_date: 2023-10-24 09:40:48 -0400
nebbiolo2Linux (Ubuntu 22.04.3 LTS) / x86_64  OK    OK    WARNINGS  UNNEEDED, same version is already published
palomino4Windows Server 2022 Datacenter / x64  OK    ERROR  skippedskipped
merida1macOS 12.7.1 Monterey / x86_64  OK    OK    WARNINGS    OK  UNNEEDED, same version is already published
kjohnson1macOS 13.6.1 Ventura / arm64see weekly results here
Package 73/484HostnameOS / ArchINSTALLBUILDCHECKBUILD BIN
ChIPComp 1.32.0  (landing page)
Li Chen
git_last_commit: 46346bb
git_last_commit_date: 2023-10-24 10:44:51 -0400
nebbiolo2Linux (Ubuntu 22.04.3 LTS) / x86_64  OK    OK    OK  UNNEEDED, same version is already published
palomino4Windows Server 2022 Datacenter / x64  OK    OK    OK    OK  UNNEEDED, same version is already published
merida1macOS 12.7.1 Monterey / x86_64  OK    OK    OK    OK  UNNEEDED, same version is already published
kjohnson1macOS 13.6.1 Ventura / arm64see weekly results here
Package 74/484HostnameOS / ArchINSTALLBUILDCHECKBUILD BIN
chipenrich 2.26.0  (landing page)
Kai Wang
git_last_commit: 8330eab
git_last_commit_date: 2023-10-24 09:55:43 -0400
nebbiolo2Linux (Ubuntu 22.04.3 LTS) / x86_64  OK    OK    OK  UNNEEDED, same version is already published
palomino4Windows Server 2022 Datacenter / x64  OK    OK    OK    OK  UNNEEDED, same version is already published
merida1macOS 12.7.1 Monterey / x86_64  OK    OK    OK    OK  UNNEEDED, same version is already published
kjohnson1macOS 13.6.1 Ventura / arm64see weekly results here
Package 75/484HostnameOS / ArchINSTALLBUILDCHECKBUILD BIN
ChIPpeakAnno 3.36.1  (landing page)
Jianhong Ou
git_last_commit: 105ec60
git_last_commit_date: 2024-02-15 15:06:09 -0400
nebbiolo2Linux (Ubuntu 22.04.3 LTS) / x86_64  OK    OK    OK  UNNEEDED, same version is already published
palomino4Windows Server 2022 Datacenter / x64  OK    OK    OK    OK  UNNEEDED, same version is already published
merida1macOS 12.7.1 Monterey / x86_64  OK    OK    OK    OK  UNNEEDED, same version is already published
kjohnson1macOS 13.6.1 Ventura / arm64see weekly results here
Package 76/484HostnameOS / ArchINSTALLBUILDCHECKBUILD BIN
ChIPQC 1.38.0  (landing page)
Tom Carroll , Rory Stark
git_last_commit: 850e458
git_last_commit_date: 2023-10-24 09:58:19 -0400
nebbiolo2Linux (Ubuntu 22.04.3 LTS) / x86_64  OK    OK    WARNINGS  UNNEEDED, same version is already published
palomino4Windows Server 2022 Datacenter / x64  OK    OK    WARNINGS    OK  UNNEEDED, same version is already published
merida1macOS 12.7.1 Monterey / x86_64  OK    OK    WARNINGS    OK  UNNEEDED, same version is already published
kjohnson1macOS 13.6.1 Ventura / arm64see weekly results here
Package 77/484HostnameOS / ArchINSTALLBUILDCHECKBUILD BIN
ChIPseeker 1.38.0  (landing page)
Guangchuang Yu
git_last_commit: 7da66e2
git_last_commit_date: 2023-10-24 09:58:56 -0400
nebbiolo2Linux (Ubuntu 22.04.3 LTS) / x86_64  OK    OK    OK  UNNEEDED, same version is already published
palomino4Windows Server 2022 Datacenter / x64  OK    OK    OK    OK  UNNEEDED, same version is already published
merida1macOS 12.7.1 Monterey / x86_64  OK    OK    TIMEOUT    OK  
kjohnson1macOS 13.6.1 Ventura / arm64see weekly results here
Package 78/484HostnameOS / ArchINSTALLBUILDCHECKBUILD BIN
chipseq 1.52.0  (landing page)
Bioconductor Package Maintainer
git_last_commit: 1092f8c
git_last_commit_date: 2023-10-24 09:42:03 -0400
nebbiolo2Linux (Ubuntu 22.04.3 LTS) / x86_64  OK    OK    WARNINGS  UNNEEDED, same version is already published
palomino4Windows Server 2022 Datacenter / x64  OK    OK    WARNINGS    OK  UNNEEDED, same version is already published
merida1macOS 12.7.1 Monterey / x86_64  OK    OK    WARNINGS    OK  UNNEEDED, same version is already published
kjohnson1macOS 13.6.1 Ventura / arm64see weekly results here
Package 79/484HostnameOS / ArchINSTALLBUILDCHECKBUILD BIN
ChIPseqR 1.56.0  (landing page)
Peter Humburg
git_last_commit: b474bac
git_last_commit_date: 2023-10-24 09:42:51 -0400
nebbiolo2Linux (Ubuntu 22.04.3 LTS) / x86_64  OK    OK    OK  UNNEEDED, same version is already published
palomino4Windows Server 2022 Datacenter / x64  OK    OK    OK    OK  UNNEEDED, same version is already published
merida1macOS 12.7.1 Monterey / x86_64  OK    OK    OK    OK  UNNEEDED, same version is already published
kjohnson1macOS 13.6.1 Ventura / arm64see weekly results here
Package 80/484HostnameOS / ArchINSTALLBUILDCHECKBUILD BIN
ChromHeatMap 1.56.0  (landing page)
Tim F. Rayner
git_last_commit: 453e688
git_last_commit_date: 2023-10-24 09:42:48 -0400
nebbiolo2Linux (Ubuntu 22.04.3 LTS) / x86_64  OK    OK    OK  UNNEEDED, same version is already published
palomino4Windows Server 2022 Datacenter / x64  OK    OK    OK    OK  UNNEEDED, same version is already published
merida1macOS 12.7.1 Monterey / x86_64  OK    OK    OK    OK  UNNEEDED, same version is already published
kjohnson1macOS 13.6.1 Ventura / arm64see weekly results here
Package 81/484HostnameOS / ArchINSTALLBUILDCHECKBUILD BIN
chromstaR 1.28.0  (landing page)
Aaron Taudt
git_last_commit: b61ea88
git_last_commit_date: 2023-10-24 10:51:00 -0400
nebbiolo2Linux (Ubuntu 22.04.3 LTS) / x86_64  OK    ERROR  skipped
palomino4Windows Server 2022 Datacenter / x64  OK    ERROR  skippedskipped
merida1macOS 12.7.1 Monterey / x86_64  OK    ERROR  skippedskipped
kjohnson1macOS 13.6.1 Ventura / arm64see weekly results here
Package 82/484HostnameOS / ArchINSTALLBUILDCHECKBUILD BIN
chromVAR 1.24.0  (landing page)
Alicia Schep
git_last_commit: e2d61b0
git_last_commit_date: 2023-10-24 11:00:14 -0400
nebbiolo2Linux (Ubuntu 22.04.3 LTS) / x86_64  OK    OK    OK  UNNEEDED, same version is already published
palomino4Windows Server 2022 Datacenter / x64  OK    OK    OK    OK  UNNEEDED, same version is already published
merida1macOS 12.7.1 Monterey / x86_64  OK    OK    OK    OK  UNNEEDED, same version is already published
kjohnson1macOS 13.6.1 Ventura / arm64see weekly results here
Package 83/484HostnameOS / ArchINSTALLBUILDCHECKBUILD BIN
cicero 1.20.0  (landing page)
Hannah Pliner
git_last_commit: 5f59985
git_last_commit_date: 2023-10-24 11:08:17 -0400
nebbiolo2Linux (Ubuntu 22.04.3 LTS) / x86_64  ERROR    ERROR  skipped
palomino4Windows Server 2022 Datacenter / x64  ERROR    ERROR  skippedskipped
merida1macOS 12.7.1 Monterey / x86_64  ERROR    ERROR  skippedskipped
kjohnson1macOS 13.6.1 Ventura / arm64see weekly results here
Package 84/484HostnameOS / ArchINSTALLBUILDCHECKBUILD BIN
CircSeqAlignTk 1.4.0  (landing page)
Jianqiang Sun
git_last_commit: 958204b
git_last_commit_date: 2023-10-24 11:44:28 -0400
nebbiolo2Linux (Ubuntu 22.04.3 LTS) / x86_64  OK    OK    OK  UNNEEDED, same version is already published
palomino4Windows Server 2022 Datacenter / x64  OK    OK    ERROR    OK  
merida1macOS 12.7.1 Monterey / x86_64  OK    OK    OK    OK  UNNEEDED, same version is already published
kjohnson1macOS 13.6.1 Ventura / arm64see weekly results here
Package 85/484HostnameOS / ArchINSTALLBUILDCHECKBUILD BIN
clusterExperiment 2.22.0  (landing page)
Elizabeth Purdom
git_last_commit: e99c78d
git_last_commit_date: 2023-10-24 10:51:18 -0400
nebbiolo2Linux (Ubuntu 22.04.3 LTS) / x86_64  OK    OK    WARNINGS  UNNEEDED, same version is already published
palomino4Windows Server 2022 Datacenter / x64  OK    OK    WARNINGS    OK  UNNEEDED, same version is already published
merida1macOS 12.7.1 Monterey / x86_64  OK    OK    WARNINGS    OK  UNNEEDED, same version is already published
kjohnson1macOS 13.6.1 Ventura / arm64see weekly results here
Package 86/484HostnameOS / ArchINSTALLBUILDCHECKBUILD BIN
clusterSeq 1.26.0  (landing page)
Thomas J. Hardcastle
git_last_commit: 61fea32
git_last_commit_date: 2023-10-24 10:54:36 -0400
nebbiolo2Linux (Ubuntu 22.04.3 LTS) / x86_64  OK    OK    WARNINGS  UNNEEDED, same version is already published
palomino4Windows Server 2022 Datacenter / x64  OK    OK    WARNINGS    OK  UNNEEDED, same version is already published
merida1macOS 12.7.1 Monterey / x86_64  OK    OK    WARNINGS    OK  UNNEEDED, same version is already published
kjohnson1macOS 13.6.1 Ventura / arm64see weekly results here
Package 87/484HostnameOS / ArchINSTALLBUILDCHECKBUILD BIN
cn.mops 1.48.0  (landing page)
Gundula Povysil
git_last_commit: f3cf243
git_last_commit_date: 2023-10-24 09:48:47 -0400
nebbiolo2Linux (Ubuntu 22.04.3 LTS) / x86_64  OK    OK    OK  UNNEEDED, same version is already published
palomino4Windows Server 2022 Datacenter / x64  OK    OK    OK    OK  UNNEEDED, same version is already published
merida1macOS 12.7.1 Monterey / x86_64  OK    OK    OK    OK  UNNEEDED, same version is already published
kjohnson1macOS 13.6.1 Ventura / arm64see weekly results here
Package 88/484HostnameOS / ArchINSTALLBUILDCHECKBUILD BIN
CNEr 1.38.0  (landing page)
Ge Tan
git_last_commit: 50955a0
git_last_commit_date: 2023-10-24 09:57:27 -0400
nebbiolo2Linux (Ubuntu 22.04.3 LTS) / x86_64  OK    OK    WARNINGS  UNNEEDED, same version is already published
palomino4Windows Server 2022 Datacenter / x64  OK    OK    WARNINGS    OK  UNNEEDED, same version is already published
merida1macOS 12.7.1 Monterey / x86_64  OK    OK    WARNINGS    OK  UNNEEDED, same version is already published
kjohnson1macOS 13.6.1 Ventura / arm64see weekly results here
Package 89/484HostnameOS / ArchINSTALLBUILDCHECKBUILD BIN
CNVPanelizer 1.34.0  (landing page)
Thomas Wolf
git_last_commit: ca119f6
git_last_commit_date: 2023-10-24 10:44:06 -0400
nebbiolo2Linux (Ubuntu 22.04.3 LTS) / x86_64  OK    OK    OK  UNNEEDED, same version is already published
palomino4Windows Server 2022 Datacenter / x64  OK    OK    OK    OK  UNNEEDED, same version is already published
merida1macOS 12.7.1 Monterey / x86_64  OK    OK    OK    OK  UNNEEDED, same version is already published
kjohnson1macOS 13.6.1 Ventura / arm64see weekly results here
Package 90/484HostnameOS / ArchINSTALLBUILDCHECKBUILD BIN
CNVRanger 1.18.1  (landing page)
Ludwig Geistlinger
git_last_commit: bccc306
git_last_commit_date: 2024-02-24 16:54:29 -0400
nebbiolo2Linux (Ubuntu 22.04.3 LTS) / x86_64  OK    ERROR  skipped
palomino4Windows Server 2022 Datacenter / x64  OK    OK    OK    OK  UNNEEDED, same version is already published
merida1macOS 12.7.1 Monterey / x86_64  OK    OK    OK    OK  UNNEEDED, same version is already published
kjohnson1macOS 13.6.1 Ventura / arm64see weekly results here
Package 91/484HostnameOS / ArchINSTALLBUILDCHECKBUILD BIN
COCOA 2.16.0  (landing page)
John Lawson
git_last_commit: d18f2bc
git_last_commit_date: 2023-10-24 11:09:00 -0400
nebbiolo2Linux (Ubuntu 22.04.3 LTS) / x86_64  OK    OK    OK  UNNEEDED, same version is already published
palomino4Windows Server 2022 Datacenter / x64  OK    OK    OK    OK  UNNEEDED, same version is already published
merida1macOS 12.7.1 Monterey / x86_64  OK    OK    OK    OK  UNNEEDED, same version is already published
kjohnson1macOS 13.6.1 Ventura / arm64see weekly results here
Package 92/484HostnameOS / ArchINSTALLBUILDCHECKBUILD BIN
codelink 1.70.0  (landing page)
Diego Diez
git_last_commit: 2bef0c7
git_last_commit_date: 2023-10-24 09:36:06 -0400
nebbiolo2Linux (Ubuntu 22.04.3 LTS) / x86_64  OK    OK    OK  UNNEEDED, same version is already published
palomino4Windows Server 2022 Datacenter / x64  OK    OK    OK    OK  UNNEEDED, same version is already published
merida1macOS 12.7.1 Monterey / x86_64  OK    OK    OK    OK  UNNEEDED, same version is already published
kjohnson1macOS 13.6.1 Ventura / arm64see weekly results here
Package 93/484HostnameOS / ArchINSTALLBUILDCHECKBUILD BIN
cola 2.8.0  (landing page)
Zuguang Gu
git_last_commit: 3c447b4
git_last_commit_date: 2023-10-24 11:10:27 -0400
nebbiolo2Linux (Ubuntu 22.04.3 LTS) / x86_64  OK    OK    OK  UNNEEDED, same version is already published
palomino4Windows Server 2022 Datacenter / x64  OK    OK    OK    OK  UNNEEDED, same version is already published
merida1macOS 12.7.1 Monterey / x86_64  OK    OK    OK    OK  UNNEEDED, same version is already published
kjohnson1macOS 13.6.1 Ventura / arm64see weekly results here
Package 94/484HostnameOS / ArchINSTALLBUILDCHECKBUILD BIN
compEpiTools 1.36.0  (landing page)
Mattia Furlan
git_last_commit: a66a836
git_last_commit_date: 2023-10-24 10:00:44 -0400
nebbiolo2Linux (Ubuntu 22.04.3 LTS) / x86_64  OK    OK    WARNINGS  UNNEEDED, same version is already published
palomino4Windows Server 2022 Datacenter / x64  OK    OK    WARNINGS    OK  UNNEEDED, same version is already published
merida1macOS 12.7.1 Monterey / x86_64  OK    OK    WARNINGS    OK  UNNEEDED, same version is already published
kjohnson1macOS 13.6.1 Ventura / arm64see weekly results here
Package 95/484HostnameOS / ArchINSTALLBUILDCHECKBUILD BIN
CompoundDb 1.6.0  (landing page)
Johannes Rainer
git_last_commit: 288e0ba
git_last_commit_date: 2023-10-24 11:39:19 -0400
nebbiolo2Linux (Ubuntu 22.04.3 LTS) / x86_64  OK    OK    OK  UNNEEDED, same version is already published
palomino4Windows Server 2022 Datacenter / x64  OK    OK    OK    OK  UNNEEDED, same version is already published
merida1macOS 12.7.1 Monterey / x86_64  OK    OK    OK    OK  UNNEEDED, same version is already published
kjohnson1macOS 13.6.1 Ventura / arm64see weekly results here
Package 96/484HostnameOS / ArchINSTALLBUILDCHECKBUILD BIN
consensusDE 1.20.0  (landing page)
Ashley J. Waardenberg
git_last_commit: 8cccaad
git_last_commit_date: 2023-10-24 11:09:05 -0400
nebbiolo2Linux (Ubuntu 22.04.3 LTS) / x86_64  OK    OK    OK  UNNEEDED, same version is already published
palomino4Windows Server 2022 Datacenter / x64  OK    OK    OK    OK  UNNEEDED, same version is already published
merida1macOS 12.7.1 Monterey / x86_64  OK    OK    OK    OK  UNNEEDED, same version is already published
kjohnson1macOS 13.6.1 Ventura / arm64see weekly results here
Package 97/484HostnameOS / ArchINSTALLBUILDCHECKBUILD BIN
consensusSeekeR 1.30.0  (landing page)
Astrid Deschenes
git_last_commit: 6922cd9
git_last_commit_date: 2023-10-24 10:46:19 -0400
nebbiolo2Linux (Ubuntu 22.04.3 LTS) / x86_64  OK    OK    OK  UNNEEDED, same version is already published
palomino4Windows Server 2022 Datacenter / x64  OK    OK    OK    OK  UNNEEDED, same version is already published
merida1macOS 12.7.1 Monterey / x86_64  OK    OK    OK    OK  UNNEEDED, same version is already published
kjohnson1macOS 13.6.1 Ventura / arm64see weekly results here
Package 98/484HostnameOS / ArchINSTALLBUILDCHECKBUILD BIN
contiBAIT 1.30.0  (landing page)
Kieran O'Neill
git_last_commit: 4d4e432
git_last_commit_date: 2023-10-24 10:47:36 -0400
nebbiolo2Linux (Ubuntu 22.04.3 LTS) / x86_64  OK    OK    WARNINGS  UNNEEDED, same version is already published
palomino4Windows Server 2022 Datacenter / x64  OK    OK    WARNINGS    OK  UNNEEDED, same version is already published
merida1macOS 12.7.1 Monterey / x86_64  OK    OK    WARNINGS    OK  UNNEEDED, same version is already published
kjohnson1macOS 13.6.1 Ventura / arm64see weekly results here
Package 99/484HostnameOS / ArchINSTALLBUILDCHECKBUILD BIN
CoreGx 2.6.1  (landing page)
Benjamin Haibe-Kains
git_last_commit: a9b3365
git_last_commit_date: 2024-03-11 16:26:11 -0400
nebbiolo2Linux (Ubuntu 22.04.3 LTS) / x86_64  OK    OK    WARNINGS  UNNEEDED, same version is already published
palomino4Windows Server 2022 Datacenter / x64  OK    OK    WARNINGS    OK  UNNEEDED, same version is already published
merida1macOS 12.7.1 Monterey / x86_64  OK    OK    WARNINGS    OK  UNNEEDED, same version is already published
kjohnson1macOS 13.6.1 Ventura / arm64see weekly results here
Package 100/484HostnameOS / ArchINSTALLBUILDCHECKBUILD BIN
crisprBase 1.6.0  (landing page)
Jean-Philippe Fortin
git_last_commit: bee5106
git_last_commit_date: 2023-10-24 11:38:53 -0400
nebbiolo2Linux (Ubuntu 22.04.3 LTS) / x86_64  OK    OK    OK  UNNEEDED, same version is already published
palomino4Windows Server 2022 Datacenter / x64  OK    OK    OK    OK  UNNEEDED, same version is already published
merida1macOS 12.7.1 Monterey / x86_64  OK    OK    OK    OK  UNNEEDED, same version is already published
kjohnson1macOS 13.6.1 Ventura / arm64see weekly results here
Package 101/484HostnameOS / ArchINSTALLBUILDCHECKBUILD BIN
crisprBowtie 1.6.0  (landing page)
Jean-Philippe Fortin
git_last_commit: 8e28fd8
git_last_commit_date: 2023-10-24 11:39:40 -0400
nebbiolo2Linux (Ubuntu 22.04.3 LTS) / x86_64  OK    OK    OK  UNNEEDED, same version is already published
palomino4Windows Server 2022 Datacenter / x64  OK    OK    OK    OK  UNNEEDED, same version is already published
merida1macOS 12.7.1 Monterey / x86_64  OK    OK    OK    OK  UNNEEDED, same version is already published
kjohnson1macOS 13.6.1 Ventura / arm64see weekly results here
Package 102/484HostnameOS / ArchINSTALLBUILDCHECKBUILD BIN
crisprBwa 1.6.0  (landing page)
Jean-Philippe Fortin
git_last_commit: e4775a7
git_last_commit_date: 2023-10-24 11:41:41 -0400
nebbiolo2Linux (Ubuntu 22.04.3 LTS) / x86_64  OK    OK    OK  UNNEEDED, same version is already published
palomino4Windows Server 2022 Datacenter / x64... NOT SUPPORTED ...
merida1macOS 12.7.1 Monterey / x86_64  OK    OK    OK    OK  UNNEEDED, same version is already published
kjohnson1macOS 13.6.1 Ventura / arm64see weekly results here
Package 103/484HostnameOS / ArchINSTALLBUILDCHECKBUILD BIN
crisprDesign 1.4.0  (landing page)
Jean-Philippe Fortin
git_last_commit: 47405b3
git_last_commit_date: 2023-10-24 11:43:12 -0400
nebbiolo2Linux (Ubuntu 22.04.3 LTS) / x86_64  OK    OK    OK  UNNEEDED, same version is already published
palomino4Windows Server 2022 Datacenter / x64  OK    OK    OK    OK  UNNEEDED, same version is already published
merida1macOS 12.7.1 Monterey / x86_64  OK    OK    OK    OK  UNNEEDED, same version is already published
kjohnson1macOS 13.6.1 Ventura / arm64see weekly results here
Package 104/484HostnameOS / ArchINSTALLBUILDCHECKBUILD BIN
crisprScore 1.6.0  (landing page)
Jean-Philippe Fortin
git_last_commit: d5de542
git_last_commit_date: 2023-10-24 11:38:59 -0400
nebbiolo2Linux (Ubuntu 22.04.3 LTS) / x86_64  OK    OK    OK  UNNEEDED, same version is already published
palomino4Windows Server 2022 Datacenter / x64  OK    OK    OK    OK  UNNEEDED, same version is already published
merida1macOS 12.7.1 Monterey / x86_64  OK    OK    OK    OK  UNNEEDED, same version is already published
kjohnson1macOS 13.6.1 Ventura / arm64see weekly results here
Package 105/484HostnameOS / ArchINSTALLBUILDCHECKBUILD BIN
CRISPRseek 1.42.0  (landing page)
Lihua Julie Zhu
git_last_commit: bd578a5
git_last_commit_date: 2023-10-24 09:56:49 -0400
nebbiolo2Linux (Ubuntu 22.04.3 LTS) / x86_64  OK    OK    OK  UNNEEDED, same version is already published
palomino4Windows Server 2022 Datacenter / x64  OK    OK    TIMEOUT    OK  
merida1macOS 12.7.1 Monterey / x86_64  OK    OK    TIMEOUT    OK  
kjohnson1macOS 13.6.1 Ventura / arm64see weekly results here
Package 106/484HostnameOS / ArchINSTALLBUILDCHECKBUILD BIN
crisprViz 1.4.0  (landing page)
Jean-Philippe Fortin
git_last_commit: 1275317
git_last_commit_date: 2023-10-24 11:44:10 -0400
nebbiolo2Linux (Ubuntu 22.04.3 LTS) / x86_64  OK    OK    OK  UNNEEDED, same version is already published
palomino4Windows Server 2022 Datacenter / x64  OK    OK    OK    OK  UNNEEDED, same version is already published
merida1macOS 12.7.1 Monterey / x86_64  OK    OK    OK    OK  UNNEEDED, same version is already published
kjohnson1macOS 13.6.1 Ventura / arm64see weekly results here
Package 107/484HostnameOS / ArchINSTALLBUILDCHECKBUILD BIN
crlmm 1.60.0  (landing page)
Benilton S Carvalho
git_last_commit: 1271399
git_last_commit_date: 2023-10-24 09:41:39 -0400
nebbiolo2Linux (Ubuntu 22.04.3 LTS) / x86_64  OK    OK    WARNINGS  UNNEEDED, same version is already published
palomino4Windows Server 2022 Datacenter / x64  OK    OK    WARNINGS    OK  UNNEEDED, same version is already published
merida1macOS 12.7.1 Monterey / x86_64  OK    OK    WARNINGS    OK  UNNEEDED, same version is already published
kjohnson1macOS 13.6.1 Ventura / arm64see weekly results here
Package 108/484HostnameOS / ArchINSTALLBUILDCHECKBUILD BIN
crossmeta 1.28.0  (landing page)
Alex Pickering
git_last_commit: 3ae7537
git_last_commit_date: 2023-10-24 10:50:52 -0400
nebbiolo2Linux (Ubuntu 22.04.3 LTS) / x86_64  OK    OK    OK  UNNEEDED, same version is already published
palomino4Windows Server 2022 Datacenter / x64  OK    OK    OK    OK  UNNEEDED, same version is already published
merida1macOS 12.7.1 Monterey / x86_64  OK    OK    OK    OK  UNNEEDED, same version is already published
kjohnson1macOS 13.6.1 Ventura / arm64see weekly results here
Package 109/484HostnameOS / ArchINSTALLBUILDCHECKBUILD BIN
csaw 1.36.1  (landing page)
Aaron Lun
git_last_commit: 25b51ba
git_last_commit_date: 2023-11-30 02:21:57 -0400
nebbiolo2Linux (Ubuntu 22.04.3 LTS) / x86_64  OK    OK    WARNINGS  UNNEEDED, same version is already published
palomino4Windows Server 2022 Datacenter / x64  OK    OK    WARNINGS    OK  UNNEEDED, same version is already published
merida1macOS 12.7.1 Monterey / x86_64  OK    OK    WARNINGS    OK  UNNEEDED, same version is already published
kjohnson1macOS 13.6.1 Ventura / arm64see weekly results here
Package 110/484HostnameOS / ArchINSTALLBUILDCHECKBUILD BIN
cummeRbund 2.44.0  (landing page)
Loyal A. Goff
git_last_commit: c4179c6
git_last_commit_date: 2023-10-24 09:48:13 -0400
nebbiolo2Linux (Ubuntu 22.04.3 LTS) / x86_64  OK    OK    WARNINGS  UNNEEDED, same version is already published
palomino4Windows Server 2022 Datacenter / x64  OK    OK    WARNINGS    OK  UNNEEDED, same version is already published
merida1macOS 12.7.1 Monterey / x86_64  OK    OK    WARNINGS    OK  UNNEEDED, same version is already published
kjohnson1macOS 13.6.1 Ventura / arm64see weekly results here
Package 111/484HostnameOS / ArchINSTALLBUILDCHECKBUILD BIN
CuratedAtlasQueryR 1.0.1  (landing page)
Stefano Mangiola
git_last_commit: bb3acd7
git_last_commit_date: 2023-12-06 18:35:08 -0400
nebbiolo2Linux (Ubuntu 22.04.3 LTS) / x86_64  OK    OK    OK  UNNEEDED, same version is already published
palomino4Windows Server 2022 Datacenter / x64  OK    OK    OK    OK  UNNEEDED, same version is already published
merida1macOS 12.7.1 Monterey / x86_64  OK    OK    OK    OK  UNNEEDED, same version is already published
kjohnson1macOS 13.6.1 Ventura / arm64see weekly results here
Package 112/484HostnameOS / ArchINSTALLBUILDCHECKBUILD BIN
cydar 1.26.0  (landing page)
Aaron Lun
git_last_commit: 0191ed4
git_last_commit_date: 2023-10-24 10:56:16 -0400
nebbiolo2Linux (Ubuntu 22.04.3 LTS) / x86_64  OK    OK    OK  UNNEEDED, same version is already published
palomino4Windows Server 2022 Datacenter / x64  OK    OK    OK    OK  UNNEEDED, same version is already published
merida1macOS 12.7.1 Monterey / x86_64  OK    OK    OK    OK  UNNEEDED, same version is already published
kjohnson1macOS 13.6.1 Ventura / arm64see weekly results here
Package 113/484HostnameOS / ArchINSTALLBUILDCHECKBUILD BIN
dada2 1.30.0  (landing page)
Benjamin Callahan
git_last_commit: ec87892
git_last_commit_date: 2023-10-24 10:47:58 -0400
nebbiolo2Linux (Ubuntu 22.04.3 LTS) / x86_64  OK    OK    OK  UNNEEDED, same version is already published
palomino4Windows Server 2022 Datacenter / x64  OK    OK    OK    OK  UNNEEDED, same version is already published
merida1macOS 12.7.1 Monterey / x86_64  OK    OK    OK    OK  UNNEEDED, same version is already published
kjohnson1macOS 13.6.1 Ventura / arm64see weekly results here
Package 114/484HostnameOS / ArchINSTALLBUILDCHECKBUILD BIN
dagLogo 1.40.0  (landing page)
Jianhong Ou
git_last_commit: 5fd0779
git_last_commit_date: 2023-10-24 09:56:10 -0400
nebbiolo2Linux (Ubuntu 22.04.3 LTS) / x86_64  OK    OK    OK  UNNEEDED, same version is already published
palomino4Windows Server 2022 Datacenter / x64  OK    OK    OK    OK  UNNEEDED, same version is already published
merida1macOS 12.7.1 Monterey / x86_64  OK    OK    OK    OK  UNNEEDED, same version is already published
kjohnson1macOS 13.6.1 Ventura / arm64see weekly results here
Package 115/484HostnameOS / ArchINSTALLBUILDCHECKBUILD BIN
DAMEfinder 1.14.0  (landing page)
Stephany Orjuela
git_last_commit: 622c379
git_last_commit_date: 2023-10-24 11:19:04 -0400
nebbiolo2Linux (Ubuntu 22.04.3 LTS) / x86_64  OK    OK    OK  UNNEEDED, same version is already published
palomino4Windows Server 2022 Datacenter / x64  OK    OK    OK    OK  UNNEEDED, same version is already published
merida1macOS 12.7.1 Monterey / x86_64  OK    OK    OK    OK  UNNEEDED, same version is already published
kjohnson1macOS 13.6.1 Ventura / arm64see weekly results here
Package 116/484HostnameOS / ArchINSTALLBUILDCHECKBUILD BIN
ddCt 1.58.0  (landing page)
Jitao David Zhang
git_last_commit: 33ff3d4
git_last_commit_date: 2023-10-24 09:42:16 -0400
nebbiolo2Linux (Ubuntu 22.04.3 LTS) / x86_64  OK    OK    WARNINGS  UNNEEDED, same version is already published
palomino4Windows Server 2022 Datacenter / x64  OK    OK    WARNINGS    OK  UNNEEDED, same version is already published
merida1macOS 12.7.1 Monterey / x86_64  OK    OK    WARNINGS    OK  UNNEEDED, same version is already published
kjohnson1macOS 13.6.1 Ventura / arm64see weekly results here
Package 117/484HostnameOS / ArchINSTALLBUILDCHECKBUILD BIN
decompTumor2Sig 2.18.0  (landing page)
Rosario M. Piro
git_last_commit: d01f0b5
git_last_commit_date: 2023-10-24 11:09:45 -0400
nebbiolo2Linux (Ubuntu 22.04.3 LTS) / x86_64  OK    OK    OK  UNNEEDED, same version is already published
palomino4Windows Server 2022 Datacenter / x64  OK    OK    OK    OK  UNNEEDED, same version is already published
merida1macOS 12.7.1 Monterey / x86_64  OK    OK    OK    OK  UNNEEDED, same version is already published
kjohnson1macOS 13.6.1 Ventura / arm64see weekly results here
Package 118/484HostnameOS / ArchINSTALLBUILDCHECKBUILD BIN
deconvR 1.8.0  (landing page)
Irem B. Gündüz
git_last_commit: ab010e5
git_last_commit_date: 2023-10-24 11:37:39 -0400
nebbiolo2Linux (Ubuntu 22.04.3 LTS) / x86_64  OK    OK    OK  UNNEEDED, same version is already published
palomino4Windows Server 2022 Datacenter / x64  OK    OK    OK    OK  UNNEEDED, same version is already published
merida1macOS 12.7.1 Monterey / x86_64  OK    OK    OK    OK  UNNEEDED, same version is already published
kjohnson1macOS 13.6.1 Ventura / arm64see weekly results here
Package 119/484HostnameOS / ArchINSTALLBUILDCHECKBUILD BIN
DEGreport 1.38.5  (landing page)
Lorena Pantano
git_last_commit: 672d8e5
git_last_commit_date: 2023-12-06 13:39:58 -0400
nebbiolo2Linux (Ubuntu 22.04.3 LTS) / x86_64  OK    OK    OK  UNNEEDED, same version is already published
palomino4Windows Server 2022 Datacenter / x64  OK    OK    OK    OK  UNNEEDED, same version is already published
merida1macOS 12.7.1 Monterey / x86_64  OK    OK    OK    OK  UNNEEDED, same version is already published
kjohnson1macOS 13.6.1 Ventura / arm64see weekly results here
Package 120/484HostnameOS / ArchINSTALLBUILDCHECKBUILD BIN
DelayedArray 0.28.0  (landing page)
Hervé Pagès
git_last_commit: 4f63877
git_last_commit_date: 2023-10-24 10:54:24 -0400
nebbiolo2Linux (Ubuntu 22.04.3 LTS) / x86_64  OK    OK    WARNINGS  UNNEEDED, same version is already published
palomino4Windows Server 2022 Datacenter / x64  OK    OK    WARNINGS    OK  UNNEEDED, same version is already published
merida1macOS 12.7.1 Monterey / x86_64  OK    OK    WARNINGS    OK  UNNEEDED, same version is already published
kjohnson1macOS 13.6.1 Ventura / arm64see weekly results here
Package 121/484HostnameOS / ArchINSTALLBUILDCHECKBUILD BIN
DelayedDataFrame 1.18.0  (landing page)
Qian Liu
git_last_commit: d8b9a40
git_last_commit_date: 2023-10-24 11:09:53 -0400
nebbiolo2Linux (Ubuntu 22.04.3 LTS) / x86_64  OK    OK    OK  UNNEEDED, same version is already published
palomino4Windows Server 2022 Datacenter / x64  OK    OK    OK    OK  UNNEEDED, same version is already published
merida1macOS 12.7.1 Monterey / x86_64  OK    OK    OK    OK  UNNEEDED, same version is already published
kjohnson1macOS 13.6.1 Ventura / arm64see weekly results here
Package 122/484HostnameOS / ArchINSTALLBUILDCHECKBUILD BIN
demuxSNP 1.0.0  (landing page)
Michael Lynch
git_last_commit: 1af04e3
git_last_commit_date: 2023-10-24 11:49:18 -0400
nebbiolo2Linux (Ubuntu 22.04.3 LTS) / x86_64  OK    OK    OK  UNNEEDED, same version is already published
palomino4Windows Server 2022 Datacenter / x64  OK    OK    OK    OK  UNNEEDED, same version is already published
merida1macOS 12.7.1 Monterey / x86_64  OK    OK    OK    OK  UNNEEDED, same version is already published
kjohnson1macOS 13.6.1 Ventura / arm64see weekly results here
Package 123/484HostnameOS / ArchINSTALLBUILDCHECKBUILD BIN
derfinder 1.36.0  (landing page)
Leonardo Collado-Torres
git_last_commit: 9bc4cd5
git_last_commit_date: 2023-10-24 10:38:56 -0400
nebbiolo2Linux (Ubuntu 22.04.3 LTS) / x86_64  OK    OK    OK  UNNEEDED, same version is already published
palomino4Windows Server 2022 Datacenter / x64  OK    OK    OK    OK  UNNEEDED, same version is already published
merida1macOS 12.7.1 Monterey / x86_64  OK    OK    OK    OK  UNNEEDED, same version is already published
kjohnson1macOS 13.6.1 Ventura / arm64see weekly results here
Package 124/484HostnameOS / ArchINSTALLBUILDCHECKBUILD BIN
DEScan2 1.22.0  (landing page)
Dario Righelli
git_last_commit: 9abfdf1
git_last_commit_date: 2023-10-24 11:03:24 -0400
nebbiolo2Linux (Ubuntu 22.04.3 LTS) / x86_64  OK    OK    WARNINGS  UNNEEDED, same version is already published
palomino4Windows Server 2022 Datacenter / x64  OK    OK    WARNINGS    OK  UNNEEDED, same version is already published
merida1macOS 12.7.1 Monterey / x86_64  OK    OK    WARNINGS    OK  UNNEEDED, same version is already published
kjohnson1macOS 13.6.1 Ventura / arm64see weekly results here
Package 125/484HostnameOS / ArchINSTALLBUILDCHECKBUILD BIN
DESeq2 1.42.1  (landing page)
Michael Love
git_last_commit: 1c1c928
git_last_commit_date: 2024-03-06 10:49:39 -0400
nebbiolo2Linux (Ubuntu 22.04.3 LTS) / x86_64  OK    OK    OK  UNNEEDED, same version is already published
palomino4Windows Server 2022 Datacenter / x64  OK    OK    OK    OK  UNNEEDED, same version is already published
merida1macOS 12.7.1 Monterey / x86_64  OK    OK    OK    OK  UNNEEDED, same version is already published
kjohnson1macOS 13.6.1 Ventura / arm64see weekly results here
Package 126/484HostnameOS / ArchINSTALLBUILDCHECKBUILD BIN
DESpace 1.2.1  (landing page)
Peiying Cai
git_last_commit: ad6d77d
git_last_commit_date: 2024-01-22 11:01:36 -0400
nebbiolo2Linux (Ubuntu 22.04.3 LTS) / x86_64  OK    OK    OK  UNNEEDED, same version is already published
palomino4Windows Server 2022 Datacenter / x64  OK    OK    OK    OK  UNNEEDED, same version is already published
merida1macOS 12.7.1 Monterey / x86_64  OK    OK    OK    OK  UNNEEDED, same version is already published
kjohnson1macOS 13.6.1 Ventura / arm64see weekly results here
Package 127/484HostnameOS / ArchINSTALLBUILDCHECKBUILD BIN
destiny 3.16.0  (landing page)
Philipp Angerer
git_last_commit: 300eb29
git_last_commit_date: 2023-12-28 07:36:24 -0400
nebbiolo2Linux (Ubuntu 22.04.3 LTS) / x86_64  OK    OK    OK  UNNEEDED, same version is already published
palomino4Windows Server 2022 Datacenter / x64  OK    OK    OK    OK  UNNEEDED, same version is already published
merida1macOS 12.7.1 Monterey / x86_64  OK    OK    OK    OK  UNNEEDED, same version is already published
kjohnson1macOS 13.6.1 Ventura / arm64see weekly results here
Package 128/484HostnameOS / ArchINSTALLBUILDCHECKBUILD BIN
DEWSeq 1.16.2  (landing page)
bioinformatics team Hentze
git_last_commit: 9459b13
git_last_commit_date: 2023-11-15 02:40:12 -0400
nebbiolo2Linux (Ubuntu 22.04.3 LTS) / x86_64  OK    OK    OK  UNNEEDED, same version is already published
palomino4Windows Server 2022 Datacenter / x64  OK    OK    OK    OK  UNNEEDED, same version is already published
merida1macOS 12.7.1 Monterey / x86_64  OK    OK    OK    OK  UNNEEDED, same version is already published
kjohnson1macOS 13.6.1 Ventura / arm64see weekly results here
Package 129/484HostnameOS / ArchINSTALLBUILDCHECKBUILD BIN
DEXSeq 1.48.0  (landing page)
Alejandro Reyes
git_last_commit: 40ec7ae
git_last_commit_date: 2023-10-24 09:47:02 -0400
nebbiolo2Linux (Ubuntu 22.04.3 LTS) / x86_64  OK    OK    OK  UNNEEDED, same version is already published
palomino4Windows Server 2022 Datacenter / x64  OK    OK    OK    OK  UNNEEDED, same version is already published
merida1macOS 12.7.1 Monterey / x86_64  OK    OK    OK    OK  UNNEEDED, same version is already published
kjohnson1macOS 13.6.1 Ventura / arm64see weekly results here
Package 130/484HostnameOS / ArchINSTALLBUILDCHECKBUILD BIN
diffcoexp 1.22.0  (landing page)
Wenbin Wei
git_last_commit: d903fab
git_last_commit_date: 2023-10-24 11:03:26 -0400
nebbiolo2Linux (Ubuntu 22.04.3 LTS) / x86_64  OK    OK    OK  UNNEEDED, same version is already published
palomino4Windows Server 2022 Datacenter / x64  OK    OK    OK    OK  UNNEEDED, same version is already published
merida1macOS 12.7.1 Monterey / x86_64  OK    OK    OK    OK  UNNEEDED, same version is already published
kjohnson1macOS 13.6.1 Ventura / arm64see weekly results here
Package 131/484HostnameOS / ArchINSTALLBUILDCHECKBUILD BIN
diffHic 1.34.0  (landing page)
Aaron Lun
git_last_commit: d7d9f66
git_last_commit_date: 2023-10-24 10:43:16 -0400
nebbiolo2Linux (Ubuntu 22.04.3 LTS) / x86_64  OK    OK    WARNINGS  UNNEEDED, same version is already published
palomino4Windows Server 2022 Datacenter / x64  OK    OK    WARNINGS    OK  UNNEEDED, same version is already published
merida1macOS 12.7.1 Monterey / x86_64  OK    OK    WARNINGS    OK  UNNEEDED, same version is already published
kjohnson1macOS 13.6.1 Ventura / arm64see weekly results here
Package 132/484HostnameOS / ArchINSTALLBUILDCHECKBUILD BIN
DirichletMultinomial 1.44.0  (landing page)
Martin Morgan
git_last_commit: dbea7cf
git_last_commit_date: 2023-10-24 09:50:08 -0400
nebbiolo2Linux (Ubuntu 22.04.3 LTS) / x86_64  OK    OK    WARNINGS  UNNEEDED, same version is already published
palomino4Windows Server 2022 Datacenter / x64  OK    OK    WARNINGS    OK  UNNEEDED, same version is already published
merida1macOS 12.7.1 Monterey / x86_64  OK    OK    OK    OK  UNNEEDED, same version is already published
kjohnson1macOS 13.6.1 Ventura / arm64see weekly results here
Package 133/484HostnameOS / ArchINSTALLBUILDCHECKBUILD BIN
DiscoRhythm 1.18.0  (landing page)
Matthew Carlucci
git_last_commit: 3019321
git_last_commit_date: 2023-10-24 11:12:44 -0400
nebbiolo2Linux (Ubuntu 22.04.3 LTS) / x86_64  OK    OK    OK  UNNEEDED, same version is already published
palomino4Windows Server 2022 Datacenter / x64  OK    OK    OK    OK  UNNEEDED, same version is already published
merida1macOS 12.7.1 Monterey / x86_64  OK    OK    OK    OK  UNNEEDED, same version is already published
kjohnson1macOS 13.6.1 Ventura / arm64see weekly results here
Package 134/484HostnameOS / ArchINSTALLBUILDCHECKBUILD BIN
DNAfusion 1.4.0  (landing page)
Christoffer Trier Maansson
git_last_commit: 6684cb7
git_last_commit_date: 2023-10-24 11:45:11 -0400
nebbiolo2Linux (Ubuntu 22.04.3 LTS) / x86_64  OK    OK    OK  UNNEEDED, same version is already published
palomino4Windows Server 2022 Datacenter / x64  OK    OK    OK    OK  UNNEEDED, same version is already published
merida1macOS 12.7.1 Monterey / x86_64  OK    OK    OK    OK  UNNEEDED, same version is already published
kjohnson1macOS 13.6.1 Ventura / arm64see weekly results here
Package 135/484HostnameOS / ArchINSTALLBUILDCHECKBUILD BIN
dreamlet 1.0.3  (landing page)
Gabriel Hoffman
git_last_commit: 0e59587
git_last_commit_date: 2024-02-27 14:51:44 -0400
nebbiolo2Linux (Ubuntu 22.04.3 LTS) / x86_64  OK    OK    OK  UNNEEDED, same version is already published
palomino4Windows Server 2022 Datacenter / x64  OK    OK    OK    OK  UNNEEDED, same version is already published
merida1macOS 12.7.1 Monterey / x86_64  OK    OK    OK    OK  UNNEEDED, same version is already published
kjohnson1macOS 13.6.1 Ventura / arm64see weekly results here
Package 136/484HostnameOS / ArchINSTALLBUILDCHECKBUILD BIN
DRIMSeq 1.30.0  (landing page)
Malgorzata Nowicka
git_last_commit: dca4fea
git_last_commit_date: 2023-10-24 10:48:39 -0400
nebbiolo2Linux (Ubuntu 22.04.3 LTS) / x86_64  OK    OK    WARNINGS  UNNEEDED, same version is already published
palomino4Windows Server 2022 Datacenter / x64  OK    OK    WARNINGS    OK  UNNEEDED, same version is already published
merida1macOS 12.7.1 Monterey / x86_64  OK    OK    WARNINGS    OK  UNNEEDED, same version is already published
kjohnson1macOS 13.6.1 Ventura / arm64see weekly results here
Package 137/484HostnameOS / ArchINSTALLBUILDCHECKBUILD BIN
DropletUtils 1.22.0  (landing page)
Jonathan Griffiths
git_last_commit: 56d3ce8
git_last_commit_date: 2023-10-24 11:02:09 -0400
nebbiolo2Linux (Ubuntu 22.04.3 LTS) / x86_64  OK    OK    WARNINGS  UNNEEDED, same version is already published
palomino4Windows Server 2022 Datacenter / x64  OK    OK    OK    OK  UNNEEDED, same version is already published
merida1macOS 12.7.1 Monterey / x86_64  OK    OK    WARNINGS    OK  UNNEEDED, same version is already published
kjohnson1macOS 13.6.1 Ventura / arm64see weekly results here
Package 138/484HostnameOS / ArchINSTALLBUILDCHECKBUILD BIN
DrugVsDisease 2.44.0  (landing page)
j. Saez-Rodriguez
git_last_commit: 65afd54
git_last_commit_date: 2023-10-24 09:52:37 -0400
nebbiolo2Linux (Ubuntu 22.04.3 LTS) / x86_64  OK    OK    OK  UNNEEDED, same version is already published
palomino4Windows Server 2022 Datacenter / x64  OK    OK    OK    OK  UNNEEDED, same version is already published
merida1macOS 12.7.1 Monterey / x86_64  OK    OK    OK    OK  UNNEEDED, same version is already published
kjohnson1macOS 13.6.1 Ventura / arm64see weekly results here
Package 139/484HostnameOS / ArchINSTALLBUILDCHECKBUILD BIN
easyRNASeq 2.38.0  (landing page)
Nicolas Delhomme
git_last_commit: e7d99c2
git_last_commit_date: 2023-10-24 09:49:08 -0400
nebbiolo2Linux (Ubuntu 22.04.3 LTS) / x86_64  OK    OK    OK  UNNEEDED, same version is already published
palomino4Windows Server 2022 Datacenter / x64  OK    OK    OK    OK  UNNEEDED, same version is already published
merida1macOS 12.7.1 Monterey / x86_64  OK    OK    OK    OK  UNNEEDED, same version is already published
kjohnson1macOS 13.6.1 Ventura / arm64see weekly results here
Package 140/484HostnameOS / ArchINSTALLBUILDCHECKBUILD BIN
EBImage 4.44.0  (landing page)
Andrzej Oleś
git_last_commit: 768d8e8
git_last_commit_date: 2023-10-24 09:36:28 -0400
nebbiolo2Linux (Ubuntu 22.04.3 LTS) / x86_64  OK    OK    OK  UNNEEDED, same version is already published
palomino4Windows Server 2022 Datacenter / x64  OK    OK    OK    OK  UNNEEDED, same version is already published
merida1macOS 12.7.1 Monterey / x86_64  OK    OK    OK    OK  UNNEEDED, same version is already published
kjohnson1macOS 13.6.1 Ventura / arm64see weekly results here
Package 141/484HostnameOS / ArchINSTALLBUILDCHECKBUILD BIN
EDASeq 2.36.0  (landing page)
Davide Risso
git_last_commit: af70dab
git_last_commit_date: 2023-10-24 09:47:57 -0400
nebbiolo2Linux (Ubuntu 22.04.3 LTS) / x86_64  OK    OK    OK  UNNEEDED, same version is already published
palomino4Windows Server 2022 Datacenter / x64  OK    OK    OK    OK  UNNEEDED, same version is already published
merida1macOS 12.7.1 Monterey / x86_64  OK    OK    OK    OK  UNNEEDED, same version is already published
kjohnson1macOS 13.6.1 Ventura / arm64see weekly results here
Package 142/484HostnameOS / ArchINSTALLBUILDCHECKBUILD BIN
eiR 1.42.0  (landing page)
Thomas Girke
git_last_commit: b7149c1
git_last_commit_date: 2023-10-24 09:53:29 -0400
nebbiolo2Linux (Ubuntu 22.04.3 LTS) / x86_64  OK    OK    OK  UNNEEDED, same version is already published
palomino4Windows Server 2022 Datacenter / x64  OK    OK    OK    OK  UNNEEDED, same version is already published
merida1macOS 12.7.1 Monterey / x86_64  OK    OK    OK    OK  UNNEEDED, same version is already published
kjohnson1macOS 13.6.1 Ventura / arm64see weekly results here
Package 143/484HostnameOS / ArchINSTALLBUILDCHECKBUILD BIN
eisaR 1.14.1  (landing page)
Michael Stadler
git_last_commit: e4a470a
git_last_commit_date: 2024-01-15 08:05:34 -0400
nebbiolo2Linux (Ubuntu 22.04.3 LTS) / x86_64  OK    OK    OK  UNNEEDED, same version is already published
palomino4Windows Server 2022 Datacenter / x64  OK    OK    OK    OK  UNNEEDED, same version is already published
merida1macOS 12.7.1 Monterey / x86_64  OK    OK    OK    OK  UNNEEDED, same version is already published
kjohnson1macOS 13.6.1 Ventura / arm64see weekly results here
Package 144/484HostnameOS / ArchINSTALLBUILDCHECKBUILD BIN
enhancerHomologSearch 1.8.3  (landing page)
Jianhong Ou
git_last_commit: f2f7a74
git_last_commit_date: 2024-02-06 11:45:52 -0400
nebbiolo2Linux (Ubuntu 22.04.3 LTS) / x86_64  OK    OK    OK  UNNEEDED, same version is already published
palomino4Windows Server 2022 Datacenter / x64  OK    OK    OK    OK  UNNEEDED, same version is already published
merida1macOS 12.7.1 Monterey / x86_64  OK    OK    OK    OK  UNNEEDED, same version is already published
kjohnson1macOS 13.6.1 Ventura / arm64see weekly results here
Package 145/484HostnameOS / ArchINSTALLBUILDCHECKBUILD BIN
enrichTF 1.18.0  (landing page)
Zheng Wei
git_last_commit: fab8b47
git_last_commit_date: 2023-10-24 11:13:36 -0400
nebbiolo2Linux (Ubuntu 22.04.3 LTS) / x86_64  OK    OK    ERROR  
palomino4Windows Server 2022 Datacenter / x64  OK    OK    OK    OK  UNNEEDED, same version is already published
merida1macOS 12.7.1 Monterey / x86_64  OK    OK    OK    OK  UNNEEDED, same version is already published
kjohnson1macOS 13.6.1 Ventura / arm64see weekly results here
Package 146/484HostnameOS / ArchINSTALLBUILDCHECKBUILD BIN
ensembldb 2.26.0  (landing page)
Johannes Rainer
git_last_commit: 7046d99
git_last_commit_date: 2023-10-24 10:42:20 -0400
nebbiolo2Linux (Ubuntu 22.04.3 LTS) / x86_64  OK    OK    OK  UNNEEDED, same version is already published
palomino4Windows Server 2022 Datacenter / x64  OK    OK    OK    OK  UNNEEDED, same version is already published
merida1macOS 12.7.1 Monterey / x86_64  OK    OK    OK    OK  UNNEEDED, same version is already published
kjohnson1macOS 13.6.1 Ventura / arm64see weekly results here
Package 147/484HostnameOS / ArchINSTALLBUILDCHECKBUILD BIN
ensemblVEP 1.44.0  (landing page)
Bioconductor Package Maintainer
git_last_commit: 58d05c0
git_last_commit_date: 2023-10-24 09:52:14 -0400
nebbiolo2Linux (Ubuntu 22.04.3 LTS) / x86_64  OK    OK    OK  UNNEEDED, same version is already published
palomino4Windows Server 2022 Datacenter / x64... NOT SUPPORTED ...
merida1macOS 12.7.1 Monterey / x86_64  OK    ERROR  skippedskipped
kjohnson1macOS 13.6.1 Ventura / arm64see weekly results here
Package 148/484HostnameOS / ArchINSTALLBUILDCHECKBUILD BIN
epialleleR 1.10.0  (landing page)
Oleksii Nikolaienko
git_last_commit: 4b18f84
git_last_commit_date: 2023-10-24 11:33:27 -0400
nebbiolo2Linux (Ubuntu 22.04.3 LTS) / x86_64  OK    OK    WARNINGS  UNNEEDED, same version is already published
palomino4Windows Server 2022 Datacenter / x64  OK    OK    OK    OK  UNNEEDED, same version is already published
merida1macOS 12.7.1 Monterey / x86_64  OK    OK    WARNINGS    OK  UNNEEDED, same version is already published
kjohnson1macOS 13.6.1 Ventura / arm64see weekly results here
Package 149/484HostnameOS / ArchINSTALLBUILDCHECKBUILD BIN
EpiCompare 1.6.7  (landing page)
Thomas Roberts
git_last_commit: 6ea246a
git_last_commit_date: 2024-03-19 06:14:23 -0400
nebbiolo2Linux (Ubuntu 22.04.3 LTS) / x86_64  OK    OK    OK  UNNEEDED, same version is already published
palomino4Windows Server 2022 Datacenter / x64  OK    OK    OK    OK  UNNEEDED, same version is already published
merida1macOS 12.7.1 Monterey / x86_64  OK    OK    ERROR    OK  
kjohnson1macOS 13.6.1 Ventura / arm64see weekly results here
Package 150/484HostnameOS / ArchINSTALLBUILDCHECKBUILD BIN
epigenomix 1.42.0  (landing page)
Hans-Ulrich Klein
git_last_commit: 060951e
git_last_commit_date: 2023-10-24 09:53:11 -0400
nebbiolo2Linux (Ubuntu 22.04.3 LTS) / x86_64  OK    OK    OK  UNNEEDED, same version is already published
palomino4Windows Server 2022 Datacenter / x64  OK    OK    OK    OK  UNNEEDED, same version is already published
merida1macOS 12.7.1 Monterey / x86_64  OK    OK    OK    OK  UNNEEDED, same version is already published
kjohnson1macOS 13.6.1 Ventura / arm64see weekly results here
Package 151/484HostnameOS / ArchINSTALLBUILDCHECKBUILD BIN
epimutacions 1.6.1  (landing page)
Dolors Pelegri-Siso
git_last_commit: ba2e314
git_last_commit_date: 2023-11-03 07:47:17 -0400
nebbiolo2Linux (Ubuntu 22.04.3 LTS) / x86_64  OK    OK    OK  UNNEEDED, same version is already published
palomino4Windows Server 2022 Datacenter / x64  OK    OK    OK    OK  UNNEEDED, same version is already published
merida1macOS 12.7.1 Monterey / x86_64  OK    OK    OK    OK  UNNEEDED, same version is already published
kjohnson1macOS 13.6.1 Ventura / arm64see weekly results here
Package 152/484HostnameOS / ArchINSTALLBUILDCHECKBUILD BIN
epistack 1.8.0  (landing page)
DEVAILLY Guillaume
git_last_commit: cd802db
git_last_commit_date: 2023-10-24 11:37:24 -0400
nebbiolo2Linux (Ubuntu 22.04.3 LTS) / x86_64  OK    OK    OK  UNNEEDED, same version is already published
palomino4Windows Server 2022 Datacenter / x64  OK    OK    OK    OK  UNNEEDED, same version is already published
merida1macOS 12.7.1 Monterey / x86_64  OK    OK    OK    OK  UNNEEDED, same version is already published
kjohnson1macOS 13.6.1 Ventura / arm64see weekly results here
Package 153/484HostnameOS / ArchINSTALLBUILDCHECKBUILD BIN
EpiTxDb 1.14.1  (landing page)
Felix G.M. Ernst
git_last_commit: 2c66df2
git_last_commit_date: 2024-01-15 14:58:58 -0400
nebbiolo2Linux (Ubuntu 22.04.3 LTS) / x86_64  OK    OK    OK  UNNEEDED, same version is already published
palomino4Windows Server 2022 Datacenter / x64  OK    OK    OK    OK  UNNEEDED, same version is already published
merida1macOS 12.7.1 Monterey / x86_64  OK    OK    OK    OK  UNNEEDED, same version is already published
kjohnson1macOS 13.6.1 Ventura / arm64see weekly results here
Package 154/484HostnameOS / ArchINSTALLBUILDCHECKBUILD BIN
epivizrChart 1.24.0  (landing page)
Hector Corrada Bravo
git_last_commit: 84bf342
git_last_commit_date: 2023-10-24 10:58:26 -0400
nebbiolo2Linux (Ubuntu 22.04.3 LTS) / x86_64  OK    OK    OK  UNNEEDED, same version is already published
palomino4Windows Server 2022 Datacenter / x64  OK    OK    OK    OK  UNNEEDED, same version is already published
merida1macOS 12.7.1 Monterey / x86_64  OK    OK    OK    OK  UNNEEDED, same version is already published
kjohnson1macOS 13.6.1 Ventura / arm64see weekly results here
Package 155/484HostnameOS / ArchINSTALLBUILDCHECKBUILD BIN
epivizrStandalone 1.30.0  (landing page)
Hector Corrada Bravo
git_last_commit: 85a3638
git_last_commit_date: 2023-10-24 10:50:20 -0400
nebbiolo2Linux (Ubuntu 22.04.3 LTS) / x86_64  OK    OK    WARNINGS  UNNEEDED, same version is already published
palomino4Windows Server 2022 Datacenter / x64  OK    OK    WARNINGS    OK  UNNEEDED, same version is already published
merida1macOS 12.7.1 Monterey / x86_64  OK    OK    WARNINGS    OK  UNNEEDED, same version is already published
kjohnson1macOS 13.6.1 Ventura / arm64see weekly results here
Package 156/484HostnameOS / ArchINSTALLBUILDCHECKBUILD BIN
erma 1.18.0  (landing page)
VJ Carey
git_last_commit: bed2908
git_last_commit_date: 2023-10-24 10:43:59 -0400
nebbiolo2Linux (Ubuntu 22.04.3 LTS) / x86_64  OK    OK    OK  UNNEEDED, same version is already published
palomino4Windows Server 2022 Datacenter / x64  OK    OK    OK    OK  UNNEEDED, same version is already published
merida1macOS 12.7.1 Monterey / x86_64  OK    OK    OK    OK  UNNEEDED, same version is already published
kjohnson1macOS 13.6.1 Ventura / arm64see weekly results here
Package 157/484HostnameOS / ArchINSTALLBUILDCHECKBUILD BIN
esATAC 1.24.0  (landing page)
Zheng Wei
git_last_commit: fc5274b
git_last_commit_date: 2023-10-24 11:01:27 -0400
nebbiolo2Linux (Ubuntu 22.04.3 LTS) / x86_64  OK    OK    OK  UNNEEDED, same version is already published
palomino4Windows Server 2022 Datacenter / x64  OK    OK    OK    OK  UNNEEDED, same version is already published
merida1macOS 12.7.1 Monterey / x86_64  OK    OK    OK    OK  UNNEEDED, same version is already published
kjohnson1macOS 13.6.1 Ventura / arm64see weekly results here
Package 158/484HostnameOS / ArchINSTALLBUILDCHECKBUILD BIN
exomePeak2 1.14.3  (landing page)
Zhen Wei
git_last_commit: 8d265ea
git_last_commit_date: 2023-11-26 20:47:38 -0400
nebbiolo2Linux (Ubuntu 22.04.3 LTS) / x86_64  OK    OK    OK  UNNEEDED, same version is already published
palomino4Windows Server 2022 Datacenter / x64  OK    OK    OK    OK  UNNEEDED, same version is already published
merida1macOS 12.7.1 Monterey / x86_64  OK    OK    OK    OK  UNNEEDED, same version is already published
kjohnson1macOS 13.6.1 Ventura / arm64see weekly results here
Package 159/484HostnameOS / ArchINSTALLBUILDCHECKBUILD BIN
ExperimentHub 2.10.0  (landing page)
Bioconductor Package Maintainer
git_last_commit: f9cb6a0
git_last_commit_date: 2023-10-24 10:48:01 -0400
nebbiolo2Linux (Ubuntu 22.04.3 LTS) / x86_64  OK    OK    WARNINGS  UNNEEDED, same version is already published
palomino4Windows Server 2022 Datacenter / x64  OK    OK    WARNINGS    OK  UNNEEDED, same version is already published
merida1macOS 12.7.1 Monterey / x86_64  OK    OK    WARNINGS    OK  UNNEEDED, same version is already published
kjohnson1macOS 13.6.1 Ventura / arm64see weekly results here
Package 160/484HostnameOS / ArchINSTALLBUILDCHECKBUILD BIN
ExperimentHubData 1.28.0  (landing page)
Bioconductor Package Maintainer
git_last_commit: ac4c327
git_last_commit_date: 2023-10-24 10:48:04 -0400
nebbiolo2Linux (Ubuntu 22.04.3 LTS) / x86_64  OK    OK    WARNINGS  UNNEEDED, same version is already published
palomino4Windows Server 2022 Datacenter / x64  OK    OK    WARNINGS    OK  UNNEEDED, same version is already published
merida1macOS 12.7.1 Monterey / x86_64  OK    OK    WARNINGS    OK  UNNEEDED, same version is already published
kjohnson1macOS 13.6.1 Ventura / arm64see weekly results here
Package 161/484HostnameOS / ArchINSTALLBUILDCHECKBUILD BIN
factR 1.4.0  (landing page)
Fursham Hamid
git_last_commit: 6338c66
git_last_commit_date: 2023-10-24 11:42:45 -0400
nebbiolo2Linux (Ubuntu 22.04.3 LTS) / x86_64  OK    OK    OK  UNNEEDED, same version is already published
palomino4Windows Server 2022 Datacenter / x64  OK    OK    OK    OK  UNNEEDED, same version is already published
merida1macOS 12.7.1 Monterey / x86_64  OK    OK    OK    OK  UNNEEDED, same version is already published
kjohnson1macOS 13.6.1 Ventura / arm64see weekly results here
Package 162/484HostnameOS / ArchINSTALLBUILDCHECKBUILD BIN
FamAgg 1.30.0  (landing page)
Johannes Rainer
git_last_commit: 0cbf201
git_last_commit_date: 2023-10-24 10:46:29 -0400
nebbiolo2Linux (Ubuntu 22.04.3 LTS) / x86_64  OK    OK    OK  UNNEEDED, same version is already published
palomino4Windows Server 2022 Datacenter / x64  OK    OK    OK    OK  UNNEEDED, same version is already published
merida1macOS 12.7.1 Monterey / x86_64  OK    OK    OK    OK  UNNEEDED, same version is already published
kjohnson1macOS 13.6.1 Ventura / arm64see weekly results here
Package 163/484HostnameOS / ArchINSTALLBUILDCHECKBUILD BIN
fastseg 1.48.0  (landing page)
Alexander Blume
git_last_commit: fc54ac5
git_last_commit_date: 2023-10-24 09:48:50 -0400
nebbiolo2Linux (Ubuntu 22.04.3 LTS) / x86_64  OK    OK    OK  UNNEEDED, same version is already published
palomino4Windows Server 2022 Datacenter / x64  OK    OK    OK    OK  UNNEEDED, same version is already published
merida1macOS 12.7.1 Monterey / x86_64  OK    OK    OK    OK  UNNEEDED, same version is already published
kjohnson1macOS 13.6.1 Ventura / arm64see weekly results here
Package 164/484HostnameOS / ArchINSTALLBUILDCHECKBUILD BIN
ffpe 1.46.0  (landing page)
Levi Waldron
git_last_commit: 1c71bd5
git_last_commit_date: 2023-10-24 09:49:37 -0400
nebbiolo2Linux (Ubuntu 22.04.3 LTS) / x86_64  OK    OK    OK  UNNEEDED, same version is already published
palomino4Windows Server 2022 Datacenter / x64  OK    OK    OK    OK  UNNEEDED, same version is already published
merida1macOS 12.7.1 Monterey / x86_64  OK    OK    OK    OK  UNNEEDED, same version is already published
kjohnson1macOS 13.6.1 Ventura / arm64see weekly results here
Package 165/484HostnameOS / ArchINSTALLBUILDCHECKBUILD BIN
FindIT2 1.8.0  (landing page)
Guandong Shang
git_last_commit: f4ef6c4
git_last_commit_date: 2023-10-24 11:34:37 -0400
nebbiolo2Linux (Ubuntu 22.04.3 LTS) / x86_64  OK    OK    OK  UNNEEDED, same version is already published
palomino4Windows Server 2022 Datacenter / x64  OK    OK    OK    OK  UNNEEDED, same version is already published
merida1macOS 12.7.1 Monterey / x86_64  OK    OK    OK    OK  UNNEEDED, same version is already published
kjohnson1macOS 13.6.1 Ventura / arm64see weekly results here
Package 166/484HostnameOS / ArchINSTALLBUILDCHECKBUILD BIN
FLAMES 1.8.0  (landing page)
Oliver Voogd
git_last_commit: 8b72098
git_last_commit_date: 2023-10-24 11:34:56 -0400
nebbiolo2Linux (Ubuntu 22.04.3 LTS) / x86_64  OK    OK    OK  UNNEEDED, same version is already published
palomino4Windows Server 2022 Datacenter / x64... NOT SUPPORTED ...
merida1macOS 12.7.1 Monterey / x86_64  OK    OK    OK    OK  UNNEEDED, same version is already published
kjohnson1macOS 13.6.1 Ventura / arm64see weekly results here
Package 167/484HostnameOS / ArchINSTALLBUILDCHECKBUILD BIN
flowBin 1.38.0  (landing page)
Kieran O'Neill
git_last_commit: 2b7343d
git_last_commit_date: 2023-10-24 09:57:04 -0400
nebbiolo2Linux (Ubuntu 22.04.3 LTS) / x86_64  OK    OK    OK  UNNEEDED, same version is already published
palomino4Windows Server 2022 Datacenter / x64  OK    OK    OK    OK  UNNEEDED, same version is already published
merida1macOS 12.7.1 Monterey / x86_64  OK    OK    OK    OK  UNNEEDED, same version is already published
kjohnson1macOS 13.6.1 Ventura / arm64see weekly results here
Package 168/484HostnameOS / ArchINSTALLBUILDCHECKBUILD BIN
flowClust 3.40.0  (landing page)
Greg Finak , Mike Jiang
git_last_commit: 4acf935
git_last_commit_date: 2023-10-24 09:39:35 -0400
nebbiolo2Linux (Ubuntu 22.04.3 LTS) / x86_64  OK    OK    WARNINGS  UNNEEDED, same version is already published
palomino4Windows Server 2022 Datacenter / x64  OK    OK    WARNINGS    OK  UNNEEDED, same version is already published
merida1macOS 12.7.1 Monterey / x86_64  OK    OK    WARNINGS    OK  UNNEEDED, same version is already published
kjohnson1macOS 13.6.1 Ventura / arm64see weekly results here
Package 169/484HostnameOS / ArchINSTALLBUILDCHECKBUILD BIN
flowCore 2.14.2  (landing page)
Mike Jiang
git_last_commit: 45da1bc
git_last_commit_date: 2024-03-16 19:28:23 -0400
nebbiolo2Linux (Ubuntu 22.04.3 LTS) / x86_64  OK    OK    WARNINGS  UNNEEDED, same version is already published
palomino4Windows Server 2022 Datacenter / x64  OK    OK    WARNINGS    OK  UNNEEDED, same version is already published
merida1macOS 12.7.1 Monterey / x86_64  OK    OK    WARNINGS    OK  UNNEEDED, same version is already published
kjohnson1macOS 13.6.1 Ventura / arm64see weekly results here
Package 170/484HostnameOS / ArchINSTALLBUILDCHECKBUILD BIN
flowFP 1.60.0  (landing page)
Herb Holyst , Wade Rogers
git_last_commit: 5e8bb56
git_last_commit_date: 2023-10-24 09:42:09 -0400
nebbiolo2Linux (Ubuntu 22.04.3 LTS) / x86_64  OK    OK    OK  UNNEEDED, same version is already published
palomino4Windows Server 2022 Datacenter / x64  OK    OK    OK    OK  UNNEEDED, same version is already published
merida1macOS 12.7.1 Monterey / x86_64  OK    OK    OK    OK  UNNEEDED, same version is already published
kjohnson1macOS 13.6.1 Ventura / arm64see weekly results here
Package 171/484HostnameOS / ArchINSTALLBUILDCHECKBUILD BIN
FlowSOM 2.10.0  (landing page)
Sofie Van Gassen
git_last_commit: 36b3305
git_last_commit_date: 2023-10-24 10:40:45 -0400
nebbiolo2Linux (Ubuntu 22.04.3 LTS) / x86_64  OK    OK    OK  UNNEEDED, same version is already published
palomino4Windows Server 2022 Datacenter / x64  OK    OK    OK    OK  UNNEEDED, same version is already published
merida1macOS 12.7.1 Monterey / x86_64  OK    OK    OK    OK  UNNEEDED, same version is already published
kjohnson1macOS 13.6.1 Ventura / arm64see weekly results here
Package 172/484HostnameOS / ArchINSTALLBUILDCHECKBUILD BIN
flowSpecs 1.16.0  (landing page)
Jakob Theorell
git_last_commit: 3ebbbb3
git_last_commit_date: 2023-10-24 11:16:32 -0400
nebbiolo2Linux (Ubuntu 22.04.3 LTS) / x86_64  OK    OK    OK  UNNEEDED, same version is already published
palomino4Windows Server 2022 Datacenter / x64  OK    OK    OK    OK  UNNEEDED, same version is already published
merida1macOS 12.7.1 Monterey / x86_64  OK    OK    OK    OK  UNNEEDED, same version is already published
kjohnson1macOS 13.6.1 Ventura / arm64see weekly results here
Package 173/484HostnameOS / ArchINSTALLBUILDCHECKBUILD BIN
flowStats 4.14.1  (landing page)
Greg Finak , Mike Jiang
git_last_commit: 3dc62da
git_last_commit_date: 2024-01-17 20:15:02 -0400
nebbiolo2Linux (Ubuntu 22.04.3 LTS) / x86_64  OK    OK    WARNINGS  UNNEEDED, same version is already published
palomino4Windows Server 2022 Datacenter / x64  OK    OK    WARNINGS    OK  UNNEEDED, same version is already published
merida1macOS 12.7.1 Monterey / x86_64  OK    OK    WARNINGS    OK  UNNEEDED, same version is already published
kjohnson1macOS 13.6.1 Ventura / arm64see weekly results here
Package 174/484HostnameOS / ArchINSTALLBUILDCHECKBUILD BIN
flowWorkspace 4.14.3  (landing page)
Greg Finak , Mike Jiang
git_last_commit: 7447e9e
git_last_commit_date: 2024-03-16 19:34:59 -0400
nebbiolo2Linux (Ubuntu 22.04.3 LTS) / x86_64  OK    OK    WARNINGS  UNNEEDED, same version is already published
palomino4Windows Server 2022 Datacenter / x64  OK    OK    WARNINGS    OK  UNNEEDED, same version is already published
merida1macOS 12.7.1 Monterey / x86_64  OK    OK    WARNINGS    OK  UNNEEDED, same version is already published
kjohnson1macOS 13.6.1 Ventura / arm64see weekly results here
Package 175/484HostnameOS / ArchINSTALLBUILDCHECKBUILD BIN
fmcsR 1.44.0  (landing page)
Thomas Girke
git_last_commit: 08956ef
git_last_commit_date: 2023-10-24 09:51:03 -0400
nebbiolo2Linux (Ubuntu 22.04.3 LTS) / x86_64  OK    OK    WARNINGS  UNNEEDED, same version is already published
palomino4Windows Server 2022 Datacenter / x64  OK    OK    WARNINGS    OK  UNNEEDED, same version is already published
merida1macOS 12.7.1 Monterey / x86_64  OK    OK    OK    OK  UNNEEDED, same version is already published
kjohnson1macOS 13.6.1 Ventura / arm64see weekly results here
Package 176/484HostnameOS / ArchINSTALLBUILDCHECKBUILD BIN
FRASER 1.14.1  (landing page)
Christian Mertes
git_last_commit: 0a7204b
git_last_commit_date: 2024-02-11 14:03:18 -0400
nebbiolo2Linux (Ubuntu 22.04.3 LTS) / x86_64  OK    OK    OK  UNNEEDED, same version is already published
palomino4Windows Server 2022 Datacenter / x64  OK    OK    OK    OK  UNNEEDED, same version is already published
merida1macOS 12.7.1 Monterey / x86_64  OK    OK    OK    OK  UNNEEDED, same version is already published
kjohnson1macOS 13.6.1 Ventura / arm64see weekly results here
Package 177/484HostnameOS / ArchINSTALLBUILDCHECKBUILD BIN
frma 1.54.0  (landing page)
Matthew N. McCall
git_last_commit: 6bdb804
git_last_commit_date: 2023-10-24 09:43:06 -0400
nebbiolo2Linux (Ubuntu 22.04.3 LTS) / x86_64  OK    OK    OK  UNNEEDED, same version is already published
palomino4Windows Server 2022 Datacenter / x64  OK    OK    OK    OK  UNNEEDED, same version is already published
merida1macOS 12.7.1 Monterey / x86_64  OK    OK    OK    OK  UNNEEDED, same version is already published
kjohnson1macOS 13.6.1 Ventura / arm64see weekly results here
Package 178/484HostnameOS / ArchINSTALLBUILDCHECKBUILD BIN
GA4GHclient 1.26.0  (landing page)
Welliton Souza
git_last_commit: 6356ce0
git_last_commit_date: 2023-10-24 10:56:18 -0400
nebbiolo2Linux (Ubuntu 22.04.3 LTS) / x86_64  OK    OK    OK  UNNEEDED, same version is already published
palomino4Windows Server 2022 Datacenter / x64  OK    OK    OK    OK  UNNEEDED, same version is already published
merida1macOS 12.7.1 Monterey / x86_64  OK    OK    OK    OK  UNNEEDED, same version is already published
kjohnson1macOS 13.6.1 Ventura / arm64see weekly results here
Package 179/484HostnameOS / ArchINSTALLBUILDCHECKBUILD BIN
GA4GHshiny 1.24.0  (landing page)
Welliton Souza
git_last_commit: 705e6f3
git_last_commit_date: 2023-10-24 10:57:29 -0400
nebbiolo2Linux (Ubuntu 22.04.3 LTS) / x86_64  OK    OK    OK  UNNEEDED, same version is already published
palomino4Windows Server 2022 Datacenter / x64  OK    OK    OK    OK  UNNEEDED, same version is already published
merida1macOS 12.7.1 Monterey / x86_64  OK    OK    OK    OK  UNNEEDED, same version is already published
kjohnson1macOS 13.6.1 Ventura / arm64see weekly results here
Package 180/484HostnameOS / ArchINSTALLBUILDCHECKBUILD BIN
gcapc 1.26.0  (landing page)
Mingxiang Teng
git_last_commit: ceff70c
git_last_commit_date: 2023-10-24 10:54:29 -0400
nebbiolo2Linux (Ubuntu 22.04.3 LTS) / x86_64  OK    OK    OK  UNNEEDED, same version is already published
palomino4Windows Server 2022 Datacenter / x64  OK    OK    OK    OK  UNNEEDED, same version is already published
merida1macOS 12.7.1 Monterey / x86_64  OK    OK    OK    OK  UNNEEDED, same version is already published
kjohnson1macOS 13.6.1 Ventura / arm64see weekly results here
Package 181/484HostnameOS / ArchINSTALLBUILDCHECKBUILD BIN
gDNAx 1.0.2  (landing page)
Beatriz Calvo-Serra
git_last_commit: 0fb2969
git_last_commit_date: 2024-03-15 15:38:59 -0400
nebbiolo2Linux (Ubuntu 22.04.3 LTS) / x86_64  OK    OK    OK  UNNEEDED, same version is already published
palomino4Windows Server 2022 Datacenter / x64  OK    OK    OK    OK  UNNEEDED, same version is already published
merida1macOS 12.7.1 Monterey / x86_64  OK    OK    OK    OK  UNNEEDED, same version is already published
kjohnson1macOS 13.6.1 Ventura / arm64see weekly results here
Package 182/484HostnameOS / ArchINSTALLBUILDCHECKBUILD BIN
GDSArray 1.22.0  (landing page)
Qian Liu
git_last_commit: 5357cff
git_last_commit_date: 2023-10-24 11:04:10 -0400
nebbiolo2Linux (Ubuntu 22.04.3 LTS) / x86_64  OK    OK    OK  UNNEEDED, same version is already published
palomino4Windows Server 2022 Datacenter / x64  OK    OK    OK    OK  UNNEEDED, same version is already published
merida1macOS 12.7.1 Monterey / x86_64  OK    OK    OK    OK  UNNEEDED, same version is already published
kjohnson1macOS 13.6.1 Ventura / arm64see weekly results here
Package 183/484HostnameOS / ArchINSTALLBUILDCHECKBUILD BIN
genbankr 1.30.0  (landing page)
Gabriel Becker
git_last_commit: 900ea05
git_last_commit_date: 2023-10-24 10:49:41 -0400
nebbiolo2Linux (Ubuntu 22.04.3 LTS) / x86_64  OK    ERROR  skipped
palomino4Windows Server 2022 Datacenter / x64  OK    ERROR  skippedskipped
merida1macOS 12.7.1 Monterey / x86_64  OK    ERROR  skippedskipped
kjohnson1macOS 13.6.1 Ventura / arm64see weekly results here
Package 184/484HostnameOS / ArchINSTALLBUILDCHECKBUILD BIN
geneAttribution 1.28.0  (landing page)
Arthur Wuster
git_last_commit: 2d84296
git_last_commit_date: 2023-10-24 10:52:24 -0400
nebbiolo2Linux (Ubuntu 22.04.3 LTS) / x86_64  OK    OK    OK  UNNEEDED, same version is already published
palomino4Windows Server 2022 Datacenter / x64  OK    OK    OK    OK  UNNEEDED, same version is already published
merida1macOS 12.7.1 Monterey / x86_64  OK    OK    OK    OK  UNNEEDED, same version is already published
kjohnson1macOS 13.6.1 Ventura / arm64see weekly results here
Package 185/484HostnameOS / ArchINSTALLBUILDCHECKBUILD BIN
geneClassifiers 1.26.0  (landing page)
R Kuiper
git_last_commit: b3a557d
git_last_commit_date: 2023-10-24 10:55:26 -0400
nebbiolo2Linux (Ubuntu 22.04.3 LTS) / x86_64  OK    OK    OK  UNNEEDED, same version is already published
palomino4Windows Server 2022 Datacenter / x64  OK    OK    OK    OK  UNNEEDED, same version is already published
merida1macOS 12.7.1 Monterey / x86_64  OK    OK    OK    OK  UNNEEDED, same version is already published
kjohnson1macOS 13.6.1 Ventura / arm64see weekly results here
Package 186/484HostnameOS / ArchINSTALLBUILDCHECKBUILD BIN
geneplotter 1.80.0  (landing page)
Bioconductor Package Maintainer
git_last_commit: e304c8a
git_last_commit_date: 2023-10-24 09:31:30 -0400
nebbiolo2Linux (Ubuntu 22.04.3 LTS) / x86_64  OK    OK    OK  UNNEEDED, same version is already published
palomino4Windows Server 2022 Datacenter / x64  OK    OK    OK    OK  UNNEEDED, same version is already published
merida1macOS 12.7.1 Monterey / x86_64  OK    OK    OK    OK  UNNEEDED, same version is already published
kjohnson1macOS 13.6.1 Ventura / arm64see weekly results here
Package 187/484HostnameOS / ArchINSTALLBUILDCHECKBUILD BIN
GENESIS 2.32.0  (landing page)
Stephanie M. Gogarten
git_last_commit: 81fe6b1
git_last_commit_date: 2023-10-24 10:42:12 -0400
nebbiolo2Linux (Ubuntu 22.04.3 LTS) / x86_64  OK    OK    OK  UNNEEDED, same version is already published
palomino4Windows Server 2022 Datacenter / x64  OK    OK    OK    OK  UNNEEDED, same version is already published
merida1macOS 12.7.1 Monterey / x86_64  OK    OK    OK    OK  UNNEEDED, same version is already published
kjohnson1macOS 13.6.1 Ventura / arm64see weekly results here
Package 188/484HostnameOS / ArchINSTALLBUILDCHECKBUILD BIN
GenomAutomorphism 1.4.0  (landing page)
Robersy Sanchez
git_last_commit: 2c0069e
git_last_commit_date: 2023-10-24 11:43:17 -0400
nebbiolo2Linux (Ubuntu 22.04.3 LTS) / x86_64  OK    OK    OK  UNNEEDED, same version is already published
palomino4Windows Server 2022 Datacenter / x64  OK    OK    OK    OK  UNNEEDED, same version is already published
merida1macOS 12.7.1 Monterey / x86_64  OK    OK    OK    OK  UNNEEDED, same version is already published
kjohnson1macOS 13.6.1 Ventura / arm64see weekly results here
Package 189/484HostnameOS / ArchINSTALLBUILDCHECKBUILD BIN
GenomeInfoDb 1.38.8  (landing page)
Hervé Pagès
git_last_commit: 21c97fc
git_last_commit_date: 2024-03-14 12:09:11 -0400
nebbiolo2Linux (Ubuntu 22.04.3 LTS) / x86_64  OK    OK    OK  UNNEEDED, same version is already published
palomino4Windows Server 2022 Datacenter / x64  OK    OK    OK    OK  UNNEEDED, same version is already published
merida1macOS 12.7.1 Monterey / x86_64  OK    OK    OK    OK  UNNEEDED, same version is already published
kjohnson1macOS 13.6.1 Ventura / arm64see weekly results here
Package 190/484HostnameOS / ArchINSTALLBUILDCHECKBUILD BIN
genomeIntervals 1.58.0  (landing page)
Julien Gagneur
git_last_commit: 3b05a4b
git_last_commit_date: 2023-10-24 09:41:34 -0400
nebbiolo2Linux (Ubuntu 22.04.3 LTS) / x86_64  OK    OK    WARNINGS  UNNEEDED, same version is already published
palomino4Windows Server 2022 Datacenter / x64  OK    OK    WARNINGS    OK  UNNEEDED, same version is already published
merida1macOS 12.7.1 Monterey / x86_64  OK    OK    WARNI