Back to Multiple platform build/check report for BioC 3.13
A[B]CDEFGHIJKLMNOPQRSTUVWXYZ

This page was generated on 2021-07-23 15:05:57 -0400 (Fri, 23 Jul 2021).

INSTALL results for BiocCheck on tokay2

To the developers/maintainers of the BiocCheck package:
- Please allow up to 24 hours (and sometimes 48 hours) for your latest push to git@git.bioconductor.org:packages/BiocCheck.git to
reflect on this report. See How and When does the builder pull? When will my changes propagate? here for more information.
- Make sure to use the following settings in order to reproduce any error or warning you see on this page.

raw results

Package 159/2041HostnameOS / ArchINSTALLBUILDCHECKBUILD BIN
BiocCheck 1.28.0  (landing page)
Bioconductor Package Maintainer
Snapshot Date: 2021-07-22 04:50:13 -0400 (Thu, 22 Jul 2021)
URL: https://git.bioconductor.org/packages/BiocCheck
Branch: RELEASE_3_13
Last Commit: 5fcd8f9
Last Changed Date: 2021-05-19 12:04:16 -0400 (Wed, 19 May 2021)
nebbiolo1Linux (Ubuntu 20.04.2 LTS) / x86_64  OK    OK    OK  UNNEEDED, same version is already published
tokay2Windows Server 2012 R2 Standard / x64  OK    OK    OK    OK  UNNEEDED, same version is already published
machv2macOS 10.14.6 Mojave / x86_64  OK    OK    OK    OK  UNNEEDED, same version is already published

Summary

Package: BiocCheck
Version: 1.28.0
Command: C:\cygwin\bin\curl.exe -O http://155.52.207.165/BBS/3.13/bioc/src/contrib/BiocCheck_1.28.0.tar.gz && rm -rf BiocCheck.buildbin-libdir && mkdir BiocCheck.buildbin-libdir && C:\Users\biocbuild\bbs-3.13-bioc\R\bin\R.exe CMD INSTALL --merge-multiarch --build --library=BiocCheck.buildbin-libdir BiocCheck_1.28.0.tar.gz && C:\Users\biocbuild\bbs-3.13-bioc\R\bin\R.exe CMD INSTALL BiocCheck_1.28.0.zip && rm BiocCheck_1.28.0.tar.gz BiocCheck_1.28.0.zip
StartedAt: 2021-07-22 08:42:00 -0400 (Thu, 22 Jul 2021)
EndedAt: 2021-07-22 08:42:45 -0400 (Thu, 22 Jul 2021)
EllapsedTime: 45.8 seconds
RetCode: 0
Status:   OK  

Command output

##############################################################################
##############################################################################
###
### Running command:
###
###   C:\cygwin\bin\curl.exe -O http://155.52.207.165/BBS/3.13/bioc/src/contrib/BiocCheck_1.28.0.tar.gz && rm -rf BiocCheck.buildbin-libdir && mkdir BiocCheck.buildbin-libdir && C:\Users\biocbuild\bbs-3.13-bioc\R\bin\R.exe CMD INSTALL --merge-multiarch --build --library=BiocCheck.buildbin-libdir BiocCheck_1.28.0.tar.gz && C:\Users\biocbuild\bbs-3.13-bioc\R\bin\R.exe CMD INSTALL BiocCheck_1.28.0.zip && rm BiocCheck_1.28.0.tar.gz BiocCheck_1.28.0.zip
###
##############################################################################
##############################################################################


  % Total    % Received % Xferd  Average Speed   Time    Time     Time  Current
                                 Dload  Upload   Total   Spent    Left  Speed

  0     0    0     0    0     0      0      0 --:--:-- --:--:-- --:--:--     0
  2 4020k    2  101k    0     0   834k      0  0:00:04 --:--:--  0:00:04  831k
100 4020k  100 4020k    0     0  3994k      0  0:00:01  0:00:01 --:--:-- 3996k

install for i386

* installing *source* package 'BiocCheck' ...
** using staged installation
** R
** inst
** byte-compile and prepare package for lazy loading
** help
*** installing help indices
  converting help for package 'BiocCheck'
    finding HTML links ... done
    BiocCheck                               html  
    BiocCheckGitClone                       html  
** building package indices
** installing vignettes
** testing if installed package can be loaded from temporary location
** testing if installed package can be loaded from final location
** testing if installed package keeps a record of temporary installation path

install for x64

* installing *source* package 'BiocCheck' ...
** testing if installed package can be loaded
* MD5 sums
packaged installation of 'BiocCheck' as BiocCheck_1.28.0.zip
* DONE (BiocCheck)
* installing to library 'C:/Users/biocbuild/bbs-3.13-bioc/R/library'
package 'BiocCheck' successfully unpacked and MD5 sums checked